Workbook
Name _ftn1: 'Summary per month'!$A$62
Name _ftnref1: 'Summary per month'!$B$9
Name skjema_timeregistrering__2015__versjon_2.1.xlsx: '1'!$A$5
Name skjema_timeregistrering__2015__versjon_2.1.xlsx: '10'!$A$5
Name skjema_timeregistrering__2015__versjon_2.1.xlsx: '11'!$A$5
Name skjema_timeregistrering__2015__versjon_2.1.xlsx: '12'!$A$5
Name skjema_timeregistrering__2015__versjon_2.1.xlsx: '3'!$A$5
Name skjema_timeregistrering__2015__versjon_2.1.xlsx: '4'!$A$5
Name skjema_timeregistrering__2015__versjon_2.1.xlsx: '5'!$A$5
Name skjema_timeregistrering__2015__versjon_2.1.xlsx: '6'!$A$5
Name skjema_timeregistrering__2015__versjon_2.1.xlsx: '7'!$A$5
Name skjema_timeregistrering__2015__versjon_2.1.xlsx: '8'!$A$5
Name skjema_timeregistrering__2015__versjon_2.1.xlsx: '9'!$A$5
Name skjema_timeregistrering__2015__versjon_2.1.xlsx: '2'!$A$5

Sheet 1
B2: Time recording for Horizon 2020 | AI2: =Grunndata!A18 -> Holidays 2026
AI3: =Grunndata!A19 -> 45292
H4: =Grunndata!B2 -> 2026 | L4: =TEXT(B11,"mmmm") -> januar | AI4: =Grunndata!A20 -> 46114
AI5: =Grunndata!A21 -> 46115
A6: Title of the project (acronym) | D6: Write title here | K6: Grant Agreement No: | T6: Write grant agreement number here | AI6: =Grunndata!A22 -> 46118
A7: Beneficiary's | D7: Universitetet i Oslo | AI7: =Grunndata!A23 -> 45778
A8: Name of the person working on the project: | D8: Write name here | AF8: workingdays this month | AG8: =NETWORKDAYS(B11,AF11,AI3:AI14) -> 22 | AI8: =Grunndata!A24 -> 45791
AI9: =Grunndata!A25 -> 45802
AI10: =Grunndata!A26 -> 46016
A11: Date | B11: =DATE(H4,1,1) -> 46023 | C11: =B11+1 -> 46024 | D11: =C11+1 -> 46025 | E11: =D11+1 -> 46026 | F11: =E11+1 -> 46027 | G11: =F11+1 -> 46028 | H11: =G11+1 -> 46029 | I11: =H11+1 -> 46030 | J11: =I11+1 -> 46031 | ... AF11: =AE11+1 -> 46053 | AG11: Total | AI11: =Grunndata!A27 -> 46017
A12: Day | B12: =TEXT(B11,"ddd") -> tor | C12: =TEXT(C11,"ddd") -> fre | D12: =TEXT(D11,"ddd") -> lør | E12: =TEXT(E11,"ddd") -> søn | F12: =TEXT(F11,"ddd") -> man | G12: =TEXT(G11,"ddd") -> tir | H12: =TEXT(H11,"ddd") -> ons | I12: =TEXT(I11,"ddd") -> tor | ... AF12: =TEXT(AF11,"ddd") -> lør
A13: EU-Project
A14: arbeidspakke 1 | AG14: =SUM(B14:AF14) -> 0
A15: arbeidspakke 2 | AG15: =SUM(B15:AF15) -> 0
A16: arbeidspakke 3 | AG16: =SUM(B16:AF16) -> 0
A17: arbeidspakke 4 | AG17: =SUM(B17:AF17) -> 0
A18: arbeidspakke 5 | AG18: =SUM(B18:AF18) -> 0
A19: arbeidspakke 6 | AG19: =SUM(B19:AF19) -> 0
A20: arbeidspakke 7 | AG20: =SUM(B20:AF20) -> 0
A21: arbeidspakke 8 | AG21: =SUM(B21:AF21) -> 0
A22: Total | B22: =SUM(B14:B21) -> 0 | C22: =SUM(C14:C21) -> 0 | D22: =SUM(D14:D21) -> 0 | E22: =SUM(E14:E21) -> 0 | F22: =SUM(F14:F21) -> 0 | G22: =SUM(G14:G21) -> 0 | H22: =SUM(H14:H21) -> 0 | I22: =SUM(I14:I21) -> 0 | ... AF22: =SUM(AF14:AF21) -> 0 | AG22: =SUM(B22:AF22) -> 0
A23: Absences
A24: Annual Leave | AG24: =SUM(B24:AF24) -> 0
A25: Special Leave | AG25: =SUM(B25:AF25) -> 0
A26: Illness | AG26: =SUM(B26:AF26) -> 0
A27: Total Absences | B27: =SUM(B24:B26) -> 0 | C27: =SUM(C24:C26) -> 0 | D27: =SUM(D24:D26) -> 0 | E27: =SUM(E24:E26) -> 0 | F27: =SUM(F24:F26) -> 0 | G27: =SUM(G24:G26) -> 0 | H27: =SUM(H24:H26) -> 0 | I27: =SUM(I24:I26) -> 0 | ... AF27: =SUM(AF24:AF26) -> 0 | AG27: =SUM(B27:AF27) -> 0
A28: Total registrated hours | B28: =B22+B27 -> 0 | C28: =C22+C27 -> 0 | D28: =D22+D27 -> 0 | E28: =E22+E27 -> 0 | F28: =F22+F27 -> 0 | G28: =G22+G27 -> 0 | H28: =H22+H27 -> 0 | I28: =I22+I27 -> 0 | ... AF28: =AF22+AF27 -> 0 | AG28: =AG27 -> 0
A30: Short description of the activities carried out in the month: | AG30: =AG9-AG28 -> 0
A32: Signed (name in capital letters): | G32: Approved (name in capital letters): | AG32: This month | AH32: Year to date
AE33: Present | AG33: =AG22 -> 0 | AH33: =AG22 -> 0
AE34: Absences | AG34: =AG27 -> 0 | AH34: =AG27 -> 0
AE35: Total | AG35: =AG33+AG34 -> 0 | AH35: =AH33+AH34 -> 0
A36: Date and Signature | G36: Date and Signature

Sheet 2
B2: Time recording for Horizon 2020 | AI2: =Grunndata!A18 -> Holidays 2026
AI3: =Grunndata!A19 -> 45292
H4: =Grunndata!B2 -> 2026 | L4: =TEXT(B11,"mmmm") -> februar | AI4: =Grunndata!A20 -> 46114
AI5: =Grunndata!A21 -> 46115
A6: Title of the project (acronym) | D6: ='1'!D6:J6 -> Write title here | K6: Grant Agreement No: | T6: ='1'!T6:AA6 -> Write grant agreement number here | AI6: =Grunndata!A22 -> 46118
A7: Beneficiary's | D7: ='1'!D7:AA7 -> Universitetet i Oslo | AI7: =Grunndata!A23 -> 45778
A8: Name of the person working on the project: | D8: ='1'!D8:AA8 -> Write name here | AF8: workingdays this month | AG8: =NETWORKDAYS(B11,AD11,AI3:AI14) -> 20 | AI8: =Grunndata!A24 -> 45791
AI9: =Grunndata!A25 -> 45802
AI10: =Grunndata!A26 -> 46016
A11: Date | B11: =DATE(H4,2,1) -> 46054 | C11: =B11+1 -> 46055 | D11: =C11+1 -> 46056 | E11: =D11+1 -> 46057 | F11: =E11+1 -> 46058 | G11: =F11+1 -> 46059 | H11: =G11+1 -> 46060 | I11: =H11+1 -> 46061 | J11: =I11+1 -> 46062 | ... AD11: =AC11+1 -> 46082 | AG11: Total | AI11: =Grunndata!A27 -> 46017
A12: Day | B12: =TEXT(B11,"ddd") -> søn | C12: =TEXT(C11,"ddd") -> man | D12: =TEXT(D11,"ddd") -> tir | E12: =TEXT(E11,"ddd") -> ons | F12: =TEXT(F11,"ddd") -> tor | G12: =TEXT(G11,"ddd") -> fre | H12: =TEXT(H11,"ddd") -> lør | I12: =TEXT(I11,"ddd") -> søn | ... AD12: =TEXT(AD11,"ddd") -> søn
A13: EU-Project
A14: arbeidspakke 1 | AG14: =SUM(B14:AF14) -> 0
A15: arbeidspakke 2 | AG15: =SUM(B15:AF15) -> 0
A16: arbeidspakke 3 | AG16: =SUM(B16:AF16) -> 0
A17: arbeidspakke 4 | AG17: =SUM(B17:AF17) -> 0
A18: arbeidspakke 5 | AG18: =SUM(B18:AF18) -> 0
A19: arbeidspakke 6 | AG19: =SUM(B19:AF19) -> 0
A20: arbeidspakke 7 | AG20: =SUM(B20:AF20) -> 0
A21: arbeidspakke 8 | AG21: =SUM(B21:AF21) -> 0
A22: Total | B22: =SUM(B14:B21) -> 0 | C22: =SUM(C14:C21) -> 0 | D22: =SUM(D14:D21) -> 0 | E22: =SUM(E14:E21) -> 0 | F22: =SUM(F14:F21) -> 0 | G22: =SUM(G14:G21) -> 0 | H22: =SUM(H14:H21) -> 0 | I22: =SUM(I14:I21) -> 0 | ... AF22: =SUM(AF14:AF21) -> 0 | AG22: =SUM(B22:AF22) -> 0
A23: Absences
A24: Annual Leave | AG24: =SUM(B24:AF24) -> 0
A25: Special Leave | AG25: =SUM(B25:AF25) -> 0
A26: Illness | AG26: =SUM(B26:AF26) -> 0
A27: Total Absences | B27: =SUM(B24:B26) -> 0 | C27: =SUM(C24:C26) -> 0 | D27: =SUM(D24:D26) -> 0 | E27: =SUM(E24:E26) -> 0 | F27: =SUM(F24:F26) -> 0 | G27: =SUM(G24:G26) -> 0 | H27: =SUM(H24:H26) -> 0 | I27: =SUM(I24:I26) -> 0 | ... AF27: =SUM(AF24:AF26) -> 0 | AG27: =SUM(B27:AF27) -> 0
A28: Total registrated hours | B28: =B22+B27 -> 0 | C28: =C22+C27 -> 0 | D28: =D22+D27 -> 0 | E28: =E22+E27 -> 0 | F28: =F22+F27 -> 0 | G28: =G22+G27 -> 0 | H28: =H22+H27 -> 0 | I28: =I22+I27 -> 0 | ... AF28: =AF22+AF27 -> 0 | AG28: =AG27 -> 0
A30: Short description of the activities carried out in the month: | AG30: =AG9-AG28 -> 0
A32: Signed (name in capital letters): | G32: Approved (name in capital letters): | AG32: This month | AH32: Year to date
A33: =IF('1'!A33="","",'1'!A33) | G33: =IF('1'!G33:M33="","",'1'!G33:M33) | AE33: Present | AG33: =AG22 -> 0 | AH33: ='1'!AG33+'2'!AG33 -> 0
AE34: Absences | AG34: =AG27 -> 0 | AH34: ='1'!AG34+'2'!AG34 -> 0
AE35: Total | AG35: =AG33+AG34 -> 0 | AH35: =AH33+AH34 -> 0
A36: Date and Signature | G36: Date and Signature

Sheet 3
B2: Time recording for Horizon 2020 | AI2: =Grunndata!A18 -> Holidays 2026
AI3: =Grunndata!A19 -> 45292
H4: =Grunndata!B2 -> 2026 | L4: =TEXT(B11,"mmmm") -> mars | AI4: =Grunndata!A20 -> 46114
AI5: =Grunndata!A21 -> 46115
A6: Title of the project (acronym) | D6: ='1'!D6:J6 -> Write title here | K6: Grant Agreement No: | T6: ='1'!T6:AA6 -> Write grant agreement number here | AI6: =Grunndata!A22 -> 46118
A7: Beneficiary's | D7: ='1'!D7:AA7 -> Universitetet i Oslo | AI7: =Grunndata!A23 -> 45778
A8: Name of the person working on the project: | D8: ='1'!D8:AA8 -> Write name here | AF8: workingdays this month | AG8: =NETWORKDAYS(B11,AF11,AI3:AI14) -> 22 | AI8: =Grunndata!A24 -> 45791
AI9: =Grunndata!A25 -> 45802
AI10: =Grunndata!A26 -> 46016
A11: Date | B11: =DATE(H4,3,1) -> 46082 | C11: =B11+1 -> 46083 | D11: =C11+1 -> 46084 | E11: =D11+1 -> 46085 | F11: =E11+1 -> 46086 | G11: =F11+1 -> 46087 | H11: =G11+1 -> 46088 | I11: =H11+1 -> 46089 | J11: =I11+1 -> 46090 | ... AF11: =AE11+1 -> 46112 | AG11: Total | AI11: =Grunndata!A27 -> 46017
A12: Day | B12: =TEXT(B11,"ddd") -> søn | C12: =TEXT(C11,"ddd") -> man | D12: =TEXT(D11,"ddd") -> tir | E12: =TEXT(E11,"ddd") -> ons | F12: =TEXT(F11,"ddd") -> tor | G12: =TEXT(G11,"ddd") -> fre | H12: =TEXT(H11,"ddd") -> lør | I12: =TEXT(I11,"ddd") -> søn | ... AF12: =TEXT(AF11,"ddd") -> tir
A13: EU-Project
A14: arbeidspakke 1 | AG14: =SUM(B14:AF14) -> 0
A15: arbeidspakke 2 | AG15: =SUM(B15:AF15) -> 0
A16: arbeidspakke 3 | AG16: =SUM(B16:AF16) -> 0
A17: arbeidspakke 4 | AG17: =SUM(B17:AF17) -> 0
A18: arbeidspakke 5 | AG18: =SUM(B18:AF18) -> 0
A19: arbeidspakke 6 | AG19: =SUM(B19:AF19) -> 0
A20: arbeidspakke 7 | AG20: =SUM(B20:AF20) -> 0
A21: arbeidspakke 8 | AG21: =SUM(B21:AF21) -> 0
A22: Total | B22: =SUM(B14:B21) -> 0 | C22: =SUM(C14:C21) -> 0 | D22: =SUM(D14:D21) -> 0 | E22: =SUM(E14:E21) -> 0 | F22: =SUM(F14:F21) -> 0 | G22: =SUM(G14:G21) -> 0 | H22: =SUM(H14:H21) -> 0 | I22: =SUM(I14:I21) -> 0 | ... AF22: =SUM(AF14:AF21) -> 0 | AG22: =SUM(B22:AF22) -> 0
A23: Absences
A24: Annual Leave | AG24: =SUM(B24:AF24) -> 0
A25: Special Leave | AG25: =SUM(B25:AF25) -> 0
A26: Illness | AG26: =SUM(B26:AF26) -> 0
A27: Total Absences | B27: =SUM(B24:B26) -> 0 | C27: =SUM(C24:C26) -> 0 | D27: =SUM(D24:D26) -> 0 | E27: =SUM(E24:E26) -> 0 | F27: =SUM(F24:F26) -> 0 | G27: =SUM(G24:G26) -> 0 | H27: =SUM(H24:H26) -> 0 | I27: =SUM(I24:I26) -> 0 | ... AF27: =SUM(AF24:AF26) -> 0 | AG27: =SUM(B27:AF27) -> 0
A28: Total registrated hours | B28: =B22+B27 -> 0 | C28: =C22+C27 -> 0 | D28: =D22+D27 -> 0 | E28: =E22+E27 -> 0 | F28: =F22+F27 -> 0 | G28: =G22+G27 -> 0 | H28: =H22+H27 -> 0 | I28: =I22+I27 -> 0 | ... AF28: =AF22+AF27 -> 0 | AG28: =AG27 -> 0
A30: Short description of the activities carried out in the month: | AG30: =AG9-AG28 -> 0
A32: Signed (name in capital letters): | G32: Approved (name in capital letters): | AG32: This month | AH32: Year to date
A33: =IF('1'!A33="","",'1'!A33) | G33: =IF('1'!G33:M33="","",'1'!G33:M33) | AE33: Present | AG33: =AG22 -> 0 | AH33: ='2'!AH33+'3'!AG33 -> 0
AE34: Absences | AG34: =AG27 -> 0 | AH34: ='2'!AH34+'3'!AG34 -> 0
AE35: Total | AG35: =AG33+AG34 -> 0 | AH35: =AH33+AH34 -> 0
A36: Date and Signature | G36: Date and Signature

Sheet 4
B2: Time recording for Horizon 2020 | AI2: =Grunndata!A18 -> Holidays 2026
AI3: =Grunndata!A19 -> 45292
H4: =Grunndata!B2 -> 2026 | L4: =TEXT(B11,"mmmm") -> april | AI4: =Grunndata!A20 -> 46114
AI5: =Grunndata!A21 -> 46115
A6: Title of the project (acronym) | D6: ='1'!D6:J6 -> Write title here | K6: Grant Agreement No: | T6: ='1'!T6:AA6 -> Write grant agreement number here | AI6: =Grunndata!A22 -> 46118
A7: Beneficiary's | D7: ='1'!D7:AA7 -> Universitetet i Oslo | AI7: =Grunndata!A23 -> 45778
A8: Name of the person working on the project: | D8: ='1'!D8:AA8 -> Write name here | AF8: workingdays this month | AG8: =NETWORKDAYS(B11,AE11,AI3:AI14) -> 19 | AI8: =Grunndata!A24 -> 45791
AI9: =Grunndata!A25 -> 45802
AI10: =Grunndata!A26 -> 46016
A11: Date | B11: =DATE(H4,4,1) -> 46113 | C11: =B11+1 -> 46114 | D11: =C11+1 -> 46115 | E11: =D11+1 -> 46116 | F11: =E11+1 -> 46117 | G11: =F11+1 -> 46118 | H11: =G11+1 -> 46119 | I11: =H11+1 -> 46120 | J11: =I11+1 -> 46121 | ... AE11: =AD11+1 -> 46142 | AG11: Total | AI11: =Grunndata!A27 -> 46017
A12: Day | B12: =TEXT(B11,"ddd") -> ons | C12: =TEXT(C11,"ddd") -> tor | D12: =TEXT(D11,"ddd") -> fre | E12: =TEXT(E11,"ddd") -> lør | F12: =TEXT(F11,"ddd") -> søn | G12: =TEXT(G11,"ddd") -> man | H12: =TEXT(H11,"ddd") -> tir | I12: =TEXT(I11,"ddd") -> ons | ... AE12: =TEXT(AE11,"ddd") -> tor
A13: EU-Project
A14: arbeidspakke 1 | AG14: =SUM(B14:AF14) -> 0
A15: arbeidspakke 2 | AG15: =SUM(B15:AF15) -> 0
A16: arbeidspakke 3 | AG16: =SUM(B16:AF16) -> 0
A17: arbeidspakke 4 | AG17: =SUM(B17:AF17) -> 0
A18: arbeidspakke 5 | AG18: =SUM(B18:AF18) -> 0
A19: arbeidspakke 6 | AG19: =SUM(B19:AF19) -> 0
A20: arbeidspakke 7 | AG20: =SUM(B20:AF20) -> 0
A21: arbeidspakke 8 | AG21: =SUM(B21:AF21) -> 0
A22: Total | B22: =SUM(B14:B21) -> 0 | C22: =SUM(C14:C21) -> 0 | D22: =SUM(D14:D21) -> 0 | E22: =SUM(E14:E21) -> 0 | F22: =SUM(F14:F21) -> 0 | G22: =SUM(G14:G21) -> 0 | H22: =SUM(H14:H21) -> 0 | I22: =SUM(I14:I21) -> 0 | ... AF22: =SUM(AF14:AF21) -> 0 | AG22: =SUM(B22:AF22) -> 0
A23: Absences
A24: Annual Leave | AG24: =SUM(B24:AF24) -> 0
A25: Special Leave | AG25: =SUM(B25:AF25) -> 0
A26: Illness | AG26: =SUM(B26:AF26) -> 0
A27: Total Absences | B27: =SUM(B24:B26) -> 0 | C27: =SUM(C24:C26) -> 0 | D27: =SUM(D24:D26) -> 0 | E27: =SUM(E24:E26) -> 0 | F27: =SUM(F24:F26) -> 0 | G27: =SUM(G24:G26) -> 0 | H27: =SUM(H24:H26) -> 0 | I27: =SUM(I24:I26) -> 0 | ... AF27: =SUM(AF24:AF26) -> 0 | AG27: =SUM(B27:AF27) -> 0
A28: Total registrated hours | B28: =B22+B27 -> 0 | C28: =C22+C27 -> 0 | D28: =D22+D27 -> 0 | E28: =E22+E27 -> 0 | F28: =F22+F27 -> 0 | G28: =G22+G27 -> 0 | H28: =H22+H27 -> 0 | I28: =I22+I27 -> 0 | ... AF28: =AF22+AF27 -> 0 | AG28: =AG27 -> 0
A30: Short description of the activities carried out in the month: | AG30: =AG9-AG28 -> 0
A32: Signed (name in capital letters): | G32: Approved (name in capital letters): | AG32: This month | AH32: Year to date
A33: =IF('1'!A33="","",'1'!A33) | G33: =IF('1'!G33:M33="","",'1'!G33:M33) | AE33: Present | AG33: =AG22 -> 0 | AH33: ='3'!AH33+'4'!AG33 -> 0
AE34: Absences | AG34: =AG27 -> 0 | AH34: ='3'!AH34+'4'!AG34 -> 0
AE35: Total | AG35: =AG33+AG34 -> 0 | AH35: =AH33+AH34 -> 0
A36: Date and Signature | G36: Date and Signature

Sheet 5
B2: Time recording for Horizon 2020 | AI2: =Grunndata!A18 -> Holidays 2026
AI3: =Grunndata!A19 -> 45292
H4: =Grunndata!B2 -> 2026 | L4: =TEXT(B11,"mmmm") -> mai | AI4: =Grunndata!A20 -> 46114
AI5: =Grunndata!A21 -> 46115
A6: Title of the project (acronym) | D6: ='1'!D6:J6 -> Write title here | K6: Grant Agreement No: | T6: ='1'!T6:AA6 -> Write grant agreement number here | AI6: =Grunndata!A22 -> 46118
A7: Beneficiary's | D7: ='1'!D7:AA7 -> Universitetet i Oslo | AI7: =Grunndata!A23 -> 45778
A8: Name of the person working on the project: | D8: ='1'!D8:AA8 -> Write name here | AF8: workingdays this month | AG8: =NETWORKDAYS(B11,AF11,AI3:AI14) -> 21 | AI8: =Grunndata!A24 -> 45791
AI9: =Grunndata!A25 -> 45802
AI10: =Grunndata!A26 -> 46016
A11: Date | B11: =DATE(H4,5,1) -> 46143 | C11: =B11+1 -> 46144 | D11: =C11+1 -> 46145 | E11: =D11+1 -> 46146 | F11: =E11+1 -> 46147 | G11: =F11+1 -> 46148 | H11: =G11+1 -> 46149 | I11: =H11+1 -> 46150 | J11: =I11+1 -> 46151 | ... AF11: =AE11+1 -> 46173 | AG11: Total | AI11: =Grunndata!A27 -> 46017
A12: Day | B12: =TEXT(B11,"ddd") -> fre | C12: =TEXT(C11,"ddd") -> lør | D12: =TEXT(D11,"ddd") -> søn | E12: =TEXT(E11,"ddd") -> man | F12: =TEXT(F11,"ddd") -> tir | G12: =TEXT(G11,"ddd") -> ons | H12: =TEXT(H11,"ddd") -> tor | I12: =TEXT(I11,"ddd") -> fre | ... AF12: =TEXT(AF11,"ddd") -> søn
A13: EU-Project
A14: arbeidspakke 1 | AG14: =SUM(B14:AF14) -> 0
A15: arbeidspakke 2 | AG15: =SUM(B15:AF15) -> 0
A16: arbeidspakke 3 | AG16: =SUM(B16:AF16) -> 0
A17: arbeidspakke 4 | AG17: =SUM(B17:AF17) -> 0
A18: arbeidspakke 5 | AG18: =SUM(B18:AF18) -> 0
A19: arbeidspakke 6 | AG19: =SUM(B19:AF19) -> 0
A20: arbeidspakke 7 | AG20: =SUM(B20:AF20) -> 0
A21: arbeidspakke 8 | AG21: =SUM(B21:AF21) -> 0
A22: Total | B22: =SUM(B14:B21) -> 0 | C22: =SUM(C14:C21) -> 0 | D22: =SUM(D14:D21) -> 0 | E22: =SUM(E14:E21) -> 0 | F22: =SUM(F14:F21) -> 0 | G22: =SUM(G14:G21) -> 0 | H22: =SUM(H14:H21) -> 0 | I22: =SUM(I14:I21) -> 0 | ... AF22: =SUM(AF14:AF21) -> 0 | AG22: =SUM(B22:AF22) -> 0
A23: Absences
A24: Annual Leave | AG24: =SUM(B24:AF24) -> 0
A25: Special Leave | AG25: =SUM(B25:AF25) -> 0
A26: Illness | AG26: =SUM(B26:AF26) -> 0
A27: Total Absences | B27: =SUM(B24:B26) -> 0 | C27: =SUM(C24:C26) -> 0 | D27: =SUM(D24:D26) -> 0 | E27: =SUM(E24:E26) -> 0 | F27: =SUM(F24:F26) -> 0 | G27: =SUM(G24:G26) -> 0 | H27: =SUM(H24:H26) -> 0 | I27: =SUM(I24:I26) -> 0 | ... AF27: =SUM(AF24:AF26) -> 0 | AG27: =SUM(B27:AF27) -> 0
A28: Total registrated hours | B28: =B22+B27 -> 0 | C28: =C22+C27 -> 0 | D28: =D22+D27 -> 0 | E28: =E22+E27 -> 0 | F28: =F22+F27 -> 0 | G28: =G22+G27 -> 0 | H28: =H22+H27 -> 0 | I28: =I22+I27 -> 0 | ... AF28: =AF22+AF27 -> 0 | AG28: =AG27 -> 0
A30: Short description of the activities carried out in the month: | AG30: =AG9-AG28 -> 0
A32: Signed (name in capital letters): | G32: Approved (name in capital letters): | AG32: This month | AH32: Year to date
A33: =IF('1'!A33="","",'1'!A33) | G33: =IF('1'!G33:M33="","",'1'!G33:M33) | AE33: Present | AG33: =AG22 -> 0 | AH33: ='4'!AH33+'5'!AG33 -> 0
AE34: Absences | AG34: =AG27 -> 0 | AH34: ='4'!AH34+'5'!AG34 -> 0
AE35: Total | AG35: =AG33+AG34 -> 0 | AH35: =AH33+AH34 -> 0
A36: Date and Signature | G36: Date and Signature

Sheet 6
B2: Time recording for Horizon 2020 | AI2: =Grunndata!A18 -> Holidays 2026
AI3: =Grunndata!A19 -> 45292
H4: =Grunndata!B2 -> 2026 | L4: =TEXT(B11,"mmmm") -> juni | AI4: =Grunndata!A20 -> 46114
AI5: =Grunndata!A21 -> 46115
A6: Title of the project (acronym) | D6: ='1'!D6:J6 -> Write title here | K6: Grant Agreement No: | T6: ='1'!T6:AA6 -> Write grant agreement number here | AI6: =Grunndata!A22 -> 46118
A7: Beneficiary's | D7: ='1'!D7:AA7 -> Universitetet i Oslo | AI7: =Grunndata!A23 -> 45778
A8: Name of the person working on the project: | D8: ='1'!D8:AA8 -> Write name here | AF8: workingdays this month | AG8: =NETWORKDAYS(B11,AE11,AI3:AI14) -> 22 | AI8: =Grunndata!A24 -> 45791
AI9: =Grunndata!A25 -> 45802
AI10: =Grunndata!A26 -> 46016
A11: Date | B11: =DATE(H4,6,1) -> 46174 | C11: =B11+1 -> 46175 | D11: =C11+1 -> 46176 | E11: =D11+1 -> 46177 | F11: =E11+1 -> 46178 | G11: =F11+1 -> 46179 | H11: =G11+1 -> 46180 | I11: =H11+1 -> 46181 | J11: =I11+1 -> 46182 | ... AE11: =AD11+1 -> 46203 | AG11: Total | AI11: =Grunndata!A27 -> 46017
A12: Day | B12: =TEXT(B11,"ddd") -> man | C12: =TEXT(C11,"ddd") -> tir | D12: =TEXT(D11,"ddd") -> ons | E12: =TEXT(E11,"ddd") -> tor | F12: =TEXT(F11,"ddd") -> fre | G12: =TEXT(G11,"ddd") -> lør | H12: =TEXT(H11,"ddd") -> søn | I12: =TEXT(I11,"ddd") -> man | ... AE12: =TEXT(AE11,"ddd") -> tir
A13: EU-Project
A14: arbeidspakke 1 | AG14: =SUM(B14:AF14) -> 0
A15: arbeidspakke 2 | AG15: =SUM(B15:AF15) -> 0
A16: arbeidspakke 3 | AG16: =SUM(B16:AF16) -> 0
A17: arbeidspakke 4 | AG17: =SUM(B17:AF17) -> 0
A18: arbeidspakke 5 | AG18: =SUM(B18:AF18) -> 0
A19: arbeidspakke 6 | AG19: =SUM(B19:AF19) -> 0
A20: arbeidspakke 7 | AG20: =SUM(B20:AF20) -> 0
A21: arbeidspakke 8 | AG21: =SUM(B21:AF21) -> 0
A22: Total | B22: =SUM(B14:B21) -> 0 | C22: =SUM(C14:C21) -> 0 | D22: =SUM(D14:D21) -> 0 | E22: =SUM(E14:E21) -> 0 | F22: =SUM(F14:F21) -> 0 | G22: =SUM(G14:G21) -> 0 | H22: =SUM(H14:H21) -> 0 | I22: =SUM(I14:I21) -> 0 | ... AF22: =SUM(AF14:AF21) -> 0 | AG22: =SUM(B22:AF22) -> 0
A23: Absences
A24: Annual Leave | AG24: =SUM(B24:AF24) -> 0
A25: Special Leave | AG25: =SUM(B25:AF25) -> 0
A26: Illness | AG26: =SUM(B26:AF26) -> 0
A27: Total Absences | B27: =SUM(B24:B26) -> 0 | C27: =SUM(C24:C26) -> 0 | D27: =SUM(D24:D26) -> 0 | E27: =SUM(E24:E26) -> 0 | F27: =SUM(F24:F26) -> 0 | G27: =SUM(G24:G26) -> 0 | H27: =SUM(H24:H26) -> 0 | I27: =SUM(I24:I26) -> 0 | ... AF27: =SUM(AF24:AF26) -> 0 | AG27: =SUM(B27:AF27) -> 0
A28: Total registrated hours | B28: =B22+B27 -> 0 | C28: =C22+C27 -> 0 | D28: =D22+D27 -> 0 | E28: =E22+E27 -> 0 | F28: =F22+F27 -> 0 | G28: =G22+G27 -> 0 | H28: =H22+H27 -> 0 | I28: =I22+I27 -> 0 | ... AF28: =AF22+AF27 -> 0 | AG28: =AG27 -> 0
A30: Short description of the activities carried out in the month: | AG30: =AG9-AG28 -> 0
A32: Signed (name in capital letters): | G32: Approved (name in capital letters): | AG32: This month | AH32: Year to date
A33: =IF('1'!A33="","",'1'!A33) | G33: =IF('1'!G33:M33="","",'1'!G33:M33) | AE33: Present | AG33: =AG22 -> 0 | AH33: ='5'!AH33+'6'!AG33 -> 0
AE34: Absences | AG34: =AG27 -> 0 | AH34: ='5'!AH34+'6'!AG34 -> 0
AE35: Total | AG35: =AG33+AG34 -> 0 | AH35: =AH33+AH34 -> 0
A36: Date and Signature | G36: Date and Signature

Sheet 7
B2: Time recording for Horizon 2020 | AI2: =Grunndata!A18 -> Holidays 2026
AI3: =Grunndata!A19 -> 45292
H4: =Grunndata!B2 -> 2026 | L4: =TEXT(B11,"mmmm") -> juli | AI4: =Grunndata!A20 -> 46114
AI5: =Grunndata!A21 -> 46115
A6: Title of the project (acronym) | D6: ='1'!D6:J6 -> Write title here | K6: Grant Agreement No: | T6: ='1'!T6:AA6 -> Write grant agreement number here | AI6: =Grunndata!A22 -> 46118
A7: Beneficiary's | D7: ='1'!D7:AA7 -> Universitetet i Oslo | AI7: =Grunndata!A23 -> 45778
A8: Name of the person working on the project: | D8: ='1'!D8:AA8 -> Write name here | AF8: workingdays this month | AG8: =NETWORKDAYS(B11,AF11,AI3:AI14) -> 23 | AI8: =Grunndata!A24 -> 45791
AI9: =Grunndata!A25 -> 45802
AI10: =Grunndata!A26 -> 46016
A11: Date | B11: =DATE(H4,7,1) -> 46204 | C11: =B11+1 -> 46205 | D11: =C11+1 -> 46206 | E11: =D11+1 -> 46207 | F11: =E11+1 -> 46208 | G11: =F11+1 -> 46209 | H11: =G11+1 -> 46210 | I11: =H11+1 -> 46211 | J11: =I11+1 -> 46212 | ... AF11: =AE11+1 -> 46234 | AG11: Total | AI11: =Grunndata!A27 -> 46017
A12: Day | B12: =TEXT(B11,"ddd") -> ons | C12: =TEXT(C11,"ddd") -> tor | D12: =TEXT(D11,"ddd") -> fre | E12: =TEXT(E11,"ddd") -> lør | F12: =TEXT(F11,"ddd") -> søn | G12: =TEXT(G11,"ddd") -> man | H12: =TEXT(H11,"ddd") -> tir | I12: =TEXT(I11,"ddd") -> ons | ... AF12: =TEXT(AF11,"ddd") -> fre
A13: EU-Project
A14: arbeidspakke 1 | AG14: =SUM(B14:AF14) -> 0
A15: arbeidspakke 2 | AG15: =SUM(B15:AF15) -> 0
A16: arbeidspakke 3 | AG16: =SUM(B16:AF16) -> 0
A17: arbeidspakke 4 | AG17: =SUM(B17:AF17) -> 0
A18: arbeidspakke 5 | AG18: =SUM(B18:AF18) -> 0
A19: arbeidspakke 6 | AG19: =SUM(B19:AF19) -> 0
A20: arbeidspakke 7 | AG20: =SUM(B20:AF20) -> 0
A21: arbeidspakke 8 | AG21: =SUM(B21:AF21) -> 0
A22: Total | B22: =SUM(B14:B21) -> 0 | C22: =SUM(C14:C21) -> 0 | D22: =SUM(D14:D21) -> 0 | E22: =SUM(E14:E21) -> 0 | F22: =SUM(F14:F21) -> 0 | G22: =SUM(G14:G21) -> 0 | H22: =SUM(H14:H21) -> 0 | I22: =SUM(I14:I21) -> 0 | ... AF22: =SUM(AF14:AF21) -> 0 | AG22: =SUM(B22:AF22) -> 0
A23: Absences
A24: Annual Leave | AG24: =SUM(B24:AF24) -> 0
A25: Special Leave | AG25: =SUM(B25:AF25) -> 0
A26: Illness | AG26: =SUM(B26:AF26) -> 0
A27: Total Absences | B27: =SUM(B24:B26) -> 0 | C27: =SUM(C24:C26) -> 0 | D27: =SUM(D24:D26) -> 0 | E27: =SUM(E24:E26) -> 0 | F27: =SUM(F24:F26) -> 0 | G27: =SUM(G24:G26) -> 0 | H27: =SUM(H24:H26) -> 0 | I27: =SUM(I24:I26) -> 0 | ... AF27: =SUM(AF24:AF26) -> 0 | AG27: =SUM(B27:AF27) -> 0
A28: Total registrated hours | B28: =B22+B27 -> 0 | C28: =C22+C27 -> 0 | D28: =D22+D27 -> 0 | E28: =E22+E27 -> 0 | F28: =F22+F27 -> 0 | G28: =G22+G27 -> 0 | H28: =H22+H27 -> 0 | I28: =I22+I27 -> 0 | ... AF28: =AF22+AF27 -> 0 | AG28: =AG27 -> 0
A30: Short description of the activities carried out in the month: | AG30: =AG9-AG28 -> 0
A32: Signed (name in capital letters): | G32: Approved (name in capital letters): | AG32: This month | AH32: Year to date
A33: =IF('1'!A33="","",'1'!A33) | G33: =IF('1'!G33:M33="","",'1'!G33:M33) | AE33: Present | AG33: =AG22 -> 0 | AH33: ='6'!AH33+'7'!AG33 -> 0
AE34: Absences | AG34: =AG27 -> 0 | AH34: ='6'!AH34+'7'!AG34 -> 0
AE35: Total | AG35: =AG33+AG34 -> 0 | AH35: =AH33+AH34 -> 0
A36: Date and Signature | G36: Date and Signature

Sheet 8
B2: Time recording for Horizon 2020 | AI2: =Grunndata!A18 -> Holidays 2026
AI3: =Grunndata!A19 -> 45292
H4: =Grunndata!B2 -> 2026 | L4: =TEXT(B11,"mmmm") -> august | AI4: =Grunndata!A20 -> 46114
AI5: =Grunndata!A21 -> 46115
A6: Title of the project (acronym) | D6: ='1'!D6:J6 -> Write title here | K6: Grant Agreement No: | T6: ='1'!T6:AA6 -> Write grant agreement number here | AI6: =Grunndata!A22 -> 46118
A7: Beneficiary's | D7: ='1'!D7:AA7 -> Universitetet i Oslo | AI7: =Grunndata!A23 -> 45778
A8: Name of the person working on the project: | D8: ='1'!D8:AA8 -> Write name here | AF8: workingdays this month | AG8: =NETWORKDAYS(B11,AF11,AI3:AI14) -> 21 | AI8: =Grunndata!A24 -> 45791
AI9: =Grunndata!A25 -> 45802
AI10: =Grunndata!A26 -> 46016
A11: Date | B11: =DATE(H4,8,1) -> 46235 | C11: =B11+1 -> 46236 | D11: =C11+1 -> 46237 | E11: =D11+1 -> 46238 | F11: =E11+1 -> 46239 | G11: =F11+1 -> 46240 | H11: =G11+1 -> 46241 | I11: =H11+1 -> 46242 | J11: =I11+1 -> 46243 | ... AF11: =AE11+1 -> 46265 | AG11: Total | AI11: =Grunndata!A27 -> 46017
A12: Day | B12: =TEXT(B11,"ddd") -> lør | C12: =TEXT(C11,"ddd") -> søn | D12: =TEXT(D11,"ddd") -> man | E12: =TEXT(E11,"ddd") -> tir | F12: =TEXT(F11,"ddd") -> ons | G12: =TEXT(G11,"ddd") -> tor | H12: =TEXT(H11,"ddd") -> fre | I12: =TEXT(I11,"ddd") -> lør | ... AF12: =TEXT(AF11,"ddd") -> man
A13: EU-Project
A14: arbeidspakke 1 | AG14: =SUM(B14:AF14) -> 0
A15: arbeidspakke 2 | AG15: =SUM(B15:AF15) -> 0
A16: arbeidspakke 3 | AG16: =SUM(B16:AF16) -> 0
A17: arbeidspakke 4 | AG17: =SUM(B17:AF17) -> 0
A18: arbeidspakke 5 | AG18: =SUM(B18:AF18) -> 0
A19: arbeidspakke 6 | AG19: =SUM(B19:AF19) -> 0
A20: arbeidspakke 7 | AG20: =SUM(B20:AF20) -> 0
A21: arbeidspakke 8 | AG21: =SUM(B21:AF21) -> 0
A22: Total | B22: =SUM(B14:B21) -> 0 | C22: =SUM(C14:C21) -> 0 | D22: =SUM(D14:D21) -> 0 | E22: =SUM(E14:E21) -> 0 | F22: =SUM(F14:F21) -> 0 | G22: =SUM(G14:G21) -> 0 | H22: =SUM(H14:H21) -> 0 | I22: =SUM(I14:I21) -> 0 | ... AF22: =SUM(AF14:AF21) -> 0 | AG22: =SUM(B22:AF22) -> 0
A23: Absences
A24: Annual Leave | AG24: =SUM(B24:AF24) -> 0
A25: Special Leave | AG25: =SUM(B25:AF25) -> 0
A26: Illness | AG26: =SUM(B26:AF26) -> 0
A27: Total Absences | B27: =SUM(B24:B26) -> 0 | C27: =SUM(C24:C26) -> 0 | D27: =SUM(D24:D26) -> 0 | E27: =SUM(E24:E26) -> 0 | F27: =SUM(F24:F26) -> 0 | G27: =SUM(G24:G26) -> 0 | H27: =SUM(H24:H26) -> 0 | I27: =SUM(I24:I26) -> 0 | ... AF27: =SUM(AF24:AF26) -> 0 | AG27: =SUM(B27:AF27) -> 0
A28: Total registrated hours | B28: =B22+B27 -> 0 | C28: =C22+C27 -> 0 | D28: =D22+D27 -> 0 | E28: =E22+E27 -> 0 | F28: =F22+F27 -> 0 | G28: =G22+G27 -> 0 | H28: =H22+H27 -> 0 | I28: =I22+I27 -> 0 | ... AF28: =AF22+AF27 -> 0 | AG28: =AG27 -> 0
A30: Short description of the activities carried out in the month: | AG30: =AG9-AG28 -> 0
A32: Signed (name in capital letters): | G32: Approved (name in capital letters): | AG32: This month | AH32: Year to date
A33: =IF('1'!A33="","",'1'!A33) | G33: =IF('1'!G33:M33="","",'1'!G33:M33) | AE33: Present | AG33: =AG22 -> 0 | AH33: ='7'!AH33+'8'!AG33 -> 0
AE34: Absences | AG34: =AG27 -> 0 | AH34: ='7'!AH34+'8'!AG34 -> 0
AE35: Total | AG35: =AG33+AG34 -> 0 | AH35: =AH33+AH34 -> 0
A36: Date and Signature | G36: Date and Signature

Sheet 9
B2: Time recording for Horizon 2020 | AI2: =Grunndata!A18 -> Holidays 2026
AI3: =Grunndata!A19 -> 45292
H4: =Grunndata!B2 -> 2026 | L4: =TEXT(B11,"mmmm") -> september | AI4: =Grunndata!A20 -> 46114
AI5: =Grunndata!A21 -> 46115
A6: Title of the project (acronym) | D6: ='1'!D6:J6 -> Write title here | K6: Grant Agreement No: | T6: ='1'!T6:AA6 -> Write grant agreement number here | AI6: =Grunndata!A22 -> 46118
A7: Beneficiary's | D7: ='1'!D7:AA7 -> Universitetet i Oslo | AI7: =Grunndata!A23 -> 45778
A8: Name of the person working on the project: | D8: ='1'!D8:AA8 -> Write name here | AF8: workingdays this month | AG8: =NETWORKDAYS(B11,AE11,AI3:AI14) -> 22 | AI8: =Grunndata!A24 -> 45791
AI9: =Grunndata!A25 -> 45802
AI10: =Grunndata!A26 -> 46016
A11: Date | B11: =DATE(H4,9,1) -> 46266 | C11: =B11+1 -> 46267 | D11: =C11+1 -> 46268 | E11: =D11+1 -> 46269 | F11: =E11+1 -> 46270 | G11: =F11+1 -> 46271 | H11: =G11+1 -> 46272 | I11: =H11+1 -> 46273 | J11: =I11+1 -> 46274 | ... AE11: =AD11+1 -> 46295 | AG11: Total | AI11: =Grunndata!A27 -> 46017
A12: Day | B12: =TEXT(B11,"ddd") -> tir | C12: =TEXT(C11,"ddd") -> ons | D12: =TEXT(D11,"ddd") -> tor | E12: =TEXT(E11,"ddd") -> fre | F12: =TEXT(F11,"ddd") -> lør | G12: =TEXT(G11,"ddd") -> søn | H12: =TEXT(H11,"ddd") -> man | I12: =TEXT(I11,"ddd") -> tir | ... AE12: =TEXT(AE11,"ddd") -> ons
A13: EU-Project
A14: arbeidspakke 1 | AG14: =SUM(B14:AF14) -> 0
A15: arbeidspakke 2 | AG15: =SUM(B15:AF15) -> 0
A16: arbeidspakke 3 | AG16: =SUM(B16:AF16) -> 0
A17: arbeidspakke 4 | AG17: =SUM(B17:AF17) -> 0
A18: arbeidspakke 5 | AG18: =SUM(B18:AF18) -> 0
A19: arbeidspakke 6 | AG19: =SUM(B19:AF19) -> 0
A20: arbeidspakke 7 | AG20: =SUM(B20:AF20) -> 0
A21: arbeidspakke 8 | AG21: =SUM(B21:AF21) -> 0
A22: Total | B22: =SUM(B14:B21) -> 0 | C22: =SUM(C14:C21) -> 0 | D22: =SUM(D14:D21) -> 0 | E22: =SUM(E14:E21) -> 0 | F22: =SUM(F14:F21) -> 0 | G22: =SUM(G14:G21) -> 0 | H22: =SUM(H14:H21) -> 0 | I22: =SUM(I14:I21) -> 0 | ... AF22: =SUM(AF14:AF21) -> 0 | AG22: =SUM(B22:AF22) -> 0
A23: Absences
A24: Annual Leave | AG24: =SUM(B24:AF24) -> 0
A25: Special Leave | AG25: =SUM(B25:AF25) -> 0
A26: Illness | AG26: =SUM(B26:AF26) -> 0
A27: Total Absences | B27: =SUM(B24:B26) -> 0 | C27: =SUM(C24:C26) -> 0 | D27: =SUM(D24:D26) -> 0 | E27: =SUM(E24:E26) -> 0 | F27: =SUM(F24:F26) -> 0 | G27: =SUM(G24:G26) -> 0 | H27: =SUM(H24:H26) -> 0 | I27: =SUM(I24:I26) -> 0 | ... AF27: =SUM(AF24:AF26) -> 0 | AG27: =SUM(B27:AF27) -> 0
A28: Total registrated hours | B28: =B22+B27 -> 0 | C28: =C22+C27 -> 0 | D28: =D22+D27 -> 0 | E28: =E22+E27 -> 0 | F28: =F22+F27 -> 0 | G28: =G22+G27 -> 0 | H28: =H22+H27 -> 0 | I28: =I22+I27 -> 0 | ... AF28: =AF22+AF27 -> 0 | AG28: =AG27 -> 0
A30: Short description of the activities carried out in the month: | AG30: =AG9-AG28 -> 0
A32: Signed (name in capital letters): | G32: Approved (name in capital letters): | AG32: This month | AH32: Year to date
A33: =IF('1'!A33="","",'1'!A33) | G33: =IF('1'!G33:M33="","",'1'!G33:M33) | AE33: Present | AG33: =AG22 -> 0 | AH33: ='8'!AH33+'9'!AG33 -> 0
AE34: Absences | AG34: =AG27 -> 0 | AH34: ='8'!AH34+'9'!AG34 -> 0
AE35: Total | AG35: =AG33+AG34 -> 0 | AH35: =AH33+AH34 -> 0
A36: Date and Signature | G36: Date and Signature

Sheet 10
B2: Time recording for Horizon 2020 | AI2: =Grunndata!A18 -> Holidays 2026
AI3: =Grunndata!A19 -> 45292
H4: =Grunndata!B2 -> 2026 | L4: =TEXT(B11,"mmmm") -> oktober | AI4: =Grunndata!A20 -> 46114
AI5: =Grunndata!A21 -> 46115
A6: Title of the project (acronym) | D6: ='1'!D6:J6 -> Write title here | K6: Grant Agreement No: | T6: ='1'!T6:AA6 -> Write grant agreement number here | AI6: =Grunndata!A22 -> 46118
A7: Beneficiary's | D7: ='1'!D7:AA7 -> Universitetet i Oslo | AI7: =Grunndata!A23 -> 45778
A8: Name of the person working on the project: | D8: ='1'!D8:AA8 -> Write name here | AF8: workingdays this month | AG8: =NETWORKDAYS(B11,AF11,AI3:AI14) -> 22 | AI8: =Grunndata!A24 -> 45791
AI9: =Grunndata!A25 -> 45802
AI10: =Grunndata!A26 -> 46016
A11: Date | B11: =DATE(H4,10,1) -> 46296 | C11: =B11+1 -> 46297 | D11: =C11+1 -> 46298 | E11: =D11+1 -> 46299 | F11: =E11+1 -> 46300 | G11: =F11+1 -> 46301 | H11: =G11+1 -> 46302 | I11: =H11+1 -> 46303 | J11: =I11+1 -> 46304 | ... AF11: =AE11+1 -> 46326 | AG11: Total | AI11: =Grunndata!A27 -> 46017
A12: Day | B12: =TEXT(B11,"ddd") -> tor | C12: =TEXT(C11,"ddd") -> fre | D12: =TEXT(D11,"ddd") -> lør | E12: =TEXT(E11,"ddd") -> søn | F12: =TEXT(F11,"ddd") -> man | G12: =TEXT(G11,"ddd") -> tir | H12: =TEXT(H11,"ddd") -> ons | I12: =TEXT(I11,"ddd") -> tor | ... AF12: =TEXT(AF11,"ddd") -> lør
A13: EU-Project
A14: arbeidspakke 1 | AG14: =SUM(B14:AF14) -> 0
A15: arbeidspakke 2 | AG15: =SUM(B15:AF15) -> 0
A16: arbeidspakke 3 | AG16: =SUM(B16:AF16) -> 0
A17: arbeidspakke 4 | AG17: =SUM(B17:AF17) -> 0
A18: arbeidspakke 5 | AG18: =SUM(B18:AF18) -> 0
A19: arbeidspakke 6 | AG19: =SUM(B19:AF19) -> 0
A20: arbeidspakke 7 | AG20: =SUM(B20:AF20) -> 0
A21: arbeidspakke 8 | AG21: =SUM(B21:AF21) -> 0
A22: Total | B22: =SUM(B14:B21) -> 0 | C22: =SUM(C14:C21) -> 0 | D22: =SUM(D14:D21) -> 0 | E22: =SUM(E14:E21) -> 0 | F22: =SUM(F14:F21) -> 0 | G22: =SUM(G14:G21) -> 0 | H22: =SUM(H14:H21) -> 0 | I22: =SUM(I14:I21) -> 0 | ... AF22: =SUM(AF14:AF21) -> 0 | AG22: =SUM(B22:AF22) -> 0
A23: Absences
A24: Annual Leave | AG24: =SUM(B24:AF24) -> 0
A25: Special Leave | AG25: =SUM(B25:AF25) -> 0
A26: Illness | AG26: =SUM(B26:AF26) -> 0
A27: Total Absences | B27: =SUM(B24:B26) -> 0 | C27: =SUM(C24:C26) -> 0 | D27: =SUM(D24:D26) -> 0 | E27: =SUM(E24:E26) -> 0 | F27: =SUM(F24:F26) -> 0 | G27: =SUM(G24:G26) -> 0 | H27: =SUM(H24:H26) -> 0 | I27: =SUM(I24:I26) -> 0 | ... AF27: =SUM(AF24:AF26) -> 0 | AG27: =SUM(B27:AF27) -> 0
A28: Total registrated hours | B28: =B22+B27 -> 0 | C28: =C22+C27 -> 0 | D28: =D22+D27 -> 0 | E28: =E22+E27 -> 0 | F28: =F22+F27 -> 0 | G28: =G22+G27 -> 0 | H28: =H22+H27 -> 0 | I28: =I22+I27 -> 0 | ... AF28: =AF22+AF27 -> 0 | AG28: =AG27 -> 0
A30: Short description of the activities carried out in the month: | AG30: =AG9-AG28 -> 0
A32: Signed (name in capital letters): | G32: Approved (name in capital letters): | AG32: This month | AH32: Year to date
A33: =IF('1'!A33="","",'1'!A33) | G33: =IF('1'!G33:M33="","",'1'!G33:M33) | AE33: Present | AG33: =AG22 -> 0 | AH33: ='9'!AH33+'10'!AG33 -> 0
AE34: Absences | AG34: =AG27 -> 0 | AH34: ='9'!AH34+'10'!AG34 -> 0
AE35: Total | AG35: =AG33+AG34 -> 0 | AH35: =AH33+AH34 -> 0
A36: Date and Signature | G36: Date and Signature

Sheet 11
B2: Time recording for Horizon 2020 | AI2: =Grunndata!A18 -> Holidays 2026
AI3: =Grunndata!A19 -> 45292
H4: =Grunndata!B2 -> 2026 | L4: =TEXT(B11,"mmmm") -> november | AI4: =Grunndata!A20 -> 46114
AI5: =Grunndata!A21 -> 46115
A6: Title of the project (acronym) | D6: ='1'!D6:J6 -> Write title here | K6: Grant Agreement No: | T6: ='1'!T6:AA6 -> Write grant agreement number here | AI6: =Grunndata!A22 -> 46118
A7: Beneficiary's | D7: ='1'!D7:AA7 -> Universitetet i Oslo | AI7: =Grunndata!A23 -> 45778
A8: Name of the person working on the project: | D8: ='1'!D8:AA8 -> Write name here | AF8: workingdays this month | AG8: =NETWORKDAYS(B11,AE11,AI3:AI14) -> 21 | AI8: =Grunndata!A24 -> 45791
AI9: =Grunndata!A25 -> 45802
AI10: =Grunndata!A26 -> 46016
A11: Date | B11: =DATE(H4,11,1) -> 46327 | C11: =B11+1 -> 46328 | D11: =C11+1 -> 46329 | E11: =D11+1 -> 46330 | F11: =E11+1 -> 46331 | G11: =F11+1 -> 46332 | H11: =G11+1 -> 46333 | I11: =H11+1 -> 46334 | J11: =I11+1 -> 46335 | ... AE11: =AD11+1 -> 46356 | AG11: Total | AI11: =Grunndata!A27 -> 46017
A12: Day | B12: =TEXT(B11,"ddd") -> søn | C12: =TEXT(C11,"ddd") -> man | D12: =TEXT(D11,"ddd") -> tir | E12: =TEXT(E11,"ddd") -> ons | F12: =TEXT(F11,"ddd") -> tor | G12: =TEXT(G11,"ddd") -> fre | H12: =TEXT(H11,"ddd") -> lør | I12: =TEXT(I11,"ddd") -> søn | ... AE12: =TEXT(AE11,"ddd") -> man
A13: EU-Project
A14: arbeidspakke 1 | AG14: =SUM(B14:AF14) -> 0
A15: arbeidspakke 2 | AG15: =SUM(B15:AF15) -> 0
A16: arbeidspakke 3 | AG16: =SUM(B16:AF16) -> 0
A17: arbeidspakke 4 | AG17: =SUM(B17:AF17) -> 0
A18: arbeidspakke 5 | AG18: =SUM(B18:AF18) -> 0
A19: arbeidspakke 6 | AG19: =SUM(B19:AF19) -> 0
A20: arbeidspakke 7 | AG20: =SUM(B20:AF20) -> 0
A21: arbeidspakke 8 | AG21: =SUM(B21:AF21) -> 0
A22: Total | B22: =SUM(B14:B21) -> 0 | C22: =SUM(C14:C21) -> 0 | D22: =SUM(D14:D21) -> 0 | E22: =SUM(E14:E21) -> 0 | F22: =SUM(F14:F21) -> 0 | G22: =SUM(G14:G21) -> 0 | H22: =SUM(H14:H21) -> 0 | I22: =SUM(I14:I21) -> 0 | ... AF22: =SUM(AF14:AF21) -> 0 | AG22: =SUM(B22:AF22) -> 0
A23: Absences
A24: Annual Leave | AG24: =SUM(B24:AF24) -> 0
A25: Special Leave | AG25: =SUM(B25:AF25) -> 0
A26: Illness | AG26: =SUM(B26:AF26) -> 0
A27: Total Absences | B27: =SUM(B24:B26) -> 0 | C27: =SUM(C24:C26) -> 0 | D27: =SUM(D24:D26) -> 0 | E27: =SUM(E24:E26) -> 0 | F27: =SUM(F24:F26) -> 0 | G27: =SUM(G24:G26) -> 0 | H27: =SUM(H24:H26) -> 0 | I27: =SUM(I24:I26) -> 0 | ... AF27: =SUM(AF24:AF26) -> 0 | AG27: =SUM(B27:AF27) -> 0
A28: Total registrated hours | B28: =B22+B27 -> 0 | C28: =C22+C27 -> 0 | D28: =D22+D27 -> 0 | E28: =E22+E27 -> 0 | F28: =F22+F27 -> 0 | G28: =G22+G27 -> 0 | H28: =H22+H27 -> 0 | I28: =I22+I27 -> 0 | ... AF28: =AF22+AF27 -> 0 | AG28: =AG27 -> 0
A30: Short description of the activities carried out in the month: | AG30: =AG9-AG28 -> 0
A32: Signed (name in capital letters): | G32: Approved (name in capital letters): | AG32: This month | AH32: Year to date
A33: =IF('1'!A33="","",'1'!A33) | G33: =IF('1'!G33:M33="","",'1'!G33:M33) | AE33: Present | AG33: =AG22 -> 0 | AH33: ='10'!AH33+'11'!AG33 -> 0
AE34: Absences | AG34: =AG27 -> 0 | AH34: ='10'!AH34+'11'!AG34 -> 0
AE35: Total | AG35: =AG33+AG34 -> 0 | AH35: =AH33+AH34 -> 0
A36: Date and Signature | G36: Date and Signature

Sheet 12
B2: Time recording for Horizon 2020 | AI2: =Grunndata!A18 -> Holidays 2026
AI3: =Grunndata!A19 -> 45292
H4: =Grunndata!B2 -> 2026 | L4: =TEXT(B11,"mmmm") -> desember | AI4: =Grunndata!A20 -> 46114
AI5: =Grunndata!A21 -> 46115
A6: Title of the project (acronym) | D6: ='1'!D6:J6 -> Write title here | K6: Grant Agreement No: | T6: ='1'!T6:AA6 -> Write grant agreement number here | AI6: =Grunndata!A22 -> 46118
A7: Beneficiary's | D7: ='1'!D7:AA7 -> Universitetet i Oslo | AI7: =Grunndata!A23 -> 45778
A8: Name of the person working on the project: | D8: ='1'!D8:AA8 -> Write name here | AF8: workingdays this month | AG8: =NETWORKDAYS(B11,AF11,AI3:AI14) -> 23 | AI8: =Grunndata!A24 -> 45791
AI9: =Grunndata!A25 -> 45802
AI10: =Grunndata!A26 -> 46016
A11: Date | B11: =DATE(H4,12,1) -> 46357 | C11: =B11+1 -> 46358 | D11: =C11+1 -> 46359 | E11: =D11+1 -> 46360 | F11: =E11+1 -> 46361 | G11: =F11+1 -> 46362 | H11: =G11+1 -> 46363 | I11: =H11+1 -> 46364 | J11: =I11+1 -> 46365 | ... AF11: =AE11+1 -> 46387 | AG11: Total | AI11: =Grunndata!A27 -> 46017
A12: Day | B12: =TEXT(B11,"ddd") -> tir | C12: =TEXT(C11,"ddd") -> ons | D12: =TEXT(D11,"ddd") -> tor | E12: =TEXT(E11,"ddd") -> fre | F12: =TEXT(F11,"ddd") -> lør | G12: =TEXT(G11,"ddd") -> søn | H12: =TEXT(H11,"ddd") -> man | I12: =TEXT(I11,"ddd") -> tir | ... AF12: =TEXT(AF11,"ddd") -> tor
A13: EU-Project
A14: arbeidspakke 1 | AG14: =SUM(B14:AF14) -> 0
A15: arbeidspakke 2 | AG15: =SUM(B15:AF15) -> 0
A16: arbeidspakke 3 | AG16: =SUM(B16:AF16) -> 0
A17: arbeidspakke 4 | AG17: =SUM(B17:AF17) -> 0
A18: arbeidspakke 5 | AG18: =SUM(B18:AF18) -> 0
A19: arbeidspakke 6 | AG19: =SUM(B19:AF19) -> 0
A20: arbeidspakke 7 | AG20: =SUM(B20:AF20) -> 0
A21: arbeidspakke 8 | AG21: =SUM(B21:AF21) -> 0
A22: Total | B22: =SUM(B14:B21) -> 0 | C22: =SUM(C14:C21) -> 0 | D22: =SUM(D14:D21) -> 0 | E22: =SUM(E14:E21) -> 0 | F22: =SUM(F14:F21) -> 0 | G22: =SUM(G14:G21) -> 0 | H22: =SUM(H14:H21) -> 0 | I22: =SUM(I14:I21) -> 0 | ... AF22: =SUM(AF14:AF21) -> 0 | AG22: =SUM(B22:AF22) -> 0
A23: Absences
A24: Annual Leave | AG24: =SUM(B24:AF24) -> 0
A25: Special Leave | AG25: =SUM(B25:AF25) -> 0
A26: Illness | AG26: =SUM(B26:AF26) -> 0
A27: Total Absences | B27: =SUM(B24:B26) -> 0 | C27: =SUM(C24:C26) -> 0 | D27: =SUM(D24:D26) -> 0 | E27: =SUM(E24:E26) -> 0 | F27: =SUM(F24:F26) -> 0 | G27: =SUM(G24:G26) -> 0 | H27: =SUM(H24:H26) -> 0 | I27: =SUM(I24:I26) -> 0 | ... AF27: =SUM(AF24:AF26) -> 0 | AG27: =SUM(B27:AF27) -> 0
A28: Total registrated hours | B28: =B22+B27 -> 0 | C28: =C22+C27 -> 0 | D28: =D22+D27 -> 0 | E28: =E22+E27 -> 0 | F28: =F22+F27 -> 0 | G28: =G22+G27 -> 0 | H28: =H22+H27 -> 0 | I28: =I22+I27 -> 0 | ... AF28: =AF22+AF27 -> 0 | AG28: =AG27 -> 0
A30: Short description of the activities carried out in the month: | AG30: =AG9-AG28 -> 0
A32: Signed (name in capital letters): | G32: Approved (name in capital letters): | AG32: This month | AH32: Year to date
A33: =IF('1'!A33="","",'1'!A33) | G33: =IF('1'!G33:M33="","",'1'!G33:M33) | AE33: Present | AG33: =AG22 -> 0 | AH33: ='11'!AH33+'12'!AG33 -> 0
AE34: Absences | AG34: =AG27 -> 0 | AH34: ='11'!AH34+'12'!AG34 -> 0
AE35: Total | AG35: =AG33+AG34 -> 0 | AH35: =AH33+AH34 -> 0
A36: Date and Signature | G36: Date and Signature

Sheet Summary per month
A1: EU GRANTS DECLARATION OF DAYS WORKED ON A PROJECT | B1: YEAR: | C1: ='1'!H4 -> 2026 | D1: =IF(B59>215,"Advarsel: Det er registrert mer enn 215 arbeidsdager i løpet av året","")
A2: To be kept on file in case of audits.
A4: Project acronym: | B4: ='1'!D6 -> Write title here | C4: Project number: | D4: ='1'!T6 -> Write grant agreement number here
A5: Participant name:
A6: Name of the person: | B6: ='1'!D8 -> Write name here | C6: Type of personnel:
C7: (employee/ natural person under direct contract/ seconded/ other)
A9: Month | B9: Days worked in the action[1] | C9: Work Packages worked on | D9: Date and signature of the person | E9: Name, date and signature of the supervisor
B10: (e.g.15, 7,5, 0,5) | C10: (e.g. WP2; WP5)
A11: January | B11: =MROUND('1'!AG22/8,0.5) -> 0 | C11: =IF('1'!AG14>0,'1'!A14&"; ","")&IF('1'!AG15>0,'1'!A15&"; ","")&IF('1'!AG16>0,'1'!A16&"; ","")&IF('1'!AG17>0,'1'!A17&"; ","")&IF('1'!AG18>0,'1'!A18&"; ","")&IF('1'!AG19>0,'1'!A19&"; ","")&IF('1'!AG20>0,'1'!A20&"; ","")&IF('1'!AG21>0,'1'!A21&"; ","") | D11: Signature: | E11: Name:
E12: Signature:
D14: Date: | E14: Date:
A15: February | B15: =MROUND('2'!AG22/8,0.5) -> 0 | C15: =IF('2'!AG14>0,'2'!A14&"; ","")&IF('2'!AG15>0,'2'!A15&"; ","")&IF('2'!AG16>0,'2'!A16&"; ","")&IF('2'!AG17>0,'2'!A17&"; ","")&IF('2'!AG18>0,'2'!A18&"; ","")&IF('2'!AG19>0,'2'!A19&"; ","")&IF('2'!AG20>0,'2'!A20&"; ","")&IF('2'!AG21>0,'2'!A21&"; ","") | D15: Signature: | E15: Name:
E16: Signature:
D18: Date: | E18: Date:
A19: March | B19: =MROUND('3'!AG22/8,0.5) -> 0 | C19: =IF('3'!AG14>0,'3'!A14&"; ","")&IF('3'!AG15>0,'3'!A15&"; ","")&IF('3'!AG16>0,'3'!A16&"; ","")&IF('3'!AG17>0,'3'!A17&"; ","")&IF('3'!AG18>0,'3'!A18&"; ","")&IF('3'!AG19>0,'3'!A19&"; ","")&IF('3'!AG20>0,'3'!A20&"; ","")&IF('3'!AG21>0,'3'!A21&"; ","") | D19: Signature: | E19: Name:
E20: Signature:
D22: Date: | E22: Date:
A23: April | B23: =MROUND('4'!AG22/8,0.5) -> 0 | C23: =IF('4'!AG14>0,'4'!A14&"; ","")&IF('4'!AG15>0,'4'!A15&"; ","")&IF('4'!AG16>0,'4'!A16&"; ","")&IF('4'!AG17>0,'4'!A17&"; ","")&IF('4'!AG18>0,'4'!A18&"; ","")&IF('4'!AG19>0,'4'!A19&"; ","")&IF('4'!AG20>0,'4'!A20&"; ","")&IF('4'!AG21>0,'4'!A21&"; ","") | D23: Signature: | E23: Name:
E24: Signature:
D26: Date: | E26: Date:
A27: May | B27: =MROUND('5'!AG22/8,0.5) -> 0 | C27: =IF('5'!AG14>0,'5'!A14&"; ","")&IF('5'!AG15>0,'5'!A15&"; ","")&IF('5'!AG16>0,'5'!A16&"; ","")&IF('5'!AG17>0,'5'!A17&"; ","")&IF('5'!AG18>0,'5'!A18&"; ","")&IF('5'!AG19>0,'5'!A19&"; ","")&IF('5'!AG20>0,'5'!A20&"; ","")&IF('5'!AG21>0,'5'!A21&"; ","") | D27: Signature: | E27: Name:
E28: Signature:
D30: Date: | E30: Date:
A31: June | B31: =MROUND('6'!AG22/8,0.5) -> 0 | C31: =IF('6'!AG14>0,'6'!A14&"; ","")&IF('6'!AG15>0,'6'!A15&"; ","")&IF('6'!AG16>0,'6'!A16&"; ","")&IF('6'!AG17>0,'6'!A17&"; ","")&IF('6'!AG18>0,'6'!A18&"; ","")&IF('6'!AG19>0,'6'!A19&"; ","")&IF('6'!AG20>0,'6'!A20&"; ","")&IF('6'!AG21>0,'6'!A21&"; ","") | D31: Signature: | E31: Name:
E32: Signature:
D34: Date: | E34: Date:
A35: July | B35: =MROUND('7'!AG22/8,0.5) -> 0 | C35: =IF('7'!AG14>0,'7'!A14&"; ","")&IF('7'!AG15>0,'7'!A15&"; ","")&IF('7'!AG16>0,'7'!A16&"; ","")&IF('7'!AG17>0,'7'!A17&"; ","")&IF('7'!AG18>0,'7'!A18&"; ","")&IF('7'!AG19>0,'7'!A19&"; ","")&IF('7'!AG20>0,'7'!A20&"; ","")&IF('7'!AG21>0,'7'!A21&"; ","") | D35: Signature: | E35: Name:
E36: Signature:
D38: Date: | E38: Date:
A39: August | B39: =MROUND('8'!AG22/8,0.5) -> 0 | C39: =IF('8'!AG14>0,'8'!A14&"; ","")&IF('8'!AG15>0,'8'!A15&"; ","")&IF('8'!AG16>0,'8'!A16&"; ","")&IF('8'!AG17>0,'8'!A17&"; ","")&IF('8'!AG18>0,'8'!A18&"; ","")&IF('8'!AG19>0,'8'!A19&"; ","")&IF('8'!AG20>0,'8'!A20&"; ","")&IF('8'!AG21>0,'8'!A21&"; ","") | D39: Signature: | E39: Name:
E40: Signature:
D42: Date: | E42: Date:
A43: September | B43: =MROUND('9'!AG22/8,0.5) -> 0 | C43: =IF('9'!AG14>0,'9'!A14&"; ","")&IF('9'!AG15>0,'9'!A15&"; ","")&IF('9'!AG16>0,'9'!A16&"; ","")&IF('9'!AG17>0,'9'!A17&"; ","")&IF('9'!AG18>0,'9'!A18&"; ","")&IF('9'!AG19>0,'9'!A19&"; ","")&IF('9'!AG20>0,'9'!A20&"; ","")&IF('9'!AG21>0,'9'!A21&"; ","") | D43: Signature: | E43: Name:
E44: Signature:
D46: Date: | E46: Date:
A47: October | B47: =MROUND('10'!AG22/8,0.5) -> 0 | C47: =IF('10'!AG14>0,'10'!A14&"; ","")&IF('10'!AG15>0,'10'!A15&"; ","")&IF('10'!AG16>0,'10'!A16&"; ","")&IF('10'!AG17>0,'10'!A17&"; ","")&IF('10'!AG18>0,'10'!A18&"; ","")&IF('10'!AG19>0,'10'!A19&"; ","")&IF('10'!AG20>0,'10'!A20&"; ","")&IF('10'!AG21>0,'10'!A21&"; ","") | D47: Signature: | E47: Name:
E48: Signature:
D50: Date: | E50: Date:
A51: November | B51: =MROUND('11'!AG22/8,0.5) -> 0 | C51: =IF('11'!AG14>0,'11'!A14&"; ","")&IF('11'!AG15>0,'11'!A15&"; ","")&IF('11'!AG16>0,'11'!A16&"; ","")&IF('11'!AG17>0,'11'!A17&"; ","")&IF('11'!AG18>0,'11'!A18&"; ","")&IF('11'!AG19>0,'11'!A19&"; ","")&IF('11'!AG20>0,'11'!A20&"; ","")&IF('11'!AG21>0,'11'!A21&"; ","") | D51: Signature: | E51: Name:
E52: Signature:
...

Sheet guidelines
A1: Guidelines Timesheets for an Horizon 2020 Action
A3: Conditions for reimbursement of personnel costs in Horizon 2020:
A4: - Personnel must be hired directly by the beneficiary, here the University of Oslo.
A5: - Personnel must work under the sole technical supervision and responsibility of the beneficiary.
A6: - The beneficiary may include in its personnel costs “permanent or temporary employees”, who have permanent or temporary working contracts.
A7: - Personnel costs should reflect the total remuneration: Salaries plus social security charges.
A9: For persons who do NOT work exclusively for the action, the beneficiaries must show the actual hours worked, with reliable time records (i.e. time-sheets).
A11: Time records must be dated and signed at least monthly by the person working for the action and his/her supervisor.
A13: Information included in timesheets must match records of annual and sick leave taken, and work-related travel registered I UiOs HR-portal.
A15: Time records should include:
A16: - the title and number of the action, as specified in the GA
A17: - the beneficiary’s full name, as specified in the GA
... A41: This information only provides a cursory overview and is not complete. New factors may always arise during the course of a funding program. If you have further queries, please contact the central EU-Office (eu-office@admin.uio.no).

Sheet Grunndata
A1: Offentlige fridager | B1: År
A2: 45292 | B2: 2026
A3: 46114
A4: 46115
A5: 46118
A6: 45778
A7: 45791
A8: 45802
A9: 46016
A10: 46017
A18: Holidays 2026
A19: 45292
A20: 46114
A21: 46115
A22: 46118
A23: 45778
A24: 45791
A25: 45802
A26: 46016
A27: 46017

Sheet Sheet2

Sheet Sheet1

Sheet Sheet3
F15: LTB_UiO
