Workbook
Name Europeisk_entralbank: 'Budget for the contract'!$D$3
Name Europeisk_Sentralbank: 'Budget for the contract'!$D$3
Name valutakalkulator: Registrering!$K$21

Sheet Registrering
B1: Søknadsbudsjetteringsmal
B3: Prosjektinformasjon
B4: Prosjekttittel*
B5: Prosjektleder*
B6: Prosjekteier (institutt mv)*
B7: Institutt-/senterleder mv*
B8: Prosjektnummer (om opprettet)
B9: Saksnummer i ephorte (om opprettet)
B10: Kort begrunnelse for prosjektes faglige interesse. *
B15: Prosjektperiode
B16: Dato (etablering av budsjettet)
B17: Første budsjettår (oppstartsår)*
... B19: Prosjektets (avtaleperioden) slutt*
B20: Prosjektets slutt (etter endring) | F20: Beregning av valuta etter vedtatt modell for valutapolicy:
B21: Informasjon om finansiering | F21: Snittkurs 01.09.2022 - 01.09.2024 | I21: 11.29 | J21: se link: | K21: valutapolicy
B22: Navn på finansieringskilde(r) | C22: EU's rammeprogram (Horizon Europa) | F22: fratrekk risikofaktor | I22: 0.25
B23: Valutakurs (må forankres hos instituttleder) | C23: =IF(I24="",I23,I24) -> 11.04 | F23: Policykurs for innev. Periode | I23: =I21-I22 -> 11.04
B24: Prosjektkategorisering ( Bidrag) | F24: Eventuell manuell overstyring:
B25: Finansieringsprinsipp | C25: Kostnadsspesifikk
B26: Finansieringstype | C26: Fast beløp | E26: Vit. | F26: T/A
B27: Prosjekttype (overheadkostnader)* | C27: Prosjekter som foregår i UiOs lokaler | E27: =IF(Registrering!C27="",0,VLOOKUP(Registrering!C27,Tabeller!$G$6:$J$11,2,FALSE)) -> 465000 | F27: =IF(Registrering!C27="",0,VLOOKUP(Registrering!C27,Tabeller!$G$6:$J$11,3,FALSE)) -> 142000
B28: Pris- lønnsjustering | D28: 2024 | E28: fremtid
B29: Årlig lønnsjustering i hele prosjektperioden | C29: Ja | D29: 0.049 | E29: 0.035 | G29: Lønnsjustering vil gjelder i alle årene i projektetes levetid

Sheet Finansiering
A1: Finansiering:
A2: Prosjekt: | B2: =IF(Registrering!C4="","",Registrering!C4)
A5: Fast eksternt beløp | C5: Legg inntekter inn med minus-fortegn
B6: Navn | C6: =Budsjett!F3 -> Periode 1 (1-18 month) | D6: =Budsjett!G3 -> Periode 2 (19-36 month) | E6: =Budsjett!H3 -> Periode 3 (37-54 month) | F6: =Budsjett!I3 -> Periode 4 (55-60 (72) month) | G6: Sum | H6: % andel
A7: EU - finansiering | C7: =IFERROR('Budget for the contract'!B23,"") -> 0 | D7: =IFERROR('Budget for the contract'!C23,"") -> 0 | E7: =IFERROR('Budget for the contract'!D23,"") -> 0 | F7: =IFERROR('Budget for the contract'!E23,"") -> 0 | G7: =SUM(C7:F7) -> 0 | H7: =IFERROR(G7/$G$9*100,0) -> 0
A8: Annen finansiering | G8: =SUM(C8:F8) -> 0 | H8: =IFERROR(G8/$G$9*100,0) -> 0
A9: SUM eksternt inntekt | C9: =SUM(C7:C8) -> 0 | D9: =SUM(D7:D8) -> 0 | E9: =SUM(E7:E8) -> 0 | F9: =SUM(F7:F8) -> 0 | G9: =SUM(C9:F9) -> 0 | H9: =IFERROR(G9/$G$9*100,0) -> 0

Sheet Budsjett
A1: Prosjekttittel: | D1: =IF(Registrering!$C$4="","",Registrering!$C$4) | AL1: LØNNS- OG DRIFTSKOSTNADER | AQ1: OVERHEADKOSTNADER | AW1: Eksternt finansiert overhead | BC1: Internt finansiert overhead | BO1: EU | BV1: Egenandel
A2: Prosjektansatte - dekkes av prosjektbevilgning | F2: REGISTRER ÅRSVERK | K2: Alle beløp er angitt i hele kroner | BH2: Ekstern finansiering
A3: Prosjektansatte | B3: Stillingskategori iht EU's terminologi | C3: Finansiør | D3: Årslønn | E3: Navn | F3: Periode 1 (1-18 month) | G3: Periode 2 (19-36 month) | H3: Periode 3 (37-54 month) | I3: Periode 4 (55-60 (72) month) | J3: Sum årsv | K3: Lønn og sos. kostnader | L3: Overhead | M3: Totalt | Z3: Gj.snitt. Ltr | AA3: Bruttolønn | AB3: inkl lønnsv. | AC3: Lønn | AD3: Feriep | AE3: AGA | AF3: Pensjon | AG3: inkl sos.avg. | AH3: inkl. ind.kost. | AI3: Timesats | AL3: =F3 -> Periode 1 (1-18 month) | AM3: =G3 -> Periode 2 (19-36 month) | AN3: =H3 -> Periode 3 (37-54 month) | AO3: =I3 -> Periode 4 (55-60 (72) month) | AQ3: =AL3 -> Periode 1 (1-18 month) | AR3: =AM3 -> Periode 2 (19-36 month) | AS3: =AN3 -> Periode 3 (37-54 month) | AT3: =AO3 -> Periode 4 (55-60 (72) month) | AW3: =AQ3 -> Periode 1 (1-18 month) | AX3: =AR3 -> Periode 2 (19-36 month) | AY3: =AS3 -> Periode 3 (37-54 month) | AZ3: =AT3 -> Periode 4 (55-60 (72) month) | BC3: =F3 -> Periode 1 (1-18 month) | BD3: =G3 -> Periode 2 (19-36 month) | BE3: =H3 -> Periode 3 (37-54 month) | BF3: =I3 -> Periode 4 (55-60 (72) month) | BP3: =F3 -> Periode 1 (1-18 month) | BQ3: =G3 -> Periode 2 (19-36 month) | BR3: =H3 -> Periode 3 (37-54 month) | BS3: =I3 -> Periode 4 (55-60 (72) month) | BT3: =J3 -> Sum årsv | BW3: =F3 -> Periode 1 (1-18 month) | BX3: =G3 -> Periode 2 (19-36 month) | BY3: =H3 -> Periode 3 (37-54 month) | BZ3: =I3 -> Periode 4 (55-60 (72) month) | CA3: =J3 -> Sum årsv
B4: =VLOOKUP(A4,Tabeller!$W$15:$Z$23,4,FALSE) -> #N/A | C4: EU | J4: =SUM(F4:I4) -> 0 | K4: =SUM(AL4:AO4) -> 0 | L4: =IFERROR(SUM(AQ4:AT4),0) -> 0 | M4: =SUM(K4:L4) -> 0 | Z4: =D4 -> 0 | AA4: =Z4*Tabeller!I$33 -> 0 | AB4: =AA4*Tabeller!$I$35 -> 0 | AC4: =IF(AA4>0,(AB4-400)/52*47,0) -> 0 | AD4: =AC4*Tabeller!$H$24 -> 0 | AE4: =SUM(AC4:AD4,AF4)*Tabeller!$H$25 -> 0 | AF4: =AB4*Tabeller!$H$26 -> 0 | AG4: =SUM(AC4:AF4) -> 0 | AH4: =AG4+(Registrering!$E$27) -> 465000 | AI4: =AH4/Tabeller!$H$3 -> 270.34884 | AL4: =((F4*Budsjett!$AG4)) -> 0 | AM4: =((G4*Budsjett!$AG4)*(Tabeller!J$33)) -> 0 | AN4: =((H4*Budsjett!$AG4)*(Tabeller!J$33*Tabeller!J$34)) -> 0 | AO4: =((I4*Budsjett!$AG4)*(Tabeller!J$33*Tabeller!J$34*Tabeller!J$34)) -> 0 | AQ4: =IFERROR(AL4*Budsjett!$G$54,0) -> 0 | AR4: =IFERROR(AM4*Budsjett!$G$54,0) -> 0 | AS4: =IFERROR(AN4*Budsjett!$G$54,0) -> 0 | AT4: =IFERROR(AO4*Budsjett!$G$54,0) -> 0 | AW4: =IFERROR(AL4*Budsjett!AW$55,0) -> 0 | AX4: =IFERROR(AM4*Budsjett!AX$55,0) -> 0 | AY4: =IFERROR(AN4*Budsjett!AY$55,0) -> 0 | AZ4: =IFERROR(AO4*Budsjett!AZ$55,0) -> 0 | BC4: =AQ4-AW4 -> 0 | BD4: =AR4-AX4 -> 0 | BE4: =AS4-AY4 -> 0 | BF4: =AT4-AZ4 -> 0 | BH4: Totale kostnader | BI4: =AL35+AL47+AQ35 -> 0 | BJ4: =AM35+AM47+AR35 -> 0 | BK4: =AN35+AN47+AS35 -> 0 | BL4: =AO35+AO47+AT35 -> 0 | BM4: =AP35+AP47+AU35 -> 0 | BO4: =A4 -> 0 | BP4: =IF($C4=$BO$1,AL4,0) -> 0 | BQ4: =IF($C4=$BO$1,AM4,0) -> 0 | BR4: =IF($C4=$BO$1,AN4,0) -> 0 | BS4: =IF($C4=$BO$1,AO4,0) -> 0 | BT4: =SUM(BP4:BS4) -> 0 | BV4: =A4 -> 0 | CA4: =SUM(BW4:BZ4) -> 0
B5: =VLOOKUP(A5,Tabeller!$W$15:$Z$23,4,FALSE) -> #N/A | C5: EU | J5: =SUM(F5:I5) -> 0 | K5: =SUM(AL5:AO5) -> 0 | L5: =IFERROR(SUM(AQ5:AT5),0) -> 0 | M5: =SUM(K5:L5) -> 0 | Z5: =D5 -> 0 | AA5: =Z5*Tabeller!I$33 -> 0 | AB5: =AA5*Tabeller!$I$35 -> 0 | AC5: =IF(AA5>0,(AB5-400)/52*47,0) -> 0 | AD5: =AC5*Tabeller!$H$24 -> 0 | AE5: =SUM(AC5:AD5,AF5)*Tabeller!$H$25 -> 0 | AF5: =AB5*Tabeller!$H$26 -> 0 | AG5: =SUM(AC5:AF5) -> 0 | AH5: =AG5+(Registrering!$E$27) -> 465000 | AI5: =AH5/Tabeller!$H$3 -> 270.34884 | AL5: =((F5*Budsjett!$AG5)) -> 0 | AM5: =((G5*Budsjett!$AG5)*(Tabeller!J$33)) -> 0 | AN5: =((H5*Budsjett!$AG5)*(Tabeller!J$33*Tabeller!J$34)) -> 0 | AO5: =((I5*Budsjett!$AG5)*(Tabeller!J$33*Tabeller!J$34*Tabeller!J$34)) -> 0 | AQ5: =IFERROR(AL5*Budsjett!$G$54,0) -> 0 | AR5: =IFERROR(AM5*Budsjett!$G$54,0) -> 0 | AS5: =IFERROR(AN5*Budsjett!$G$54,0) -> 0 | AT5: =IFERROR(AO5*Budsjett!$G$54,0) -> 0 | AW5: =IFERROR(AL5*Budsjett!AW$55,0) -> 0 | AX5: =IFERROR(AM5*Budsjett!AX$55,0) -> 0 | AY5: =IFERROR(AN5*Budsjett!AY$55,0) -> 0 | AZ5: =IFERROR(AO5*Budsjett!AZ$55,0) -> 0 | BC5: =AQ5-AW5 -> 0 | BD5: =AR5-AX5 -> 0 | BE5: =AS5-AY5 -> 0 | BF5: =AT5-AZ5 -> 0 | BH5: Fast beløp | BI5: =Finansiering!C9 -> 0 | BJ5: =Finansiering!D9 -> 0 | BK5: =Finansiering!E9 -> 0 | BL5: =Finansiering!F9 -> 0 | BM5: =Finansiering!G9 -> 0 | BO5: =A5 -> 0 | BP5: =IF($C5=$BO$1,AL5,0) -> 0 | BQ5: =IF($C5=$BO$1,AM5,0) -> 0 | BR5: =IF($C5=$BO$1,AN5,0) -> 0 | BS5: =IF($C5=$BO$1,AO5,0) -> 0 | BT5: =SUM(BP5:BS5) -> 0 | BV5: =A5 -> 0 | CA5: =SUM(BW5:BZ5) -> 0
B6: =VLOOKUP(A6,Tabeller!$W$15:$Z$23,4,FALSE) -> #N/A | C6: EU | J6: =SUM(F6:I6) -> 0 | K6: =SUM(AL6:AO6) -> 0 | L6: =IFERROR(SUM(AQ6:AT6),0) -> 0 | M6: =SUM(K6:L6) -> 0 | Z6: =D6 -> 0 | AA6: =Z6*Tabeller!I$33 -> 0 | AB6: =AA6*Tabeller!$I$35 -> 0 | AC6: =IF(AA6>0,(AB6-400)/52*47,0) -> 0 | AD6: =AC6*Tabeller!$H$24 -> 0 | AE6: =SUM(AC6:AD6,AF6)*Tabeller!$H$25 -> 0 | AF6: =AB6*Tabeller!$H$26 -> 0 | AG6: =SUM(AC6:AF6) -> 0 | AH6: =AG6+(Registrering!$E$27) -> 465000 | AI6: =AH6/Tabeller!$H$3 -> 270.34884 | AL6: =((F6*Budsjett!$AG6)) -> 0 | AM6: =((G6*Budsjett!$AG6)*(Tabeller!J$33)) -> 0 | AN6: =((H6*Budsjett!$AG6)*(Tabeller!J$33*Tabeller!J$34)) -> 0 | AO6: =((I6*Budsjett!$AG6)*(Tabeller!J$33*Tabeller!J$34*Tabeller!J$34)) -> 0 | AQ6: =IFERROR(AL6*Budsjett!$G$54,0) -> 0 | AR6: =IFERROR(AM6*Budsjett!$G$54,0) -> 0 | AS6: =IFERROR(AN6*Budsjett!$G$54,0) -> 0 | AT6: =IFERROR(AO6*Budsjett!$G$54,0) -> 0 | AW6: =IFERROR(AL6*Budsjett!AW$55,0) -> 0 | AX6: =IFERROR(AM6*Budsjett!AX$55,0) -> 0 | AY6: =IFERROR(AN6*Budsjett!AY$55,0) -> 0 | AZ6: =IFERROR(AO6*Budsjett!AZ$55,0) -> 0 | BC6: =AQ6-AW6 -> 0 | BD6: =AR6-AX6 -> 0 | BE6: =AS6-AY6 -> 0 | BF6: =AT6-AZ6 -> 0 | BH6: Sum Egenandel | BI6: =-(AL28+BC35+BW41) -> 0 | BJ6: =-(AM28+BD35+BX41) -> 0 | BK6: =-(AN28+BE35+BY41) -> 0 | BL6: =-(AO28+BF35+BZ41) -> 0 | BM6: =SUM(BI6:BL6) -> 0 | BO6: =A6 -> 0 | BP6: =IF($C6=$BO$1,AL6,0) -> 0 | BQ6: =IF($C6=$BO$1,AM6,0) -> 0 | BR6: =IF($C6=$BO$1,AN6,0) -> 0 | BS6: =IF($C6=$BO$1,AO6,0) -> 0 | BT6: =SUM(BP6:BS6) -> 0 | BV6: =A6 -> 0 | CA6: =SUM(BW6:BZ6) -> 0
B7: =VLOOKUP(A7,Tabeller!$W$15:$Z$23,4,FALSE) -> #N/A | C7: EU | J7: =SUM(F7:I7) -> 0 | K7: =SUM(AL7:AO7) -> 0 | L7: =IFERROR(SUM(AQ7:AT7),0) -> 0 | M7: =SUM(K7:L7) -> 0 | O7: =(Budsjett!M38+Budsjett!M40) -> 0 | Z7: =D7 -> 0 | AA7: =Z7*Tabeller!I$33 -> 0 | AB7: =AA7*Tabeller!$I$35 -> 0 | AC7: =IF(AA7>0,(AB7-400)/52*47,0) -> 0 | AD7: =AC7*Tabeller!$H$24 -> 0 | AE7: =SUM(AC7:AD7,AF7)*Tabeller!$H$25 -> 0 | AF7: =AB7*Tabeller!$H$26 -> 0 | AG7: =SUM(AC7:AF7) -> 0 | AH7: =AG7+(Registrering!$E$27) -> 465000 | AI7: =AH7/Tabeller!$H$3 -> 270.34884 | AL7: =((F7*Budsjett!$AG7)) -> 0 | AM7: =((G7*Budsjett!$AG7)*(Tabeller!J$33)) -> 0 | AN7: =((H7*Budsjett!$AG7)*(Tabeller!J$33*Tabeller!J$34)) -> 0 | AO7: =((I7*Budsjett!$AG7)*(Tabeller!J$33*Tabeller!J$34*Tabeller!J$34)) -> 0 | AQ7: =IFERROR(AL7*Budsjett!$G$54,0) -> 0 | AR7: =IFERROR(AM7*Budsjett!$G$54,0) -> 0 | AS7: =IFERROR(AN7*Budsjett!$G$54,0) -> 0 | AT7: =IFERROR(AO7*Budsjett!$G$54,0) -> 0 | AW7: =IFERROR(AL7*Budsjett!AW$55,0) -> 0 | AX7: =IFERROR(AM7*Budsjett!AX$55,0) -> 0 | AY7: =IFERROR(AN7*Budsjett!AY$55,0) -> 0 | AZ7: =IFERROR(AO7*Budsjett!AZ$55,0) -> 0 | BC7: =AQ7-AW7 -> 0 | BD7: =AR7-AX7 -> 0 | BE7: =AS7-AY7 -> 0 | BF7: =AT7-AZ7 -> 0 | BO7: =A7 -> 0 | BP7: =IF($C7=$BO$1,AL7,0) -> 0 | BQ7: =IF($C7=$BO$1,AM7,0) -> 0 | BR7: =IF($C7=$BO$1,AN7,0) -> 0 | BS7: =IF($C7=$BO$1,AO7,0) -> 0 | BT7: =SUM(BP7:BS7) -> 0 | BV7: =A7 -> 0 | CA7: =SUM(BW7:BZ7) -> 0
B8: =VLOOKUP(A8,Tabeller!$W$15:$Z$23,4,FALSE) -> #N/A | C8: EU | J8: =SUM(F8:I8) -> 0 | K8: =SUM(AL8:AO8) -> 0 | L8: =IFERROR(SUM(AQ8:AT8),0) -> 0 | M8: =SUM(K8:L8) -> 0 | Z8: =D8 -> 0 | AA8: =Z8*Tabeller!I$33 -> 0 | AB8: =AA8*Tabeller!$I$35 -> 0 | AC8: =IF(AA8>0,(AB8-400)/52*47,0) -> 0 | AD8: =AC8*Tabeller!$H$24 -> 0 | AE8: =SUM(AC8:AD8,AF8)*Tabeller!$H$25 -> 0 | AF8: =AB8*Tabeller!$H$26 -> 0 | AG8: =SUM(AC8:AF8) -> 0 | AH8: =AG8+(Registrering!$E$27) -> 465000 | AI8: =AH8/Tabeller!$H$3 -> 270.34884 | AL8: =((F8*Budsjett!$AG8)) -> 0 | AM8: =((G8*Budsjett!$AG8)*(Tabeller!J$33)) -> 0 | AN8: =((H8*Budsjett!$AG8)*(Tabeller!J$33*Tabeller!J$34)) -> 0 | AO8: =((I8*Budsjett!$AG8)*(Tabeller!J$33*Tabeller!J$34*Tabeller!J$34)) -> 0 | AQ8: =IFERROR(AL8*Budsjett!$G$54,0) -> 0 | AR8: =IFERROR(AM8*Budsjett!$G$54,0) -> 0 | AS8: =IFERROR(AN8*Budsjett!$G$54,0) -> 0 | AT8: =IFERROR(AO8*Budsjett!$G$54,0) -> 0 | AW8: =IFERROR(AL8*Budsjett!AW$55,0) -> 0 | AX8: =IFERROR(AM8*Budsjett!AX$55,0) -> 0 | AY8: =IFERROR(AN8*Budsjett!AY$55,0) -> 0 | AZ8: =IFERROR(AO8*Budsjett!AZ$55,0) -> 0 | BC8: =AQ8-AW8 -> 0 | BD8: =AR8-AX8 -> 0 | BE8: =AS8-AY8 -> 0 | BF8: =AT8-AZ8 -> 0 | BO8: =A8 -> 0 | BP8: =IF($C8=$BO$1,AL8,0) -> 0 | BQ8: =IF($C8=$BO$1,AM8,0) -> 0 | BR8: =IF($C8=$BO$1,AN8,0) -> 0 | BS8: =IF($C8=$BO$1,AO8,0) -> 0 | BT8: =SUM(BP8:BS8) -> 0 | BV8: =A8 -> 0 | CA8: =SUM(BW8:BZ8) -> 0
B9: =VLOOKUP(A9,Tabeller!$W$15:$Z$23,4,FALSE) -> #N/A | C9: EU | J9: =SUM(F9:I9) -> 0 | K9: =SUM(AL9:AO9) -> 0 | L9: =IFERROR(SUM(AQ9:AT9),0) -> 0 | M9: =SUM(K9:L9) -> 0 | Z9: =D9 -> 0 | AA9: =Z9*Tabeller!I$33 -> 0 | AB9: =AA9*Tabeller!$I$35 -> 0 | AC9: =IF(AA9>0,(AB9-400)/52*47,0) -> 0 | AD9: =AC9*Tabeller!$H$24 -> 0 | AE9: =SUM(AC9:AD9,AF9)*Tabeller!$H$25 -> 0 | AF9: =AB9*Tabeller!$H$26 -> 0 | AG9: =SUM(AC9:AF9) -> 0 | AH9: =AG9+(Registrering!$E$27) -> 465000 | AI9: =AH9/Tabeller!$H$3 -> 270.34884 | AL9: =((F9*Budsjett!$AG9)) -> 0 | AM9: =((G9*Budsjett!$AG9)*(Tabeller!J$33)) -> 0 | AN9: =((H9*Budsjett!$AG9)*(Tabeller!J$33*Tabeller!J$34)) -> 0 | AO9: =((I9*Budsjett!$AG9)*(Tabeller!J$33*Tabeller!J$34*Tabeller!J$34)) -> 0 | AQ9: =IFERROR(AL9*Budsjett!$G$54,0) -> 0 | AR9: =IFERROR(AM9*Budsjett!$G$54,0) -> 0 | AS9: =IFERROR(AN9*Budsjett!$G$54,0) -> 0 | AT9: =IFERROR(AO9*Budsjett!$G$54,0) -> 0 | AW9: =IFERROR(AL9*Budsjett!AW$55,0) -> 0 | AX9: =IFERROR(AM9*Budsjett!AX$55,0) -> 0 | AY9: =IFERROR(AN9*Budsjett!AY$55,0) -> 0 | AZ9: =IFERROR(AO9*Budsjett!AZ$55,0) -> 0 | BC9: =AQ9-AW9 -> 0 | BD9: =AR9-AX9 -> 0 | BE9: =AS9-AY9 -> 0 | BF9: =AT9-AZ9 -> 0 | BO9: =A9 -> 0 | BP9: =IF($C9=$BO$1,AL9,0) -> 0 | BQ9: =IF($C9=$BO$1,AM9,0) -> 0 | BR9: =IF($C9=$BO$1,AN9,0) -> 0 | BS9: =IF($C9=$BO$1,AO9,0) -> 0 | BT9: =SUM(BP9:BS9) -> 0 | BV9: =A9 -> 0 | CA9: =SUM(BW9:BZ9) -> 0
B10: =VLOOKUP(A10,Tabeller!$W$15:$Z$23,4,FALSE) -> #N/A | C10: EU | J10: =SUM(F10:I10) -> 0 | K10: =SUM(AL10:AO10) -> 0 | L10: =IFERROR(SUM(AQ10:AT10),0) -> 0 | M10: =SUM(K10:L10) -> 0 | Z10: =D10 -> 0 | AA10: =Z10*Tabeller!I$33 -> 0 | AB10: =AA10*Tabeller!$I$35 -> 0 | AC10: =IF(AA10>0,(AB10-400)/52*47,0) -> 0 | AD10: =AC10*Tabeller!$H$24 -> 0 | AE10: =SUM(AC10:AD10,AF10)*Tabeller!$H$25 -> 0 | AF10: =AB10*Tabeller!$H$26 -> 0 | AG10: =SUM(AC10:AF10) -> 0 | AH10: =AG10+(Registrering!$E$27) -> 465000 | AI10: =AH10/Tabeller!$H$3 -> 270.34884 | AL10: =((F10*Budsjett!$AG10)) -> 0 | AM10: =((G10*Budsjett!$AG10)*(Tabeller!J$33)) -> 0 | AN10: =((H10*Budsjett!$AG10)*(Tabeller!J$33*Tabeller!J$34)) -> 0 | AO10: =((I10*Budsjett!$AG10)*(Tabeller!J$33*Tabeller!J$34*Tabeller!J$34)) -> 0 | AQ10: =IFERROR(AL10*Budsjett!$G$54,0) -> 0 | AR10: =IFERROR(AM10*Budsjett!$G$54,0) -> 0 | AS10: =IFERROR(AN10*Budsjett!$G$54,0) -> 0 | AT10: =IFERROR(AO10*Budsjett!$G$54,0) -> 0 | AW10: =IFERROR(AL10*Budsjett!AW$55,0) -> 0 | AX10: =IFERROR(AM10*Budsjett!AX$55,0) -> 0 | AY10: =IFERROR(AN10*Budsjett!AY$55,0) -> 0 | AZ10: =IFERROR(AO10*Budsjett!AZ$55,0) -> 0 | BC10: =AQ10-AW10 -> 0 | BD10: =AR10-AX10 -> 0 | BE10: =AS10-AY10 -> 0 | BF10: =AT10-AZ10 -> 0 | BO10: =A10 -> 0 | BP10: =IF($C10=$BO$1,AL10,0) -> 0 | BQ10: =IF($C10=$BO$1,AM10,0) -> 0 | BR10: =IF($C10=$BO$1,AN10,0) -> 0 | BS10: =IF($C10=$BO$1,AO10,0) -> 0 | BT10: =SUM(BP10:BS10) -> 0 | BV10: =A10 -> 0 | CA10: =SUM(BW10:BZ10) -> 0
B11: =VLOOKUP(A11,Tabeller!$W$15:$Z$23,4,FALSE) -> #N/A | C11: EU | J11: =SUM(F11:I11) -> 0 | K11: =SUM(AL11:AO11) -> 0 | L11: =IFERROR(SUM(AQ11:AT11),0) -> 0 | M11: =SUM(K11:L11) -> 0 | Z11: =D11 -> 0 | AA11: =Z11*Tabeller!I$33 -> 0 | AB11: =AA11*Tabeller!$I$35 -> 0 | AC11: =IF(AA11>0,(AB11-400)/52*47,0) -> 0 | AD11: =AC11*Tabeller!$H$24 -> 0 | AE11: =SUM(AC11:AD11,AF11)*Tabeller!$H$25 -> 0 | AF11: =AB11*Tabeller!$H$26 -> 0 | AG11: =SUM(AC11:AF11) -> 0 | AH11: =AG11+(Registrering!$E$27) -> 465000 | AI11: =AH11/Tabeller!$H$3 -> 270.34884 | AL11: =((F11*Budsjett!$AG11)) -> 0 | AM11: =((G11*Budsjett!$AG11)*(Tabeller!J$33)) -> 0 | AN11: =((H11*Budsjett!$AG11)*(Tabeller!J$33*Tabeller!J$34)) -> 0 | AO11: =((I11*Budsjett!$AG11)*(Tabeller!J$33*Tabeller!J$34*Tabeller!J$34)) -> 0 | AQ11: =IFERROR(AL11*Budsjett!$G$54,0) -> 0 | AR11: =IFERROR(AM11*Budsjett!$G$54,0) -> 0 | AS11: =IFERROR(AN11*Budsjett!$G$54,0) -> 0 | AT11: =IFERROR(AO11*Budsjett!$G$54,0) -> 0 | AW11: =IFERROR(AL11*Budsjett!AW$55,0) -> 0 | AX11: =IFERROR(AM11*Budsjett!AX$55,0) -> 0 | AY11: =IFERROR(AN11*Budsjett!AY$55,0) -> 0 | AZ11: =IFERROR(AO11*Budsjett!AZ$55,0) -> 0 | BC11: =AQ11-AW11 -> 0 | BD11: =AR11-AX11 -> 0 | BE11: =AS11-AY11 -> 0 | BF11: =AT11-AZ11 -> 0 | BO11: =A11 -> 0 | BP11: =IF($C11=$BO$1,AL11,0) -> 0 | BQ11: =IF($C11=$BO$1,AM11,0) -> 0 | BR11: =IF($C11=$BO$1,AN11,0) -> 0 | BS11: =IF($C11=$BO$1,AO11,0) -> 0 | BT11: =SUM(BP11:BS11) -> 0 | BV11: =A11 -> 0 | CA11: =SUM(BW11:BZ11) -> 0
A12: Sum | F12: =SUM(F4:F11) -> 0 | G12: =SUM(G4:G11) -> 0 | H12: =SUM(H4:H11) -> 0 | I12: =SUM(I4:I11) -> 0 | J12: =SUM(J4:J11) -> 0 | K12: =SUM(K4:K11) -> 0 | L12: =SUM(L4:L11) -> 0 | M12: =SUM(M4:M11) -> 0 | AL12: =SUM(AL4:AL11) -> 0 | AM12: =SUM(AM4:AM11) -> 0 | AN12: =SUM(AN4:AN11) -> 0 | AO12: =SUM(AO4:AO11) -> 0 | AP12: =SUM(AL12:AO12) -> 0 | AQ12: =SUM(AQ4:AQ11) -> 0 | AR12: =SUM(AR4:AR11) -> 0 | AS12: =SUM(AS4:AS11) -> 0 | AT12: =SUM(AT4:AT11) -> 0 | AU12: =SUM(AQ12:AT12) -> 0 | AW12: =SUM(AW4:AW11) -> 0 | AX12: =SUM(AX4:AX11) -> 0 | AY12: =SUM(AY4:AY11) -> 0 | AZ12: =SUM(AZ4:AZ11) -> 0 | BA12: =SUM(AW12:AZ12) -> 0 | BC12: =SUM(BC4:BC11) -> 0 | BD12: =SUM(BD4:BD11) -> 0 | BE12: =SUM(BE4:BE11) -> 0 | BF12: =SUM(BF4:BF11) -> 0 | BO12: =A12 -> Sum | BP12: =SUM(BP4:BP11) -> 0 | BQ12: =SUM(BQ4:BQ11) -> 0 | BR12: =SUM(BR4:BR11) -> 0 | BS12: =SUM(BS4:BS11) -> 0 | BT12: =SUM(BP12:BS12) -> 0 | BV12: =A12 -> Sum | BW12: =SUM(BW4:BW11) -> 0 | BX12: =SUM(BX4:BX11) -> 0 | BY12: =SUM(BY4:BY11) -> 0 | BZ12: =SUM(BZ4:BZ11) -> 0 | CA12: =SUM(BW12:BZ12) -> 0
A13: Eksisterende ansatte - dekkes av prosjektbevilgning | F13: REGISTRER ÅRSVERK | BO13: =A13 -> Eksisterende ansatte - dekkes av prosjektbevilgning | BV13: =A13 -> Eksisterende ansatte - dekkes av prosjektbevilgning
A14: Frikjøp art 5892 | B14: Stillingskategori iht EU's terminologi | D14: Årslønn | E14: Navn | F14: =F3 -> Periode 1 (1-18 month) | G14: =G3 -> Periode 2 (19-36 month) | H14: =H3 -> Periode 3 (37-54 month) | I14: =I3 -> Periode 4 (55-60 (72) month) | J14: Sum | K14: Lønn og sos. kostnader | L14: Overhead | M14: Totalt | Z14: Gj.snitt. Ltr | AA14: Bruttolønn | AB14: inkl lønnsv. | AC14: Lønn | AD14: Feriep | AE14: AGA | AF14: Pensjon | AG14: inkl sos.avg. | AH14: inkl. ind.kost. | AI14: Timesats | AL14: =F14 -> Periode 1 (1-18 month) | AM14: =G14 -> Periode 2 (19-36 month) | AN14: =H14 -> Periode 3 (37-54 month) | AO14: =I14 -> Periode 4 (55-60 (72) month) | AQ14: =AL14 -> Periode 1 (1-18 month) | AR14: =AM14 -> Periode 2 (19-36 month) | AS14: =AN14 -> Periode 3 (37-54 month) | AT14: =AO14 -> Periode 4 (55-60 (72) month) | AW14: =AQ14 -> Periode 1 (1-18 month) | AX14: =AR14 -> Periode 2 (19-36 month) | AY14: =AS14 -> Periode 3 (37-54 month) | AZ14: =AT14 -> Periode 4 (55-60 (72) month) | BC14: =F3 -> Periode 1 (1-18 month) | BD14: =G3 -> Periode 2 (19-36 month) | BE14: =H3 -> Periode 3 (37-54 month) | BF14: =I3 -> Periode 4 (55-60 (72) month) | BO14: =A14 -> Frikjøp art 5892 | BP14: =BP3 -> Periode 1 (1-18 month) | BQ14: =BQ3 -> Periode 2 (19-36 month) | BR14: =BR3 -> Periode 3 (37-54 month) | BS14: =BS3 -> Periode 4 (55-60 (72) month) | BT14: =BT3 -> Sum årsv | BV14: =A14 -> Frikjøp art 5892 | BW14: =BW3 -> Periode 1 (1-18 month) | BX14: =BX3 -> Periode 2 (19-36 month) | BY14: =BY3 -> Periode 3 (37-54 month) | BZ14: =BZ3 -> Periode 4 (55-60 (72) month) | CA14: =CA3 -> Sum årsv
B15: =VLOOKUP(A15,Tabeller!$W$15:$Z$23,4,FALSE) -> #N/A | C15: EU | J15: =SUM(F15:I15) -> 0 | K15: =SUM(AL15:AO15) -> 0 | L15: =IFERROR(SUM(AQ15:AT15),0) -> 0 | M15: =SUM(K15:L15) -> 0 | Z15: =D15 -> 0 | AA15: =Z15*Tabeller!I$33 -> 0 | AB15: =AA15*Tabeller!$I$35 -> 0 | AC15: =IF(AA15>0,(AB15-400)/52*47,0) -> 0 | AD15: =AC15*Tabeller!$H$24 -> 0 | AE15: =SUM(AC15:AD15,AF15)*Tabeller!$H$25 -> 0 | AF15: =AB15*Tabeller!$H$26 -> 0 | AG15: =SUM(AC15:AF15) -> 0 | AH15: =AG15+(Registrering!$E$27) -> 465000 | AI15: =AH15/Tabeller!$H$3 -> 270.34884 | AL15: =((F15*Budsjett!$AG15)) -> 0 | AM15: =((G15*Budsjett!$AG15)*(Tabeller!J$33)) -> 0 | AN15: =((H15*Budsjett!$AG15)*(Tabeller!J$33*Tabeller!J$34)) -> 0 | AO15: =((I15*Budsjett!$AG15)*(Tabeller!J$33*Tabeller!J$34*Tabeller!J$34)) -> 0 | AQ15: =IFERROR(AL15*Budsjett!$G$54,0) -> 0 | AR15: =IFERROR(AM15*Budsjett!$G$54,0) -> 0 | AS15: =IFERROR(AN15*Budsjett!$G$54,0) -> 0 | AT15: =IFERROR(AO15*Budsjett!$G$54,0) -> 0 | AW15: =IFERROR(AL15*Budsjett!AW$55,0) -> 0 | AX15: =IFERROR(AM15*Budsjett!AX$55,0) -> 0 | AY15: =IFERROR(AN15*Budsjett!AY$55,0) -> 0 | AZ15: =IFERROR(AO15*Budsjett!AZ$55,0) -> 0 | BC15: =AQ15-AW15 -> 0 | BD15: =AR15-AX15 -> 0 | BE15: =AS15-AY15 -> 0 | BF15: =AT15-AZ15 -> 0 | BO15: =A15 -> 0 | BP15: =IF($C15=$BO$1,AL15,0) -> 0 | BQ15: =IF($C15=$BO$1,AM15,0) -> 0 | BR15: =IF($C15=$BO$1,AN15,0) -> 0 | BS15: =IF($C15=$BO$1,AO15,0) -> 0 | BT15: =SUM(BP15:BS15) -> 0 | BV15: =A15 -> 0 | CA15: =SUM(BW15:BZ15) -> 0
B16: =VLOOKUP(A16,Tabeller!$W$15:$Z$23,4,FALSE) -> #N/A | C16: EU | J16: =SUM(F16:I16) -> 0 | K16: =SUM(AL16:AO16) -> 0 | L16: =IFERROR(SUM(AQ16:AT16),0) -> 0 | M16: =SUM(K16:L16) -> 0 | Z16: =D16 -> 0 | AA16: =Z16*Tabeller!I$33 -> 0 | AB16: =AA16*Tabeller!$I$35 -> 0 | AC16: =IF(AA16>0,(AB16-400)/52*47,0) -> 0 | AD16: =AC16*Tabeller!$H$24 -> 0 | AE16: =SUM(AC16:AD16,AF16)*Tabeller!$H$25 -> 0 | AF16: =AB16*Tabeller!$H$26 -> 0 | AG16: =SUM(AC16:AF16) -> 0 | AH16: =AG16+(Registrering!$E$27) -> 465000 | AI16: =AH16/Tabeller!$H$3 -> 270.34884 | AL16: =((F16*Budsjett!$AG16)) -> 0 | AM16: =((G16*Budsjett!$AG16)*(Tabeller!J$33)) -> 0 | AN16: =((H16*Budsjett!$AG16)*(Tabeller!J$33*Tabeller!J$34)) -> 0 | AO16: =((I16*Budsjett!$AG16)*(Tabeller!J$33*Tabeller!J$34*Tabeller!J$34)) -> 0 | AQ16: =IFERROR(AL16*Budsjett!$G$54,0) -> 0 | AR16: =IFERROR(AM16*Budsjett!$G$54,0) -> 0 | AS16: =IFERROR(AN16*Budsjett!$G$54,0) -> 0 | AT16: =IFERROR(AO16*Budsjett!$G$54,0) -> 0 | AW16: =IFERROR(AL16*Budsjett!AW$55,0) -> 0 | AX16: =IFERROR(AM16*Budsjett!AX$55,0) -> 0 | AY16: =IFERROR(AN16*Budsjett!AY$55,0) -> 0 | AZ16: =IFERROR(AO16*Budsjett!AZ$55,0) -> 0 | BC16: =AQ16-AW16 -> 0 | BD16: =AR16-AX16 -> 0 | BE16: =AS16-AY16 -> 0 | BF16: =AT16-AZ16 -> 0 | BO16: =A16 -> 0 | BP16: =IF($C16=$BO$1,AL16,0) -> 0 | BQ16: =IF($C16=$BO$1,AM16,0) -> 0 | BR16: =IF($C16=$BO$1,AN16,0) -> 0 | BS16: =IF($C16=$BO$1,AO16,0) -> 0 | BT16: =SUM(BP16:BS16) -> 0 | BV16: =A16 -> 0 | CA16: =SUM(BW16:BZ16) -> 0
B17: =VLOOKUP(A17,Tabeller!$W$15:$Z$23,4,FALSE) -> #N/A | C17: EU | J17: =SUM(F17:I17) -> 0 | K17: =SUM(AL17:AO17) -> 0 | L17: =IFERROR(SUM(AQ17:AT17),0) -> 0 | M17: =SUM(K17:L17) -> 0 | Z17: =D17 -> 0 | AA17: =Z17*Tabeller!I$33 -> 0 | AB17: =AA17*Tabeller!$I$35 -> 0 | AC17: =IF(AA17>0,(AB17-400)/52*47,0) -> 0 | AD17: =AC17*Tabeller!$H$24 -> 0 | AE17: =SUM(AC17:AD17,AF17)*Tabeller!$H$25 -> 0 | AF17: =AB17*Tabeller!$H$26 -> 0 | AG17: =SUM(AC17:AF17) -> 0 | AH17: =AG17+(Registrering!$E$27) -> 465000 | AI17: =AH17/Tabeller!$H$3 -> 270.34884 | AL17: =((F17*Budsjett!$AG17)) -> 0 | AM17: =((G17*Budsjett!$AG17)*(Tabeller!J$33)) -> 0 | AN17: =((H17*Budsjett!$AG17)*(Tabeller!J$33*Tabeller!J$34)) -> 0 | AO17: =((I17*Budsjett!$AG17)*(Tabeller!J$33*Tabeller!J$34*Tabeller!J$34)) -> 0 | AQ17: =IFERROR(AL17*Budsjett!$G$54,0) -> 0 | AR17: =IFERROR(AM17*Budsjett!$G$54,0) -> 0 | AS17: =IFERROR(AN17*Budsjett!$G$54,0) -> 0 | AT17: =IFERROR(AO17*Budsjett!$G$54,0) -> 0 | AW17: =IFERROR(AL17*Budsjett!AW$55,0) -> 0 | AX17: =IFERROR(AM17*Budsjett!AX$55,0) -> 0 | AY17: =IFERROR(AN17*Budsjett!AY$55,0) -> 0 | AZ17: =IFERROR(AO17*Budsjett!AZ$55,0) -> 0 | BC17: =AQ17-AW17 -> 0 | BD17: =AR17-AX17 -> 0 | BE17: =AS17-AY17 -> 0 | BF17: =AT17-AZ17 -> 0 | BO17: =A17 -> 0 | BP17: =IF($C17=$BO$1,AL17,0) -> 0 | BQ17: =IF($C17=$BO$1,AM17,0) -> 0 | BR17: =IF($C17=$BO$1,AN17,0) -> 0 | BS17: =IF($C17=$BO$1,AO17,0) -> 0 | BT17: =SUM(BP17:BS17) -> 0 | BV17: =A17 -> 0 | CA17: =SUM(BW17:BZ17) -> 0
B18: =VLOOKUP(A18,Tabeller!$W$15:$Z$23,4,FALSE) -> #N/A | C18: EU | J18: =SUM(F18:I18) -> 0 | K18: =SUM(AL18:AO18) -> 0 | L18: =IFERROR(SUM(AQ18:AT18),0) -> 0 | M18: =SUM(K18:L18) -> 0 | Z18: =D18 -> 0 | AA18: =Z18*Tabeller!I$33 -> 0 | AB18: =AA18*Tabeller!$I$35 -> 0 | AC18: =IF(AA18>0,(AB18-400)/52*47,0) -> 0 | AD18: =AC18*Tabeller!$H$24 -> 0 | AE18: =SUM(AC18:AD18,AF18)*Tabeller!$H$25 -> 0 | AF18: =AB18*Tabeller!$H$26 -> 0 | AG18: =SUM(AC18:AF18) -> 0 | AH18: =AG18+(Registrering!$E$27) -> 465000 | AI18: =AH18/Tabeller!$H$3 -> 270.34884 | AL18: =((F18*Budsjett!$AG18)) -> 0 | AM18: =((G18*Budsjett!$AG18)*(Tabeller!J$33)) -> 0 | AN18: =((H18*Budsjett!$AG18)*(Tabeller!J$33*Tabeller!J$34)) -> 0 | AO18: =((I18*Budsjett!$AG18)*(Tabeller!J$33*Tabeller!J$34*Tabeller!J$34)) -> 0 | AQ18: =IFERROR(AL18*Budsjett!$G$54,0) -> 0 | AR18: =IFERROR(AM18*Budsjett!$G$54,0) -> 0 | AS18: =IFERROR(AN18*Budsjett!$G$54,0) -> 0 | AT18: =IFERROR(AO18*Budsjett!$G$54,0) -> 0 | AW18: =IFERROR(AL18*Budsjett!AW$55,0) -> 0 | AX18: =IFERROR(AM18*Budsjett!AX$55,0) -> 0 | AY18: =IFERROR(AN18*Budsjett!AY$55,0) -> 0 | AZ18: =IFERROR(AO18*Budsjett!AZ$55,0) -> 0 | BC18: =AQ18-AW18 -> 0 | BD18: =AR18-AX18 -> 0 | BE18: =AS18-AY18 -> 0 | BF18: =AT18-AZ18 -> 0 | BO18: =A18 -> 0 | BP18: =IF($C18=$BO$1,AL18,0) -> 0 | BQ18: =IF($C18=$BO$1,AM18,0) -> 0 | BR18: =IF($C18=$BO$1,AN18,0) -> 0 | BS18: =IF($C18=$BO$1,AO18,0) -> 0 | BT18: =SUM(BP18:BS18) -> 0 | BV18: =A18 -> 0 | CA18: =SUM(BW18:BZ18) -> 0
B19: =VLOOKUP(A19,Tabeller!$W$15:$Z$23,4,FALSE) -> #N/A | C19: EU | J19: =SUM(F19:I19) -> 0 | K19: =SUM(AL19:AO19) -> 0 | L19: =IFERROR(SUM(AQ19:AT19),0) -> 0 | M19: =SUM(K19:L19) -> 0 | Z19: =D19 -> 0 | AA19: =Z19*Tabeller!I$33 -> 0 | AB19: =AA19*Tabeller!$I$35 -> 0 | AC19: =IF(AA19>0,(AB19-400)/52*47,0) -> 0 | AD19: =AC19*Tabeller!$H$24 -> 0 | AE19: =SUM(AC19:AD19,AF19)*Tabeller!$H$25 -> 0 | AF19: =AB19*Tabeller!$H$26 -> 0 | AG19: =SUM(AC19:AF19) -> 0 | AH19: =AG19+(Registrering!$E$27) -> 465000 | AI19: =AH19/Tabeller!$H$3 -> 270.34884 | AL19: =((F19*Budsjett!$AG19)) -> 0 | AM19: =((G19*Budsjett!$AG19)*(Tabeller!J$33)) -> 0 | AN19: =((H19*Budsjett!$AG19)*(Tabeller!J$33*Tabeller!J$34)) -> 0 | AO19: =((I19*Budsjett!$AG19)*(Tabeller!J$33*Tabeller!J$34*Tabeller!J$34)) -> 0 | AQ19: =IFERROR(AL19*Budsjett!$G$54,0) -> 0 | AR19: =IFERROR(AM19*Budsjett!$G$54,0) -> 0 | AS19: =IFERROR(AN19*Budsjett!$G$54,0) -> 0 | AT19: =IFERROR(AO19*Budsjett!$G$54,0) -> 0 | AW19: =IFERROR(AL19*Budsjett!AW$55,0) -> 0 | AX19: =IFERROR(AM19*Budsjett!AX$55,0) -> 0 | AY19: =IFERROR(AN19*Budsjett!AY$55,0) -> 0 | AZ19: =IFERROR(AO19*Budsjett!AZ$55,0) -> 0 | BC19: =AQ19-AW19 -> 0 | BD19: =AR19-AX19 -> 0 | BE19: =AS19-AY19 -> 0 | BF19: =AT19-AZ19 -> 0 | BO19: =A19 -> 0 | BP19: =IF($C19=$BO$1,AL19,0) -> 0 | BQ19: =IF($C19=$BO$1,AM19,0) -> 0 | BR19: =IF($C19=$BO$1,AN19,0) -> 0 | BS19: =IF($C19=$BO$1,AO19,0) -> 0 | BT19: =SUM(BP19:BS19) -> 0 | BV19: =A19 -> 0 | CA19: =SUM(BW19:BZ19) -> 0
A20: Sum | F20: =SUM(F15:F19) -> 0 | G20: =SUM(G15:G19) -> 0 | H20: =SUM(H15:H19) -> 0 | I20: =SUM(I15:I19) -> 0 | J20: =SUM(J15:J19) -> 0 | K20: =SUM(K15:K19) -> 0 | L20: =SUM(L15:L19) -> 0 | M20: =SUM(M15:M19) -> 0 | AL20: =SUM(AL15:AL19) -> 0 | AM20: =SUM(AM15:AM19) -> 0 | AN20: =SUM(AN15:AN19) -> 0 | AO20: =SUM(AO15:AO19) -> 0 | AP20: =SUM(AL20:AO20) -> 0 | AQ20: =SUM(AQ15:AQ19) -> 0 | AR20: =SUM(AR15:AR19) -> 0 | AS20: =SUM(AS15:AS19) -> 0 | AT20: =SUM(AT15:AT19) -> 0 | AU20: =SUM(AQ20:AT20) -> 0 | AW20: =SUM(AW15:AW19) -> 0 | AX20: =SUM(AX15:AX19) -> 0 | AY20: =SUM(AY15:AY19) -> 0 | AZ20: =SUM(AZ15:AZ19) -> 0 | BA20: =SUM(AW20:AZ20) -> 0 | BC20: =SUM(BC15:BC19) -> 0 | BD20: =SUM(BD15:BD19) -> 0 | BE20: =SUM(BE15:BE19) -> 0 | BF20: =SUM(BF15:BF19) -> 0 | BO20: =A20 -> Sum | BP20: =SUM(BP15:BP19) -> 0 | BQ20: =SUM(BQ15:BQ19) -> 0 | BR20: =SUM(BR15:BR19) -> 0 | BS20: =SUM(BS15:BS19) -> 0 | BT20: =SUM(BP20:BS20) -> 0 | BV20: =A20 -> Sum | BW20: =SUM(BW15:BW19) -> 0 | BX20: =SUM(BX15:BX19) -> 0 | BY20: =SUM(BY15:BY19) -> 0 | BZ20: =SUM(BZ15:BZ19) -> 0 | CA20: =SUM(BW20:BZ20) -> 0
A21: Eksisterende ansatte - dekkes av UiO (egenandel) | F21: REGISTRER ÅRSVERK | BO21: =A21 -> Eksisterende ansatte - dekkes av UiO (egenandel) | BV21: =A21 -> Eksisterende ansatte - dekkes av UiO (egenandel)
A22: Frikjøp art 5896 | D22: Årslønn | E22: Navn | F22: =F14 -> Periode 1 (1-18 month) | G22: =G14 -> Periode 2 (19-36 month) | H22: =H14 -> Periode 3 (37-54 month) | I22: =I14 -> Periode 4 (55-60 (72) month) | J22: Sum | K22: Lønn og sos. kostnader | L22: Overhead | M22: Totalt | Z22: Gj.snitt. Ltr | AA22: Bruttolønn | AB22: inkl lønnsv. | AC22: Lønn | AD22: Feriep | AE22: AGA | AF22: Pensjon | AG22: inkl sos.avg. | AH22: inkl. ind.kost. | AI22: Timesats | AL22: =F22 -> Periode 1 (1-18 month) | AM22: =G22 -> Periode 2 (19-36 month) | AN22: =H22 -> Periode 3 (37-54 month) | AO22: =I22 -> Periode 4 (55-60 (72) month) | AQ22: =AL22 -> Periode 1 (1-18 month) | AR22: =AM22 -> Periode 2 (19-36 month) | AS22: =AN22 -> Periode 3 (37-54 month) | AT22: =AO22 -> Periode 4 (55-60 (72) month) | AW22: =AQ22 -> Periode 1 (1-18 month) | AX22: =AR22 -> Periode 2 (19-36 month) | AY22: =AS22 -> Periode 3 (37-54 month) | AZ22: =AT22 -> Periode 4 (55-60 (72) month) | BC22: =F3 -> Periode 1 (1-18 month) | BD22: =G3 -> Periode 2 (19-36 month) | BE22: =H3 -> Periode 3 (37-54 month) | BF22: =I3 -> Periode 4 (55-60 (72) month) | BO22: =A22 -> Frikjøp art 5896 | BP22: =BP14 -> Periode 1 (1-18 month) | BQ22: =BQ14 -> Periode 2 (19-36 month) | BR22: =BR14 -> Periode 3 (37-54 month) | BS22: =BS14 -> Periode 4 (55-60 (72) month) | BT22: =BT14 -> Sum årsv | BV22: =A22 -> Frikjøp art 5896 | BW22: =BW14 -> Periode 1 (1-18 month) | BX22: =BX14 -> Periode 2 (19-36 month) | BY22: =BY14 -> Periode 3 (37-54 month) | BZ22: =BZ14 -> Periode 4 (55-60 (72) month) | CA22: =CA14 -> Sum årsv
B23: =VLOOKUP(A23,Tabeller!$W$15:$Z$23,4,FALSE) -> #N/A | C23: Egenandel | J23: =SUM(F23:I23) -> 0 | K23: =SUM(AL23:AO23) -> 0 | L23: =IFERROR(SUM(AQ23:AT23),0) -> 0 | M23: =SUM(K23:L23) -> 0 | Z23: =D23 -> 0 | AA23: =Z23*Tabeller!I$33 -> 0 | AB23: =AA23*Tabeller!$I$35 -> 0 | AC23: =IF(AA23>0,(AB23-400)/52*47,0) -> 0 | AD23: =AC23*Tabeller!$H$24 -> 0 | AE23: =SUM(AC23:AD23,AF23)*Tabeller!$H$25 -> 0 | AF23: =AB23*Tabeller!$H$26 -> 0 | AG23: =SUM(AC23:AF23) -> 0 | AH23: =AG23+(Registrering!$E$27) -> 465000 | AI23: =AH23/Tabeller!$H$3 -> 270.34884 | AL23: =((F23*Budsjett!$AG23)) -> 0 | AM23: =((G23*Budsjett!$AG23)*(Tabeller!J$33)) -> 0 | AN23: =((H23*Budsjett!$AG23)*(Tabeller!J$33*Tabeller!J$34)) -> 0 | AO23: =((I23*Budsjett!$AG23)*(Tabeller!J$33*Tabeller!J$34*Tabeller!J$34)) -> 0 | AQ23: =IFERROR(AL23*Budsjett!$G$54,0) -> 0 | AR23: =IFERROR(AM23*Budsjett!$G$54,0) -> 0 | AS23: =IFERROR(AN23*Budsjett!$G$54,0) -> 0 | AT23: =IFERROR(AO23*Budsjett!$G$54,0) -> 0 | BC23: =AQ23 -> 0 | BD23: =AR23 -> 0 | BE23: =AS23 -> 0 | BF23: =AT23 -> 0 | BO23: =A23 -> 0 | BT23: =SUM(BP23:BS23) -> 0 | BV23: =A23 -> 0 | BW23: =IF($C23=$BV$1,AL23,0) -> 0 | BX23: =IF($C23=$BV$1,AM23,0) -> 0 | BY23: =IF($C23=$BV$1,AN23,0) -> 0 | BZ23: =IF($C23=$BV$1,AO23,0) -> 0 | CA23: =SUM(BW23:BZ23) -> 0
B24: =VLOOKUP(A24,Tabeller!$W$15:$Z$23,4,FALSE) -> #N/A | C24: Egenandel | J24: =SUM(F24:I24) -> 0 | K24: =SUM(AL24:AO24) -> 0 | L24: =IFERROR(SUM(AQ24:AT24),0) -> 0 | M24: =SUM(K24:L24) -> 0 | Z24: =D24 -> 0 | AA24: =Z24*Tabeller!I$33 -> 0 | AB24: =AA24*Tabeller!$I$35 -> 0 | AC24: =IF(AA24>0,(AB24-400)/52*47,0) -> 0 | AD24: =AC24*Tabeller!$H$24 -> 0 | AE24: =SUM(AC24:AD24,AF24)*Tabeller!$H$25 -> 0 | AF24: =AB24*Tabeller!$H$26 -> 0 | AG24: =SUM(AC24:AF24) -> 0 | AH24: =AG24+(Registrering!$E$27) -> 465000 | AI24: =AH24/Tabeller!$H$3 -> 270.34884 | AL24: =((F24*Budsjett!$AG24)) -> 0 | AM24: =((G24*Budsjett!$AG24)*(Tabeller!J$33)) -> 0 | AN24: =((H24*Budsjett!$AG24)*(Tabeller!J$33*Tabeller!J$34)) -> 0 | AO24: =((I24*Budsjett!$AG24)*(Tabeller!J$33*Tabeller!J$34*Tabeller!J$34)) -> 0 | AQ24: =IFERROR(AL24*Budsjett!$G$54,0) -> 0 | AR24: =IFERROR(AM24*Budsjett!$G$54,0) -> 0 | AS24: =IFERROR(AN24*Budsjett!$G$54,0) -> 0 | AT24: =IFERROR(AO24*Budsjett!$G$54,0) -> 0 | BC24: =AQ24 -> 0 | BD24: =AR24 -> 0 | BE24: =AS24 -> 0 | BF24: =AT24 -> 0 | BO24: =A24 -> 0 | BT24: =SUM(BP24:BS24) -> 0 | BV24: =A24 -> 0 | BW24: =IF($C24=$BV$1,AL24,0) -> 0 | BX24: =IF($C24=$BV$1,AM24,0) -> 0 | BY24: =IF($C24=$BV$1,AN24,0) -> 0 | BZ24: =IF($C24=$BV$1,AO24,0) -> 0 | CA24: =SUM(BW24:BZ24) -> 0
B25: =VLOOKUP(A25,Tabeller!$W$15:$Z$23,4,FALSE) -> #N/A | C25: Egenandel | J25: =SUM(F25:I25) -> 0 | K25: =SUM(AL25:AO25) -> 0 | L25: =IFERROR(SUM(AQ25:AT25),0) -> 0 | M25: =SUM(K25:L25) -> 0 | Z25: =D25 -> 0 | AA25: =Z25*Tabeller!I$33 -> 0 | AB25: =AA25*Tabeller!$I$35 -> 0 | AC25: =IF(AA25>0,(AB25-400)/52*47,0) -> 0 | AD25: =AC25*Tabeller!$H$24 -> 0 | AE25: =SUM(AC25:AD25,AF25)*Tabeller!$H$25 -> 0 | AF25: =AB25*Tabeller!$H$26 -> 0 | AG25: =SUM(AC25:AF25) -> 0 | AH25: =AG25+(Registrering!$E$27) -> 465000 | AI25: =AH25/Tabeller!$H$3 -> 270.34884 | AL25: =((F25*Budsjett!$AG25)) -> 0 | AM25: =((G25*Budsjett!$AG25)*(Tabeller!J$33)) -> 0 | AN25: =((H25*Budsjett!$AG25)*(Tabeller!J$33*Tabeller!J$34)) -> 0 | AO25: =((I25*Budsjett!$AG25)*(Tabeller!J$33*Tabeller!J$34*Tabeller!J$34)) -> 0 | AQ25: =IFERROR(AL25*Budsjett!$G$54,0) -> 0 | AR25: =IFERROR(AM25*Budsjett!$G$54,0) -> 0 | AS25: =IFERROR(AN25*Budsjett!$G$54,0) -> 0 | AT25: =IFERROR(AO25*Budsjett!$G$54,0) -> 0 | BC25: =AQ25 -> 0 | BD25: =AR25 -> 0 | BE25: =AS25 -> 0 | BF25: =AT25 -> 0 | BO25: =A25 -> 0 | BT25: =SUM(BP25:BS25) -> 0 | BV25: =A25 -> 0 | BW25: =IF($C25=$BV$1,AL25,0) -> 0 | BX25: =IF($C25=$BV$1,AM25,0) -> 0 | BY25: =IF($C25=$BV$1,AN25,0) -> 0 | BZ25: =IF($C25=$BV$1,AO25,0) -> 0 | CA25: =SUM(BW25:BZ25) -> 0
B26: =VLOOKUP(A26,Tabeller!$W$15:$Z$23,4,FALSE) -> #N/A | C26: Egenandel | J26: =SUM(F26:I26) -> 0 | K26: =SUM(AL26:AO26) -> 0 | L26: =IFERROR(SUM(AQ26:AT26),0) -> 0 | M26: =SUM(K26:L26) -> 0 | Z26: =D26 -> 0 | AA26: =Z26*Tabeller!I$33 -> 0 | AB26: =AA26*Tabeller!$I$35 -> 0 | AC26: =IF(AA26>0,(AB26-400)/52*47,0) -> 0 | AD26: =AC26*Tabeller!$H$24 -> 0 | AE26: =SUM(AC26:AD26,AF26)*Tabeller!$H$25 -> 0 | AF26: =AB26*Tabeller!$H$26 -> 0 | AG26: =SUM(AC26:AF26) -> 0 | AH26: =AG26+(Registrering!$E$27) -> 465000 | AI26: =AH26/Tabeller!$H$3 -> 270.34884 | AL26: =((F26*Budsjett!$AG26)) -> 0 | AM26: =((G26*Budsjett!$AG26)*(Tabeller!J$33)) -> 0 | AN26: =((H26*Budsjett!$AG26)*(Tabeller!J$33*Tabeller!J$34)) -> 0 | AO26: =((I26*Budsjett!$AG26)*(Tabeller!J$33*Tabeller!J$34*Tabeller!J$34)) -> 0 | AQ26: =IFERROR(AL26*Budsjett!$G$54,0) -> 0 | AR26: =IFERROR(AM26*Budsjett!$G$54,0) -> 0 | AS26: =IFERROR(AN26*Budsjett!$G$54,0) -> 0 | AT26: =IFERROR(AO26*Budsjett!$G$54,0) -> 0 | BC26: =AQ26 -> 0 | BD26: =AR26 -> 0 | BE26: =AS26 -> 0 | BF26: =AT26 -> 0 | BO26: =A26 -> 0 | BT26: =SUM(BP26:BS26) -> 0 | BV26: =A26 -> 0 | BW26: =IF($C26=$BV$1,AL26,0) -> 0 | BX26: =IF($C26=$BV$1,AM26,0) -> 0 | BY26: =IF($C26=$BV$1,AN26,0) -> 0 | BZ26: =IF($C26=$BV$1,AO26,0) -> 0 | CA26: =SUM(BW26:BZ26) -> 0
B27: =VLOOKUP(A27,Tabeller!$W$15:$Z$23,4,FALSE) -> #N/A | C27: Egenandel | J27: =SUM(F27:I27) -> 0 | K27: =SUM(AL27:AO27) -> 0 | L27: =IFERROR(SUM(AQ27:AT27),0) -> 0 | M27: =SUM(K27:L27) -> 0 | Z27: =D27 -> 0 | AA27: =Z27*Tabeller!I$33 -> 0 | AB27: =AA27*Tabeller!$I$35 -> 0 | AC27: =IF(AA27>0,(AB27-400)/52*47,0) -> 0 | AD27: =AC27*Tabeller!$H$24 -> 0 | AE27: =SUM(AC27:AD27,AF27)*Tabeller!$H$25 -> 0 | AF27: =AB27*Tabeller!$H$26 -> 0 | AG27: =SUM(AC27:AF27) -> 0 | AH27: =AG27+(Registrering!$E$27) -> 465000 | AI27: =AH27/Tabeller!$H$3 -> 270.34884 | AL27: =((F27*Budsjett!$AG27)) -> 0 | AM27: =((G27*Budsjett!$AG27)*(Tabeller!J$33)) -> 0 | AN27: =((H27*Budsjett!$AG27)*(Tabeller!J$33*Tabeller!J$34)) -> 0 | AO27: =((I27*Budsjett!$AG27)*(Tabeller!J$33*Tabeller!J$34*Tabeller!J$34)) -> 0 | AQ27: =IFERROR(AL27*Budsjett!$G$54,0) -> 0 | AR27: =IFERROR(AM27*Budsjett!$G$54,0) -> 0 | AS27: =IFERROR(AN27*Budsjett!$G$54,0) -> 0 | AT27: =IFERROR(AO27*Budsjett!$G$54,0) -> 0 | BC27: =AQ27 -> 0 | BD27: =AR27 -> 0 | BE27: =AS27 -> 0 | BF27: =AT27 -> 0 | BO27: =A27 -> 0 | BT27: =SUM(BP27:BS27) -> 0 | BV27: =A27 -> 0 | BW27: =IF($C27=$BV$1,AL27,0) -> 0 | BX27: =IF($C27=$BV$1,AM27,0) -> 0 | BY27: =IF($C27=$BV$1,AN27,0) -> 0 | BZ27: =IF($C27=$BV$1,AO27,0) -> 0 | CA27: =SUM(BW27:BZ27) -> 0
A28: Sum | F28: =SUM(F23:F27) -> 0 | G28: =SUM(G23:G27) -> 0 | H28: =SUM(H23:H27) -> 0 | I28: =SUM(I23:I27) -> 0 | J28: =SUM(J23:J27) -> 0 | K28: =SUM(K23:K27) -> 0 | L28: =SUM(L23:L27) -> 0 | M28: =SUM(M23:M27) -> 0 | AL28: =SUM(AL23:AL27) -> 0 | AM28: =SUM(AM23:AM27) -> 0 | AN28: =SUM(AN23:AN27) -> 0 | AO28: =SUM(AO23:AO27) -> 0 | AP28: =SUM(AL28:AO28) -> 0 | AQ28: =SUM(AQ23:AQ27) -> 0 | AR28: =SUM(AR23:AR27) -> 0 | AS28: =SUM(AS23:AS27) -> 0 | AT28: =SUM(AT23:AT27) -> 0 | AU28: =SUM(AQ28:AT28) -> 0 | AW28: =SUM(AW23:AW27) -> 0 | AX28: =SUM(AX23:AX27) -> 0 | AY28: =SUM(AY23:AY27) -> 0 | AZ28: =SUM(AZ23:AZ27) -> 0 | BC28: =SUM(BC23:BC27) -> 0 | BD28: =SUM(BD23:BD27) -> 0 | BE28: =SUM(BE23:BE27) -> 0 | BF28: =SUM(BF23:BF27) -> 0 | BO28: =A28 -> Sum | BT28: =SUM(BP28:BS28) -> 0 | BV28: =A28 -> Sum | BW28: =SUM(BW23:BW27) -> 0 | BX28: =SUM(BX23:BX27) -> 0 | BY28: =SUM(BY23:BY27) -> 0 | BZ28: =SUM(BZ23:BZ27) -> 0 | CA28: =SUM(BW28:BZ28) -> 0
A29: Timelønn - dekkes av prosjektbevilgning | F29: REGISTRER TIMER | BO29: =A29 -> Timelønn - dekkes av prosjektbevilgning | BV29: =A29 -> Timelønn - dekkes av prosjektbevilgning
D30: Årslønn | E30: Navn | F30: =F22 -> Periode 1 (1-18 month) | G30: =G22 -> Periode 2 (19-36 month) | H30: =H22 -> Periode 3 (37-54 month) | I30: =I22 -> Periode 4 (55-60 (72) month) | J30: Sum | K30: Beløp | L30: Overhead | M30: Totalt | Z30: Gj.snitt. Ltr | AA30: Bruttolønn | AB30: inkl lønnsv. | AC30: Lønn | AD30: Feriep | AE30: AGA | AF30: Pensjon | AG30: inkl sos.avg. | AH30: inkl. ind.kost. | AI30: Timesats | AL30: =F30 -> Periode 1 (1-18 month) | AM30: =G30 -> Periode 2 (19-36 month) | AN30: =H30 -> Periode 3 (37-54 month) | AO30: =I30 -> Periode 4 (55-60 (72) month) | AQ30: =AL30 -> Periode 1 (1-18 month) | AR30: =AM30 -> Periode 2 (19-36 month) | AS30: =AN30 -> Periode 3 (37-54 month) | AT30: =AO30 -> Periode 4 (55-60 (72) month) | AW30: =AQ30 -> Periode 1 (1-18 month) | AX30: =AR30 -> Periode 2 (19-36 month) | AY30: =AS30 -> Periode 3 (37-54 month) | AZ30: =AT30 -> Periode 4 (55-60 (72) month) | BC30: =F3 -> Periode 1 (1-18 month) | BD30: =G3 -> Periode 2 (19-36 month) | BE30: =H3 -> Periode 3 (37-54 month) | BF30: =I3 -> Periode 4 (55-60 (72) month) | BO30: =A30 -> 0 | BP30: =BP22 -> Periode 1 (1-18 month) | BQ30: =BQ22 -> Periode 2 (19-36 month) | BR30: =BR22 -> Periode 3 (37-54 month) | BS30: =BS22 -> Periode 4 (55-60 (72) month) | BT30: =BT22 -> Sum årsv | BV30: =A30 -> 0 | BW30: =BW22 -> Periode 1 (1-18 month) | BX30: =BX22 -> Periode 2 (19-36 month) | BY30: =BY22 -> Periode 3 (37-54 month) | BZ30: =BZ22 -> Periode 4 (55-60 (72) month) | CA30: =CA22 -> Sum årsv
A31: Timebasert lønn | C31: EU | J31: =SUM(F31:I31) -> 0 | K31: =SUM(AL31:AO31) -> 0 | L31: =IFERROR(SUM(AQ31:AT31),0) -> 0 | M31: =SUM(K31:L31) -> 0 | Z31: =D31 -> 0 | AA31: =Z31*Tabeller!I$33 -> 0 | AB31: =AA31*Tabeller!$I$35 -> 0 | AC31: =IF(AA31>0,(AB31-400)/52*47,0) -> 0 | AD31: =AC31*Tabeller!$H$24 -> 0 | AE31: =SUM(AC31:AD31,AF31)*Tabeller!$H$25 -> 0 | AF31: =AB31*Tabeller!$H$26 -> 0 | AG31: =SUM(AC31:AF31) -> 0 | AH31: =AG31+(Registrering!$E$27) -> 465000 | AI31: =AG31/Tabeller!$H$3 -> 0 | AL31: =((F31*Budsjett!$AI31)*(Tabeller!I$35)) -> 0 | AM31: =((G31*Budsjett!$AI31)*(Tabeller!J$33)) -> 0 | AN31: =((H31*Budsjett!$AI31)*(Tabeller!J$33*Tabeller!J$34)) -> 0 | AO31: =((I31*Budsjett!$AI31)*(Tabeller!J$33*Tabeller!J$34*Tabeller!J$34)) -> 0 | AQ31: =IFERROR(AL31*Budsjett!$G$54,0) -> 0 | AR31: =IFERROR(AM31*Budsjett!$G$54,0) -> 0 | AS31: =IFERROR(AN31*Budsjett!$G$54,0) -> 0 | AT31: =IFERROR(AO31*Budsjett!$G$54,0) -> 0 | AW31: =IFERROR(AL31*Budsjett!AW$55,0) -> 0 | AX31: =IFERROR(AM31*Budsjett!AX$55,0) -> 0 | AY31: =IFERROR(AN31*Budsjett!AY$55,0) -> 0 | AZ31: =IFERROR(AO31*Budsjett!AZ$55,0) -> 0 | BC31: =AQ31-AW31 -> 0 | BD31: =AR31-AX31 -> 0 | BE31: =AS31-AY31 -> 0 | BF31: =AT31-AZ31 -> 0 | BO31: =A31 -> Timebasert lønn | BP31: =IF($C31=$BO$1,AL31,0) -> 0 | BQ31: =IF($C31=$BO$1,AM31,0) -> 0 | BR31: =IF($C31=$BO$1,AN31,0) -> 0 | BS31: =IF($C31=$BO$1,AO31,0) -> 0 | BT31: =SUM(BP31:BS31) -> 0 | BV31: =A31 -> Timebasert lønn | CA31: =SUM(BW31:BZ31) -> 0
A32: Timebasert lønn | C32: EU | J32: =SUM(F32:I32) -> 0 | K32: =SUM(AL32:AO32) -> 0 | L32: =IFERROR(SUM(AQ32:AT32),0) -> 0 | M32: =SUM(K32:L32) -> 0 | Z32: =D32 -> 0 | AA32: =Z32*Tabeller!I$33 -> 0 | AB32: =AA32*Tabeller!$I$35 -> 0 | AC32: =IF(AA32>0,(AB32-400)/52*47,0) -> 0 | AD32: =AC32*Tabeller!$H$24 -> 0 | AE32: =SUM(AC32:AD32,AF32)*Tabeller!$H$25 -> 0 | AF32: =AB32*Tabeller!$H$26 -> 0 | AG32: =SUM(AC32:AF32) -> 0 | AH32: =AG32+(Registrering!$E$27) -> 465000 | AI32: =AG32/Tabeller!$H$3 -> 0 | AL32: =((F32*Budsjett!$AI32)*(Tabeller!I$35)) -> 0 | AM32: =((G32*Budsjett!$AI32)*(Tabeller!J$33)) -> 0 | AN32: =((H32*Budsjett!$AI32)*(Tabeller!J$33*Tabeller!J$34)) -> 0 | AO32: =((I32*Budsjett!$AI32)*(Tabeller!J$33*Tabeller!J$34*Tabeller!J$34)) -> 0 | AQ32: =IFERROR(AL32*Budsjett!$G$54,0) -> 0 | AR32: =IFERROR(AM32*Budsjett!$G$54,0) -> 0 | AS32: =IFERROR(AN32*Budsjett!$G$54,0) -> 0 | AT32: =IFERROR(AO32*Budsjett!$G$54,0) -> 0 | AW32: =IFERROR(AL32*Budsjett!AW$55,0) -> 0 | AX32: =IFERROR(AM32*Budsjett!AX$55,0) -> 0 | AY32: =IFERROR(AN32*Budsjett!AY$55,0) -> 0 | AZ32: =IFERROR(AO32*Budsjett!AZ$55,0) -> 0 | BC32: =AQ32-AW32 -> 0 | BD32: =AR32-AX32 -> 0 | BE32: =AS32-AY32 -> 0 | BF32: =AT32-AZ32 -> 0 | BO32: =A32 -> Timebasert lønn | BP32: =IF($C32=$BO$1,AL32,0) -> 0 | BQ32: =IF($C32=$BO$1,AM32,0) -> 0 | BR32: =IF($C32=$BO$1,AN32,0) -> 0 | BS32: =IF($C32=$BO$1,AO32,0) -> 0 | BT32: =SUM(BP32:BS32) -> 0 | BV32: =A32 -> Timebasert lønn | CA32: =SUM(BW32:BZ32) -> 0
A33: Timebasert lønn | C33: EU | J33: =SUM(F33:I33) -> 0 | K33: =SUM(AL33:AO33) -> 0 | L33: =IFERROR(SUM(AQ33:AT33),0) -> 0 | M33: =SUM(K33:L33) -> 0 | Z33: =D33 -> 0 | AA33: =Z33*Tabeller!I$33 -> 0 | AB33: =AA33*Tabeller!$I$35 -> 0 | AC33: =IF(AA33>0,(AB33-400)/52*47,0) -> 0 | AD33: =AC33*Tabeller!$H$24 -> 0 | AE33: =SUM(AC33:AD33,AF33)*Tabeller!$H$25 -> 0 | AF33: =AB33*Tabeller!$H$26 -> 0 | AG33: =SUM(AC33:AF33) -> 0 | AH33: =AG33+(Registrering!$E$27) -> 465000 | AI33: =AG33/Tabeller!$H$3 -> 0 | AL33: =((F33*Budsjett!$AI33)*(Tabeller!I$35)) -> 0 | AM33: =((G33*Budsjett!$AI33)*(Tabeller!J$33)) -> 0 | AN33: =((H33*Budsjett!$AI33)*(Tabeller!J$33*Tabeller!J$34)) -> 0 | AO33: =((I33*Budsjett!$AI33)*(Tabeller!J$33*Tabeller!J$34*Tabeller!J$34)) -> 0 | AQ33: =IFERROR(AL33*Budsjett!$G$54,0) -> 0 | AR33: =IFERROR(AM33*Budsjett!$G$54,0) -> 0 | AS33: =IFERROR(AN33*Budsjett!$G$54,0) -> 0 | AT33: =IFERROR(AO33*Budsjett!$G$54,0) -> 0 | AW33: =IFERROR(AL33*Budsjett!AW$55,0) -> 0 | AX33: =IFERROR(AM33*Budsjett!AX$55,0) -> 0 | AY33: =IFERROR(AN33*Budsjett!AY$55,0) -> 0 | AZ33: =IFERROR(AO33*Budsjett!AZ$55,0) -> 0 | BC33: =AQ33-AW33 -> 0 | BD33: =AR33-AX33 -> 0 | BE33: =AS33-AY33 -> 0 | BF33: =AT33-AZ33 -> 0 | BO33: =A33 -> Timebasert lønn | BP33: =IF($C33=$BO$1,AL33,0) -> 0 | BQ33: =IF($C33=$BO$1,AM33,0) -> 0 | BR33: =IF($C33=$BO$1,AN33,0) -> 0 | BS33: =IF($C33=$BO$1,AO33,0) -> 0 | BT33: =SUM(BP33:BS33) -> 0 | BV33: =A33 -> Timebasert lønn | CA33: =SUM(BW33:BZ33) -> 0
A34: Sum | F34: =SUM(F31:F33) -> 0 | G34: =SUM(G31:G33) -> 0 | H34: =SUM(H31:H33) -> 0 | I34: =SUM(I31:I33) -> 0 | J34: =SUM(J31:J33) -> 0 | K34: =SUM(K31:K33) -> 0 | L34: =SUM(L31:L33) -> 0 | M34: =SUM(M31:M33) -> 0 | AL34: =SUM(AL31:AL33) -> 0 | AM34: =SUM(AM31:AM33) -> 0 | AN34: =SUM(AN31:AN33) -> 0 | AO34: =SUM(AO31:AO33) -> 0 | AP34: =SUM(AL34:AO34) -> 0 | AQ34: =SUM(AQ31:AQ33) -> 0 | AR34: =SUM(AR31:AR33) -> 0 | AS34: =SUM(AS31:AS33) -> 0 | AT34: =SUM(AT31:AT33) -> 0 | AU34: =SUM(AQ34:AT34) -> 0 | AW34: =SUM(AW31:AW33) -> 0 | AX34: =SUM(AX31:AX33) -> 0 | AY34: =SUM(AY31:AY33) -> 0 | AZ34: =SUM(AZ31:AZ33) -> 0 | BC34: =SUM(BC31:BC33) -> 0 | BD34: =SUM(BD31:BD33) -> 0 | BE34: =SUM(BE31:BE33) -> 0 | BF34: =SUM(BF31:BF33) -> 0 | BO34: =A34 -> Sum | BP34: =SUM(BP31:BP33) -> 0 | BQ34: =SUM(BQ31:BQ33) -> 0 | BR34: =SUM(BR31:BR33) -> 0 | BS34: =SUM(BS31:BS33) -> 0 | BT34: =SUM(BT31:BT33) -> 0 | BV34: =A34 -> Sum | BW34: =SUM(BW31:BW33) -> 0 | BX34: =SUM(BX31:BX33) -> 0 | BY34: =SUM(BY31:BY33) -> 0 | BZ34: =SUM(BZ31:BZ33) -> 0 | CA34: =SUM(CA31:CA33) -> 0
A35: Total arbeidsinnsats for prosjektet (årsverk) | F35: =F12+F28+F20+F34/Tabeller!$H$3 -> 0 | G35: =G12+G28+G20+G34/Tabeller!$H$3 -> 0 | H35: =H12+H28+H20+H34/Tabeller!$H$3 -> 0 | I35: =I12+I28+I20+I34/Tabeller!$H$3 -> 0 | J35: =J12+J28+J20+J34/Tabeller!$H$3 -> 0 | K35: =K28+K20+K12+K34 -> 0 | L35: =L28+L20+L12+L34 -> 0 | M35: =M28+M20+M12 -> 0 | AL35: =AL28+AL20+AL12+AL34 -> 0 | AM35: =AM28+AM20+AM12+AM34 -> 0 | AN35: =AN28+AN20+AN12+AN34 -> 0 | AO35: =AO28+AO20+AO12+AO34 -> 0 | AP35: =SUM(AL35:AO35) -> 0 | AQ35: =AQ28+AQ20+AQ12+AQ34 -> 0 | AR35: =AR28+AR20+AR12+AR34 -> 0 | AS35: =AS28+AS20+AS12+AS34 -> 0 | AT35: =AT28+AT20+AT12+AT34 -> 0 | AU35: =SUM(AQ35:AT35) -> 0 | AW35: =AW28+AW20+AW12+AW34 -> 0 | AX35: =AX28+AX20+AX12+AX34 -> 0 | AY35: =AY28+AY20+AY12+AY34 -> 0 | AZ35: =AZ28+AZ20+AZ12+AZ34 -> 0 | BA35: =SUM(AW35:AZ35) -> 0 | BC35: =BC28+BC20+BC12+BC34 -> 0 | BD35: =BD28+BD20+BD12+BD34 -> 0 | BE35: =BE28+BE20+BE12+BE34 -> 0 | BF35: =BF28+BF20+BF12+BF34 -> 0 | BO35: =A35 -> Total arbeidsinnsats for prosjektet (årsverk) | BP35: =BP28+BP20+BP12+BP34 -> 0 | BQ35: =BQ28+BQ20+BQ12+BQ34 -> 0 | BR35: =BR28+BR20+BR12+BR34 -> 0 | BS35: =BS28+BS20+BS12+BS34 -> 0 | BT35: =BT28+BT20+BT12+BT34 -> 0 | BV35: =A35 -> Total arbeidsinnsats for prosjektet (årsverk) | BW35: =BW28+BW20+BW12+BW34 -> 0 | BX35: =BX28+BX20+BX12+BX34 -> 0 | BY35: =BY28+BY20+BY12+BY34 -> 0 | BZ35: =BZ28+BZ20+BZ12+BZ34 -> 0 | CA35: =CA28+CA20+CA12+CA34 -> 0
A36: Direkte driftsmidler | F36: REGISTRER DRIFTSKOSTNADER | BO36: =A36 -> Direkte driftsmidler | BV36: =A36 -> Direkte driftsmidler
E37: Kommentarfelt | F37: =F3 -> Periode 1 (1-18 month) | G37: =G3 -> Periode 2 (19-36 month) | H37: =H3 -> Periode 3 (37-54 month) | I37: =I3 -> Periode 4 (55-60 (72) month) | M37: Totalt | AL37: =F37 -> Periode 1 (1-18 month) | AM37: =G37 -> Periode 2 (19-36 month) | AN37: =H37 -> Periode 3 (37-54 month) | AO37: =I37 -> Periode 4 (55-60 (72) month) | BO37: =A37 -> 0 | BP37: =BP3 -> Periode 1 (1-18 month) | BQ37: =BQ3 -> Periode 2 (19-36 month) | BR37: =BR3 -> Periode 3 (37-54 month) | BS37: =BS3 -> Periode 4 (55-60 (72) month) | BT37: =BT3 -> Sum årsv | BV37: =A37 -> 0 | BW37: =BW30 -> Periode 1 (1-18 month) | BX37: =BX30 -> Periode 2 (19-36 month) | BY37: =BY30 -> Periode 3 (37-54 month) | BZ37: =BZ30 -> Periode 4 (55-60 (72) month) | CA37: =CA30 -> Sum årsv
A38: Lab./feltundersøkelser | C38: EU | M38: =SUM(F38:I38) -> 0 | AL38: =F38 -> 0 | AM38: =G38 -> 0 | AN38: =H38 -> 0 | AO38: =I38 -> 0 | AP38: =SUM(AL38:AO38) -> 0 | BO38: =A38 -> Lab./feltundersøkelser | BP38: =IF($C38=$BO$1,AL38,0) -> 0 | BQ38: =IF($C38=$BO$1,AM38,0) -> 0 | BR38: =IF($C38=$BO$1,AN38,0) -> 0 | BS38: =IF($C38=$BO$1,AO38,0) -> 0 | BT38: =SUM(BP38:BS38) -> 0 | BV38: =A38 -> Lab./feltundersøkelser | BW38: =IF($C38=$BV$1,AL38,0) -> 0 | BX38: =IF($C38=$BV$1,-AM38,0) -> 0 | BY38: =IF($C38=$BV$1,-AN38,0) -> 0 | BZ38: =IF($C38=$BV$1,-AO38,0) -> 0 | CA38: =SUM(BW38:BZ38) -> 0
A39: Reiser/konferanser/mv. | C39: EU | M39: =SUM(F39:I39) -> 0 | AL39: =F39 -> 0 | AM39: =G39 -> 0 | AN39: =H39 -> 0 | AO39: =I39 -> 0 | AP39: =SUM(AL39:AO39) -> 0 | BO39: =A39 -> Reiser/konferanser/mv. | BP39: =IF($C39=$BO$1,AL39,0) -> 0 | BQ39: =IF($C39=$BO$1,AM39,0) -> 0 | BR39: =IF($C39=$BO$1,AN39,0) -> 0 | BS39: =IF($C39=$BO$1,AO39,0) -> 0 | BT39: =SUM(BP39:BS39) -> 0 | BV39: =A39 -> Reiser/konferanser/mv. | BW39: =IF($C39=$BV$1,AL39,0) -> 0 | BX39: =IF($C39=$BV$1,-AM39,0) -> 0 | BY39: =IF($C39=$BV$1,-AN39,0) -> 0 | BZ39: =IF($C39=$BV$1,-AO39,0) -> 0 | CA39: =SUM(BW39:BZ39) -> 0
A40: Andre driftskostnader | C40: EU | M40: =SUM(F40:I40) -> 0 | AL40: =F40 -> 0 | AM40: =G40 -> 0 | AN40: =H40 -> 0 | AO40: =I40 -> 0 | AP40: =SUM(AL40:AO40) -> 0 | BO40: =A40 -> Andre driftskostnader | BP40: =IF($C40=$BO$1,AL40,0) -> 0 | BQ40: =IF($C40=$BO$1,AM40,0) -> 0 | BR40: =IF($C40=$BO$1,AN40,0) -> 0 | BS40: =IF($C40=$BO$1,AO40,0) -> 0 | BT40: =SUM(BP40:BS40) -> 0 | BV40: =A40 -> Andre driftskostnader | BW40: =IF($C40=$BV$1,AL40,0) -> 0 | BX40: =IF($C40=$BV$1,-AM40,0) -> 0 | BY40: =IF($C40=$BV$1,-AN40,0) -> 0 | BZ40: =IF($C40=$BV$1,-AO40,0) -> 0 | CA40: =SUM(BW40:BZ40) -> 0
...

Sheet Detailed budget

Sheet Leiested
A1: Prosjekttittel: | C1: =IF(Registrering!$C$4="","",Registrering!$C$4)
A2: Leiestedskalkyle versjon: | E2: REGISTRER DRIFTSKOSTNADER | I2: Alle beløp angis i hele kroner
B3: Finansiør | D3: Kommentarfelt | E3: =Budsjett!F3 -> Periode 1 (1-18 month) | F3: =Budsjett!G3 -> Periode 2 (19-36 month) | G3: =Budsjett!H3 -> Periode 3 (37-54 month) | H3: =Budsjett!I3 -> Periode 4 (55-60 (72) month) | I3: =H3+1 -> #VALUE! | J3: =I3+1 -> #VALUE! | K3: =J3+1 -> #VALUE! | L3: =K3+1 -> #VALUE! | M3: =L3+1 -> #VALUE! | N3: =M3+1 -> #VALUE! | O3: Totalt
A4: Leiested 1 | O4: =SUM(E4:N4) -> 0
A5: Antall timer/enheter Leiested
A6: Enhetspris Leiested
A7: Leiestedskostnader | B7: EU | E7: =E5*E6 -> 0 | F7: =F5*F6 -> 0 | G7: =G5*G6 -> 0 | H7: =H5*H6 -> 0 | I7: =I5*I6 -> 0 | J7: =J5*J6 -> 0 | K7: =K5*K6 -> 0 | L7: =L5*L6 -> 0 | ... N7: =N5*N6 -> 0 | O7: =SUM(E7:N7) -> 0
A8: Leiested 2
A9: Antall timer/enheter Leiested
A10: Enhetspris Leiested
A11: Leiestedskostnader | B11: EU | E11: =E9*E10 -> 0 | F11: =F9*F10 -> 0 | G11: =G9*G10 -> 0 | H11: =H9*H10 -> 0 | I11: =I9*I10 -> 0 | J11: =J9*J10 -> 0 | K11: =K9*K10 -> 0 | L11: =L9*L10 -> 0 | ... N11: =N9*N10 -> 0 | O11: =SUM(E11:N11) -> 0
A12: Leiested 3
A13: Antall timer/enheter Leiested
A14: Enhetspris Leiested
A15: Leiestedskostnader | B15: Egenandel | E15: =E13*E14 -> 0 | F15: =F13*F14 -> 0 | G15: =G13*G14 -> 0 | H15: =H13*H14 -> 0 | I15: =I13*I14 -> 0 | J15: =J13*J14 -> 0 | K15: =K13*K14 -> 0 | L15: =L13*L14 -> 0 | ... N15: =N13*N14 -> 0 | O15: =SUM(E15:N15) -> 0
A16: Leiested 4
A17: Antall timer/enheter Leiested
A18: Enhetspris Leiested
A19: Leiestedskostnader | B19: Egenandel | E19: =E17*E18 -> 0 | F19: =F17*F18 -> 0 | G19: =G17*G18 -> 0 | H19: =H17*H18 -> 0 | I19: =I17*I18 -> 0 | J19: =J17*J18 -> 0 | K19: =K17*K18 -> 0 | L19: =L17*L18 -> 0 | ... N19: =N17*N18 -> 0 | O19: =SUM(E19:N19) -> 0
A20: Leiested 5
A21: Antall timer/enheter Leiested
A22: Enhetspris Leiested
A23: Leiestedskostnader | B23: Egenandel | E23: =E21*E22 -> 0 | F23: =F21*F22 -> 0 | G23: =G21*G22 -> 0 | H23: =H21*H22 -> 0 | I23: =I21*I22 -> 0 | J23: =J21*J22 -> 0 | K23: =K21*K22 -> 0 | L23: =L21*L22 -> 0 | ... N23: =N21*N22 -> 0 | O23: =SUM(E23:N23) -> 0
A24: Leiested 6
A25: Antall timer/enheter Leiested
A26: Enhetspris Leiested
A27: Leiestedskostnader | B27: Egenandel | E27: =E25*E26 -> 0 | F27: =F25*F26 -> 0 | G27: =G25*G26 -> 0 | H27: =H25*H26 -> 0 | I27: =I25*I26 -> 0 | J27: =J25*J26 -> 0 | K27: =K25*K26 -> 0 | L27: =L25*L26 -> 0 | ... N27: =N25*N26 -> 0 | O27: =SUM(E27:N27) -> 0
A28: Leiested 7
A29: Antall timer/enheter Leiested
A30: Enhetspris Leiested
A31: Leiestedskostnader | B31: Egenandel | E31: =E29*E30 -> 0 | F31: =F29*F30 -> 0 | G31: =G29*G30 -> 0 | H31: =H29*H30 -> 0 | I31: =I29*I30 -> 0 | J31: =J29*J30 -> 0 | K31: =K29*K30 -> 0 | L31: =L29*L30 -> 0 | ... N31: =N29*N30 -> 0 | O31: =SUM(E31:N31) -> 0
A32: Leiested 8
A33: Antall timer/enheter Leiested
A34: Enhetspris Leiested
A35: Leiestedskostnader | B35: Egenandel | E35: =E33*E34 -> 0 | F35: =F33*F34 -> 0 | G35: =G33*G34 -> 0 | H35: =H33*H34 -> 0 | I35: =I33*I34 -> 0 | J35: =J33*J34 -> 0 | K35: =K33*K34 -> 0 | L35: =L33*L34 -> 0 | ... N35: =N33*N34 -> 0 | O35: =SUM(E35:N35) -> 0
A36: Leiested 9
A37: Antall timer/enheter Leiested
A38: Enhetspris Leiested
A39: Leiestedskostnader | B39: Egenandel | E39: =E37*E38 -> 0 | F39: =F37*F38 -> 0 | G39: =G37*G38 -> 0 | H39: =H37*H38 -> 0 | I39: =I37*I38 -> 0 | J39: =J37*J38 -> 0 | K39: =K37*K38 -> 0 | L39: =L37*L38 -> 0 | ... N39: =N37*N38 -> 0 | O39: =SUM(E39:N39) -> 0
A40: Leiested 10
...

Sheet Intern oversikt
B1: Grunnlag for UiO sine interne styring (totalregnskapsføring)
B3: Prosjekttittel: | C3: =IF(Registrering!$C$4="","",Registrering!$C$4) | G3: Startdato: | H3: =IF(Registrering!$C$18="","na",Registrering!$C$18) -> na | J3: Dato:
B4: Prosjektnr: | C4: =IF(Registrering!C8="","na",Registrering!C8) -> na | G4: Sluttdato: | H4: =IF(Registrering!$C$19="","na",Registrering!$C$19) -> na | J4: =IF(Registrering!C16="","",Registrering!C16)
B5: Saksnummer ePhorte: | C5: =IF(Registrering!$C$9="","na",Registrering!$C$9) -> na | G5: Prosjekttype (overheadkostnader): | H5: =Registrering!C27 -> Prosjekter som foregår i UiOs lokaler
B6: Prosjektkategorisering: | C6: =Registrering!C24 -> 0 | F6: Finansieringstype: | H6: =Registrering!C26 -> Fast beløp | I6: =Registrering!C25 -> Kostnadsspesifikk
B9: Intern rapport - søknadsbudsjett | C9: =Budsjett!F3 -> Periode 1 (1-18 month) | D9: =Budsjett!G3 -> Periode 2 (19-36 month) | E9: =Budsjett!H3 -> Periode 3 (37-54 month) | F9: =Budsjett!I3 -> Periode 4 (55-60 (72) month) | G9: Levetids-prognose
B10: Eksterne inntekter | C10: =Budsjett!F49 -> 0 | D10: =Budsjett!G49 -> 0 | E10: =Budsjett!H49 -> 0 | F10: =Budsjett!I49 -> 0 | G10: =SUM(C10:F10) -> 0
B11: Viderefordelte inntekter | C11: =Budsjett!F45 -> 0 | D11: =Budsjett!G45 -> 0 | E11: =Budsjett!H45 -> 0 | F11: =Budsjett!I45 -> 0 | G11: =SUM(C11:F11) -> 0
B12: Egenandel | C12: =Budsjett!F50 -> 0 | D12: =Budsjett!G50 -> 0 | E12: =Budsjett!H50 -> 0 | F12: =Budsjett!I50 -> 0 | G12: =SUM(C12:F12) -> 0
B13: Totale inntekter | C13: =SUM(C10:C12) -> 0 | D13: =SUM(D10:D12) -> 0 | E13: =SUM(E10:E12) -> 0 | F13: =SUM(F10:F12) -> 0 | G13: =SUM(C13:F13) -> 0
B14: Personalkostnader | C14: =Budsjett!AL12+Budsjett!AL34 -> 0 | D14: =Budsjett!AM12+Budsjett!AM34 -> 0 | E14: =Budsjett!AN12+Budsjett!AN34 -> 0 | F14: =Budsjett!AO12+Budsjett!AO34 -> 0 | G14: =SUM(C14:F14) -> 0
B15: Kostnad eksternt fin frikjøp | C15: =Budsjett!AL20 -> 0 | D15: =Budsjett!AM20 -> 0 | E15: =Budsjett!AN20 -> 0 | F15: =Budsjett!AO20 -> 0 | G15: =SUM(C15:F15) -> 0
B16: Kostnad internt fin frikjøp | C16: =Budsjett!AL28 -> 0 | D16: =Budsjett!AM28 -> 0 | E16: =Budsjett!AN28 -> 0 | F16: =Budsjett!AO28 -> 0 | G16: =SUM(C16:F16) -> 0
B17: Eksternt fin overheadkostnader | C17: =Budsjett!AW35 -> 0 | D17: =Budsjett!AX35 -> 0 | E17: =Budsjett!AY35 -> 0 | F17: =Budsjett!AZ35 -> 0 | G17: =SUM(C17:F17) -> 0
B18: Internt fin overheadkostnader | C18: =Budsjett!BC35 -> 0 | D18: =Budsjett!BD35 -> 0 | E18: =Budsjett!BE35 -> 0 | F18: =Budsjett!BF35 -> 0 | G18: =SUM(C18:F18) -> 0
B19: Investeringer | C19: =Budsjett!F46 -> 0 | D19: =Budsjett!G46 -> 0 | E19: =Budsjett!H46 -> 0 | F19: =Budsjett!I46 -> 0 | G19: =SUM(C19:F19) -> 0
B20: Eksternt fin leiestedskostnader | C20: =Budsjett!F42 -> 0 | D20: =Budsjett!G42 -> 0 | E20: =Budsjett!H42 -> 0 | F20: =Budsjett!I42 -> 0 | G20: =SUM(C20:F20) -> 0
B21: Internt fin. leiestedskostnader | C21: =Budsjett!F41 -> 0 | D21: =Budsjett!G41 -> 0 | E21: =Budsjett!H41 -> 0 | F21: =Budsjett!I41 -> 0 | G21: =SUM(C21:F21) -> 0
B22: Direkte driftskostnader | C22: =Budsjett!F38+Budsjett!F39+Budsjett!F40+Budsjett!F44+Budsjett!F43 -> 0 | D22: =Budsjett!G38+Budsjett!G39+Budsjett!G40+Budsjett!G44+Budsjett!G43 -> 0 | E22: =Budsjett!H38+Budsjett!H39+Budsjett!H40+Budsjett!H44+Budsjett!H43 -> 0 | F22: =Budsjett!I38+Budsjett!I39+Budsjett!I40+Budsjett!I44+Budsjett!I43 -> 0 | G22: =SUM(C22:F22) -> 0
B23: Totale kostnader | C23: =SUM(C14:C22) -> 0 | D23: =SUM(D14:D22) -> 0 | E23: =SUM(E14:E22) -> 0 | F23: =SUM(F14:F22) -> 0 | G23: =SUM(C23:F23) -> 0
B24: Resultat levetidsprognose | C24: =C23+C13 -> 0 | D24: =D23+D13 -> 0 | E24: =E23+E13 -> 0 | F24: =F23+F13 -> 0 | G24: =G23+G13 -> 0
B26: Nettobidrag | C26: =C15+C17+C12+C16+C18+C21+C20 -> 0 | D26: =D15+D17+D12+D16+D18+D21+D20 -> 0 | E26: =E15+E17+E12+E16+E18+E21+E20 -> 0 | F26: =F15+F17+F12+F16+F18+F21+F20 -> 0 | G26: =G15+G17+G12+G16+G18+G21+G20 -> 0 | H26: =Registrering!C23 -> 11.04 | I26: =Registrering!B23 -> Valutakurs (må forankres hos instituttleder)
D27: =Budsjett!A58 -> Mer inntekt/kostnad for instituttet | G27: =Budsjett!G58 -> 0
D28: =Budsjett!A59 -> Prosjektets reelle nettobidrag | G28: =G26-G27 -> 0
D29: IK - splitt (Unit 4) | G29: =(Budsjett!BA12+Budsjett!BA20)/(Budsjett!AU12+Budsjett!AU20) -> #DIV/0!
B30: Kort begrunnelse for prosjektets faglige interesse: | C30: =Registrering!C10 -> 0 | L30: Total overheadkostnad | M30: =IFERROR((G17+G18)/(G14+G15+G16),"")
L31: Eksternt fin. overhead | M31: =IFERROR((G17/(G14+G15)),"")
L32: Egenandelsprosent | M32: =IFERROR(-G12/SUM(G23:G23),"")
B33: Underskrifter (på papirutskriften - som skal arkiveres)
B35: Prosjekteier (instituttleder) | D35: Dato | E35: Prosjektleder | J35: Dato
B36: =Registrering!C7 -> 0 | E36: =Registrering!C5 -> 0

Sheet NFR-budsjett
B1: NFR - budgeting form
B3: Cost plan (in NOK 1000)*
C4: =Budsjett!F3 -> Periode 1 (1-18 month) | D4: =Budsjett!G3 -> Periode 2 (19-36 month) | E4: =Budsjett!H3 -> Periode 3 (37-54 month) | F4: =Budsjett!I3 -> Periode 4 (55-60 (72) month) | G4: =Budsjett!#REF! -> #REF! | H4: =Budsjett!#REF! -> #REF! | I4: =Budsjett!#REF! -> #REF! | J4: =Budsjett!#REF! -> #REF! | K4: =Budsjett!#REF! -> #REF! | L4: =Budsjett!#REF! -> #REF! | M4: Sum 3 siste år | N4: Sum
B5: Payroll and indirect expenses | C5: =SUM('Intern oversikt'!C14+'Intern oversikt'!C15+'Intern oversikt'!C16+'Intern oversikt'!C17+'Intern oversikt'!C18) -> 0 | D5: =SUM('Intern oversikt'!D14+'Intern oversikt'!D15+'Intern oversikt'!D16+'Intern oversikt'!D17+'Intern oversikt'!D18) -> 0 | E5: =SUM('Intern oversikt'!E14+'Intern oversikt'!E15+'Intern oversikt'!E16+'Intern oversikt'!E17+'Intern oversikt'!E18) -> 0 | F5: =SUM('Intern oversikt'!F14+'Intern oversikt'!F15+'Intern oversikt'!F16+'Intern oversikt'!F17+'Intern oversikt'!F18) -> 0 | G5: =SUM('Intern oversikt'!#REF!+'Intern oversikt'!#REF!+'Intern oversikt'!#REF!+'Intern oversikt'!#REF!+'Intern oversikt'!#REF!) -> #REF! | H5: =SUM('Intern oversikt'!#REF!+'Intern oversikt'!#REF!+'Intern oversikt'!#REF!+'Intern oversikt'!#REF!+'Intern oversikt'!#REF!) -> #REF! | I5: =SUM('Intern oversikt'!#REF!+'Intern oversikt'!#REF!+'Intern oversikt'!#REF!+'Intern oversikt'!#REF!+'Intern oversikt'!#REF!) -> #REF! | J5: =SUM('Intern oversikt'!#REF!+'Intern oversikt'!#REF!+'Intern oversikt'!#REF!+'Intern oversikt'!#REF!+'Intern oversikt'!#REF!) -> #REF! | K5: =SUM('Intern oversikt'!#REF!+'Intern oversikt'!#REF!+'Intern oversikt'!#REF!+'Intern oversikt'!#REF!+'Intern oversikt'!#REF!) -> #REF! | L5: =SUM('Intern oversikt'!#REF!+'Intern oversikt'!#REF!+'Intern oversikt'!#REF!+'Intern oversikt'!#REF!+'Intern oversikt'!#REF!) -> #REF! | M5: =H5+I5+J5 -> #REF! | N5: =SUM(C5:L5) -> #REF!
B6: Procurement of R&D services | C6: =Budsjett!F44+Budsjett!F45 -> 0 | D6: =Budsjett!G44+Budsjett!G45 -> 0 | E6: =Budsjett!H44+Budsjett!H45 -> 0 | F6: =Budsjett!I44+Budsjett!I45 -> 0 | G6: =Budsjett!#REF!+Budsjett!#REF! -> #REF! | H6: =Budsjett!#REF!+Budsjett!#REF! -> #REF! | I6: =Budsjett!#REF!+Budsjett!#REF! -> #REF! | J6: =Budsjett!#REF!+Budsjett!#REF! -> #REF! | K6: =Budsjett!#REF!+Budsjett!#REF! -> #REF! | L6: =Budsjett!#REF!+Budsjett!#REF! -> #REF! | M6: =H6+I6+J6 -> #REF! | N6: =SUM(C6:L6) -> #REF!
B7: Equipment | C7: =Budsjett!F46 -> 0 | D7: =Budsjett!G46 -> 0 | E7: =Budsjett!H46 -> 0 | F7: =Budsjett!I46 -> 0 | G7: =Budsjett!#REF! -> #REF! | H7: =Budsjett!#REF! -> #REF! | I7: =Budsjett!#REF! -> #REF! | J7: =Budsjett!#REF! -> #REF! | K7: =Budsjett!#REF! -> #REF! | L7: =Budsjett!#REF! -> #REF! | M7: =H7+I7+J7 -> #REF! | N7: =SUM(C7:L7) -> #REF!
