Workbook

Sheet Forside
B1: Budsjetteringsmaler Universitetet i Oslo
B2: Velg type mal i nedtrekksmenyene under og faner vises automatisk
B3: Kategorisering
B4: Oppdrag
B6: Søknadstype - oppdrag
B7: Konferansebudsjett
B9: Søknadstype - bidrag
B10: Ordinære NFR prosjekter
A40: 45314

Sheet Registrering
A2: Prosjektinformasjon
A3: Prosjekttittel*
A4: Prosjektleder*
A5: Prosjekteier *
A6: Navn på enhet*
A7: Etterutdanning eller videreutdanning? | B7: Videreutdanning
A8: Prosjektnummer (om opprettet)
A9: Saksnummer i ephorte (om opprettet)
A10: Hvis videreutdanning: | B10: Deltakerbetaling (100%)
A11: Prosjektperiode
A12: Prosjektstart (dd.mm.år)*
A13: Prosjektets (avtaleperioden) start*
A14: Prosjektets (avtaleperioden) slutt*
A15: Prosjektslutt (dd.mm.år)
A16: Informasjon om finansiering
A17: Antall studenter | J17: Totalt antall studiepoeng | K17: Overhead per studiepoeng | L17: Overhead totale studiepoeng | M17: Antall helårsekvivalenter
A18: Studiepoeng | J18: =B17*B18 -> 0 | K18: 804 | L18: =K18*J18 -> 0 | M18: =J18/60 -> 0
A19: Finansieringskategori
A21: Prosjekttype (overheadkostnader)* | B21: Prosjekter som foregår i UiOs lokaler
A22: Rebudsjettering
A23: Beskrivelse av endringer
A28: Fra når gjelder rebudsjetteringene
A29: Ny sluttdato
A30: Oppdrag
A31: Påslag uforutsette hendelser (%)
A32: Påslag fortjeneste (%)
A33: Merverdiavgift
A34: Hvis ikke merverdiavgift, angi årsak
A36: Konferanser
A37: Antall betalende deltakere
A38: Antall deltakere hvor UiO har utlegg (forutsetter like utlegg)
... A40: Subsidiering (NB: husk å trekke ut mva- grunnlaget)
A41: Påslag for indirekte kostnader | B41: 0.4
A42: Satser for indirekte kostnader på undervisning | B42: Vitenskapelig | E42: Teknisk/administrativ
B43: 501000 | E43: 173000
A44: Pris- lønnsjustering
A45: Årlig lønnsjustering i hele prosjektperioden | B45: Ja
B46: 2026 | E46: 2027 | J46: 2028 og fremover
A47: Årlig lønnsjustering i hele prosjektperioden | B47: 0.035 | E47: =Tabeller!L32 -> 0.035 | J47: 0.035

Sheet Budsjett
A1: Alle beløp er angitt i hele kroner | C1: Prosjekttittel: | D1: =Registrering!B3 -> 0 | BC1: LØNNS- OG DRIFTSKOSTNADER | BI1: =#REF!*J64 -> #REF! | BQ1: OVERHEADKOSTNADER | CE1: Omregnet timer til årsverk | CS1: Eksternt finansiert overhead | DH1: Internt finansiert overhead | DW1: Ekstern finansiering | EM1: NFR | FC1: Private | FS1: Internasjonale | GI1: Offentlige | GZ1: Egenandel | HQ1: Overhead i henhold til TDI
J3: TIMER (Ett årsverk utgjør 1628 timer) | FC3: =EM3 -> 0 | FS3: =FC3 -> 0 | GI3: =FS3 -> 0 | GZ3: =GI3 -> 0
B4: Frikjøp av eksisterende ansatte | C4: Lønn og sos. kostn. | D4: Indirekte kostnader | E4: Totalt | F4: Årsv | G4: Finansiør | H4: Årslønn | I4: Navn | J4: =Tabeller!D1 -> 2025 | K4: =J4+1 -> 2026 | L4: =K4+1 -> 2027 | M4: =L4+1 -> 2028 | N4: =M4+1 -> 2029 | O4: =N4+1 -> 2030 | P4: =O4+1 -> 2031 | Q4: =P4+1 -> 2032 | R4: =Q4+1 -> 2033 | ... V4: =U4+1 -> 2037 | AR4: Bruttolønn | AS4: inkl lønnsv. | AT4: Lønn | AU4: Feriep | AV4: AGA | AW4: Pensjon | AX4: inkl sos.avg. | AY4: inkl. ind.kost. | AZ4: Timesats | BC4: =J4 -> 2025 | BD4: =K4 -> 2026 | BE4: =L4 -> 2027 | BF4: =M4 -> 2028 | BG4: =N4 -> 2029 | BH4: =O4 -> 2030 | BI4: =P4 -> 2031 | BJ4: =Q4 -> 2032 | ... BO4: =V4 -> 2037 | BQ4: =BC4 -> 2025 | BR4: =BD4 -> 2026 | BS4: =BE4 -> 2027 | BT4: =BF4 -> 2028 | BU4: =BG4 -> 2029 | BV4: =BH4 -> 2030 | BW4: =BI4 -> 2031 | BX4: =BJ4 -> 2032 | ... CC4: =BO4 -> 2037 | CE4: =BC4 -> 2025 | CF4: =BD4 -> 2026 | CG4: =BE4 -> 2027 | CH4: =BF4 -> 2028 | CI4: =BG4 -> 2029 | CJ4: =BH4 -> 2030 | CK4: =BI4 -> 2031 | CL4: =BJ4 -> 2032 | ... CQ4: =BO4 -> 2037 | CS4: =BQ4 -> 2025 | CT4: =BR4 -> 2026 | CU4: =BS4 -> 2027 | CV4: =BT4 -> 2028 | CW4: =BU4 -> 2029 | CX4: =BV4 -> 2030 | CY4: =BW4 -> 2031 | CZ4: =BX4 -> 2032 | ... DE4: =CC4 -> 2037 | DH4: =DW4 -> 2025 | DI4: =DX4 -> 2026 | DJ4: =DY4 -> 2027 | DK4: =DZ4 -> 2028 | DL4: =EA4 -> 2029 | DM4: =EB4 -> 2030 | DN4: =EC4 -> 2031 | DO4: =ED4 -> 2032 | ... DT4: =EI4 -> 2037 | DW4: =CS4 -> 2025 | DX4: =CT4 -> 2026 | DY4: =CU4 -> 2027 | DZ4: =CV4 -> 2028 | EA4: =CW4 -> 2029 | EB4: =CX4 -> 2030 | EC4: =CY4 -> 2031 | ED4: =CZ4 -> 2032 | ... EI4: =DE4 -> 2037 | EJ4: Totalt | EN4: =CS4 -> 2025 | EO4: =CT4 -> 2026 | EP4: =CU4 -> 2027 | EQ4: =CV4 -> 2028 | ER4: =CW4 -> 2029 | ES4: =CX4 -> 2030 | ET4: =CY4 -> 2031 | EU4: =CZ4 -> 2032 | ... EZ4: =DE4 -> 2037 | FA4: = | FC4: =EM4 -> 0 | FD4: = | FE4: = | FF4: = | FG4: = | FH4: = | FI4: = | FJ4: = | FK4: = | FL4: = | FM4: = | FN4: = | FO4: = | FP4: = | FQ4: = | FS4: =FC4 -> 0 | FT4: = | FU4: = | FV4: = | FW4: = | FX4: = | FY4: = | FZ4: = | GA4: = | GB4: = | GC4: = | GD4: = | GE4: = | GF4: = | GG4: = | GI4: =FS4 -> 0 | GJ4: = | GK4: = | GL4: = | GM4: = | GN4: = | GO4: = | GP4: = | GQ4: = | GR4: = | GS4: = | GT4: = | GU4: = | GV4: = | GW4: = | GZ4: =GI4 -> 0 | HA4: = | HB4: = | HC4: = | HD4: = | HE4: = | HF4: = | HG4: = | HH4: = | HI4: = | HJ4: = | HK4: = | HL4: = | HM4: = | HN4: = | HQ4: =BC4 -> 2025 | HR4: =BD4 -> 2026 | HS4: =BE4 -> 2027 | HT4: =BF4 -> 2028 | HU4: =BG4 -> 2029 | HV4: =BH4 -> 2030 | HW4: =BI4 -> 2031 | HX4: =BJ4 -> 2032 | ... IC4: =BO4 -> 2037
C5: =SUM(BC5:BO5) -> 0 | D5: =SUM(BQ5:CC5) -> 0 | E5: =SUM(C5:D5) -> 0 | F5: =SUM(J5:V5)/Tabeller!H$5 -> 0 | AR5: =H5 -> 0 | AS5: =AR5*Tabeller!$I$35 -> 0 | AT5: =IF(AR5>0,(AS5-400)/52*47,0) -> 0 | AU5: =AT5*Tabeller!$H$26 -> 0 | AV5: =SUM(AT5:AU5,AW5)*Tabeller!$H$28 -> 0 | AW5: =AS5*Tabeller!$H$27 -> 0 | AX5: =SUM(AT5:AW5) -> 0 | AY5: =AX5+(IF(B5="Teknisk adm bistand",Registrering!$E$43,Registrering!$B$43)) -> 501000 | AZ5: =AY5/Tabeller!$H$5 -> 307.73956 | BC5: =((J5*Budsjett!$AZ5)*(Tabeller!I$35)) -> 0 | BD5: =((K5*Budsjett!$AZ5)*(Tabeller!J$35)) -> 0 | BE5: =((L5*Budsjett!$AZ5)*(Tabeller!K$35)) -> 0 | BF5: =((M5*Budsjett!$AZ5)*(Tabeller!L$35)) -> 0 | BG5: =((N5*Budsjett!$AZ5)*(Tabeller!M$35)) -> 0 | BH5: =((O5*Budsjett!$AZ5)*(Tabeller!N$35)) -> 0 | BI5: =((P5*Budsjett!$AZ5)*(Tabeller!O$35)) -> 0 | BJ5: =((Q5*Budsjett!$AZ5)*(Tabeller!P$35)) -> 0 | ... BO5: =((V5*Budsjett!$AZ5)*(Tabeller!U$35)) -> 0 | BQ5: =IFERROR(IF($B5="Teknisk/adm. bistand/Feltassistent",CE5*Tabeller!J$11,Budsjett!CE5*Tabeller!J$10),0) -> 0 | BR5: =IFERROR(IF($B5="Teknisk/adm. bistand/Feltassistent",CF5*Tabeller!K$11,Budsjett!CF5*Tabeller!K$10),0) -> 0 | BS5: =IFERROR(IF($B5="Teknisk/adm. bistand/Feltassistent",CG5*Tabeller!L$11,Budsjett!CG5*Tabeller!L$10),0) -> 0 | BT5: =IFERROR(IF($B5="Teknisk/adm. bistand/Feltassistent",CH5*Tabeller!M$11,Budsjett!CH5*Tabeller!M$10),0) -> 0 | BU5: =IFERROR(IF($B5="Teknisk/adm. bistand/Feltassistent",CI5*Tabeller!N$11,Budsjett!CI5*Tabeller!N$10),0) -> 0 | BV5: =IFERROR(IF($B5="Teknisk/adm. bistand/Feltassistent",CJ5*Tabeller!O$11,Budsjett!CJ5*Tabeller!O$10),0) -> 0 | BW5: =IFERROR(IF($B5="Teknisk/adm. bistand/Feltassistent",CK5*Tabeller!P$11,Budsjett!CK5*Tabeller!P$10),0) -> 0 | BX5: =IFERROR(IF($B5="Teknisk/adm. bistand/Feltassistent",CL5*Tabeller!Q$11,Budsjett!CL5*Tabeller!Q$10),0) -> 0 | ... CC5: =IFERROR(IF($B5="Teknisk/adm. bistand/Feltassistent",CQ5*Tabeller!V$11,Budsjett!CQ5*Tabeller!V$10),0) -> 0 | CE5: =J5/Tabeller!$H$5 -> 0 | CF5: =K5/Tabeller!$H$5 -> 0 | CG5: =L5/Tabeller!$H$5 -> 0 | CH5: =M5/Tabeller!$H$5 -> 0 | CI5: =N5/Tabeller!$H$5 -> 0 | CJ5: =O5/Tabeller!$H$5 -> 0 | CK5: =P5/Tabeller!$H$5 -> 0 | CL5: =Q5/Tabeller!$H$5 -> 0 | ... CQ5: =V5/Tabeller!$H$5 -> 0 | CS5: =IFERROR(IF($E$61=$L$61,BC5*#REF!,BC5*Budsjett!#REF!),0) -> 0 | CT5: =IFERROR(IF($E$61=$L$61,BD5*#REF!,BD5*Budsjett!#REF!),0) -> 0 | CU5: =IFERROR(IF($E$61=$L$61,BE5*#REF!,BE5*Budsjett!#REF!),0) -> 0 | CV5: =IFERROR(IF($E$61=$L$61,BF5*#REF!,BF5*Budsjett!#REF!),0) -> 0 | CW5: =IFERROR(IF($E$61=$L$61,BG5*#REF!,BG5*Budsjett!#REF!),0) -> 0 | CX5: =IFERROR(IF($E$61=$L$61,BH5*#REF!,BH5*Budsjett!#REF!),0) -> 0 | CY5: =IFERROR(IF($E$61=$L$61,BI5*#REF!,BI5*Budsjett!#REF!),0) -> 0 | CZ5: =IFERROR(IF($E$61=$L$61,BJ5*#REF!,BJ5*Budsjett!#REF!),0) -> 0 | ... DE5: =IFERROR(IF($E$61=$L$61,BO5*#REF!,BO5*Budsjett!#REF!),0) -> 0 | DH5: =BQ5-CS5 -> 0 | DI5: =BR5-CT5 -> 0 | DJ5: =BS5-CU5 -> 0 | DK5: =BT5-CV5 -> 0 | DL5: =BU5-CW5 -> 0 | DM5: =BV5-CX5 -> 0 | DN5: =BW5-CY5 -> 0 | DO5: =BX5-CZ5 -> 0 | ... DT5: =CC5-DE5 -> 0 | DV5: =B5 -> 0 | DW5: =-((IF($DV5="Teknisk/adm. bistand/Feltassistent",IF(Budsjett!BC5*(1+Tabeller!$I$61)>Tabeller!I$55,Tabeller!I$55,Budsjett!BC5*(1+Tabeller!$I$61)),0)+(IF($DV5="Forsker - professor",Tabeller!I$55*J5,0)+IF($DV5="Prosjektleder/adm.leder",Tabeller!I$54*J5,0)+IF($DV5="Forsker - 1.aman.",Tabeller!I$56*J5,0)+IF($DV5="Gjesteforsker",Tabeller!I$57*J5,0)+IF($DV5="Postdoktor / forsker",Tabeller!I$58*J5,0)+IF($DV5="Stipendiat",Tabeller!I$59*J5,0)+IF($DV5="Forsker (rundsum)",Tabeller!#REF!*J5,0)+IF($DV5="Vit.ass",Tabeller!I$60*J5,0))/1)) -> 0 | DX5: =-((IF($DV5="Teknisk/adm. bistand/Feltassistent",IF(Budsjett!BD5*(1+Tabeller!$I$61)>Tabeller!J$55,Tabeller!J$55,Budsjett!BD5*(1+Tabeller!$I$61)),0)+(IF($DV5="Forsker - professor",Tabeller!J$55*K5,0)+IF($DV5="Prosjektleder/adm.leder",Tabeller!J$54*K5,0)+IF($DV5="Forsker - 1.aman.",Tabeller!J$56*K5,0)+IF($DV5="Gjesteforsker",Tabeller!J$57*K5,0)+IF($DV5="Postdoktor / forsker",Tabeller!J$58*K5,0)+IF($DV5="Stipendiat",Tabeller!J$59*K5,0)+IF($DV5="Forsker (rundsum)",Tabeller!#REF!*K5,0)+IF($DV5="Vit.ass",Tabeller!J$60*K5,0))/1)) -> 0 | DY5: =-((IF($DV5="Teknisk/adm. bistand/Feltassistent",IF(Budsjett!BE5*(1+Tabeller!$I$61)>Tabeller!K$55,Tabeller!K$55,Budsjett!BE5*(1+Tabeller!$I$61)),0)+(IF($DV5="Forsker - professor",Tabeller!K$55*L5,0)+IF($DV5="Prosjektleder/adm.leder",Tabeller!K$54*L5,0)+IF($DV5="Forsker - 1.aman.",Tabeller!K$56*L5,0)+IF($DV5="Gjesteforsker",Tabeller!K$57*L5,0)+IF($DV5="Postdoktor / forsker",Tabeller!K$58*L5,0)+IF($DV5="Stipendiat",Tabeller!K$59*L5,0)+IF($DV5="Forsker (rundsum)",Tabeller!#REF!*L5,0)+IF($DV5="Vit.ass",Tabeller!K$60*L5,0))/1)) -> 0 | DZ5: =-((IF($DV5="Teknisk/adm. bistand/Feltassistent",IF(Budsjett!BF5*(1+Tabeller!$I$61)>Tabeller!L$55,Tabeller!L$55,Budsjett!BF5*(1+Tabeller!$I$61)),0)+(IF($DV5="Forsker - professor",Tabeller!L$55*M5,0)+IF($DV5="Prosjektleder/adm.leder",Tabeller!L$54*M5,0)+IF($DV5="Forsker - 1.aman.",Tabeller!L$56*M5,0)+IF($DV5="Gjesteforsker",Tabeller!L$57*M5,0)+IF($DV5="Postdoktor / forsker",Tabeller!L$58*M5,0)+IF($DV5="Stipendiat",Tabeller!L$59*M5,0)+IF($DV5="Forsker (rundsum)",Tabeller!#REF!*M5,0)+IF($DV5="Vit.ass",Tabeller!L$60*M5,0))/1)) -> 0 | EA5: =-((IF($DV5="Teknisk/adm. bistand/Feltassistent",IF(Budsjett!BG5*(1+Tabeller!$I$61)>Tabeller!M$55,Tabeller!M$55,Budsjett!BG5*(1+Tabeller!$I$61)),0)+(IF($DV5="Forsker - professor",Tabeller!M$55*N5,0)+IF($DV5="Prosjektleder/adm.leder",Tabeller!M$54*N5,0)+IF($DV5="Forsker - 1.aman.",Tabeller!M$56*N5,0)+IF($DV5="Gjesteforsker",Tabeller!M$57*N5,0)+IF($DV5="Postdoktor / forsker",Tabeller!M$58*N5,0)+IF($DV5="Stipendiat",Tabeller!M$59*N5,0)+IF($DV5="Forsker (rundsum)",Tabeller!#REF!*N5,0)+IF($DV5="Vit.ass",Tabeller!M$60*N5,0))/1)) -> 0 | EB5: =-((IF($DV5="Teknisk/adm. bistand/Feltassistent",IF(Budsjett!BH5*(1+Tabeller!$I$61)>Tabeller!N$55,Tabeller!N$55,Budsjett!BH5*(1+Tabeller!$I$61)),0)+(IF($DV5="Forsker - professor",Tabeller!N$55*O5,0)+IF($DV5="Prosjektleder/adm.leder",Tabeller!N$54*O5,0)+IF($DV5="Forsker - 1.aman.",Tabeller!N$56*O5,0)+IF($DV5="Gjesteforsker",Tabeller!N$57*O5,0)+IF($DV5="Postdoktor / forsker",Tabeller!N$58*O5,0)+IF($DV5="Stipendiat",Tabeller!N$59*O5,0)+IF($DV5="Forsker (rundsum)",Tabeller!#REF!*O5,0)+IF($DV5="Vit.ass",Tabeller!N$60*O5,0))/1)) -> 0 | EC5: =-((IF($DV5="Teknisk/adm. bistand/Feltassistent",IF(Budsjett!BI5*(1+Tabeller!$I$61)>Tabeller!O$55,Tabeller!O$55,Budsjett!BI5*(1+Tabeller!$I$61)),0)+(IF($DV5="Forsker - professor",Tabeller!O$55*P5,0)+IF($DV5="Prosjektleder/adm.leder",Tabeller!O$54*P5,0)+IF($DV5="Forsker - 1.aman.",Tabeller!O$56*P5,0)+IF($DV5="Gjesteforsker",Tabeller!O$57*P5,0)+IF($DV5="Postdoktor / forsker",Tabeller!O$58*P5,0)+IF($DV5="Stipendiat",Tabeller!O$59*P5,0)+IF($DV5="Forsker (rundsum)",Tabeller!#REF!*P5,0)+IF($DV5="Vit.ass",Tabeller!O$60*P5,0))/1)) -> 0 | ED5: =-((IF($DV5="Teknisk/adm. bistand/Feltassistent",IF(Budsjett!BJ5*(1+Tabeller!$I$61)>Tabeller!P$55,Tabeller!P$55,Budsjett!BJ5*(1+Tabeller!$I$61)),0)+(IF($DV5="Forsker - professor",Tabeller!P$55*Q5,0)+IF($DV5="Prosjektleder/adm.leder",Tabeller!P$54*Q5,0)+IF($DV5="Forsker - 1.aman.",Tabeller!P$56*Q5,0)+IF($DV5="Gjesteforsker",Tabeller!P$57*Q5,0)+IF($DV5="Postdoktor / forsker",Tabeller!P$58*Q5,0)+IF($DV5="Stipendiat",Tabeller!P$59*Q5,0)+IF($DV5="Forsker (rundsum)",Tabeller!#REF!*Q5,0)+IF($DV5="Vit.ass",Tabeller!P$60*Q5,0))/1)) -> 0 | ... EI5: =-((IF($DV5="Teknisk/adm. bistand/Feltassistent",IF(Budsjett!BO5*(1+Tabeller!$I$61)>Tabeller!U$55,Tabeller!U$55,Budsjett!BO5*(1+Tabeller!$I$61)),0)+(IF($DV5="Forsker - professor",Tabeller!U$55*V5,0)+IF($DV5="Prosjektleder/adm.leder",Tabeller!U$54*V5,0)+IF($DV5="Forsker - 1.aman.",Tabeller!U$56*V5,0)+IF($DV5="Gjesteforsker",Tabeller!U$57*V5,0)+IF($DV5="Postdoktor / forsker",Tabeller!U$58*V5,0)+IF($DV5="Stipendiat",Tabeller!U$59*V5,0)+IF($DV5="Forsker (rundsum)",Tabeller!#REF!*V5,0)+IF($DV5="Vit.ass",Tabeller!U$60*V5,0))/1)) -> 0 | EJ5: =SUM(DW5:EI5) -> 0 | EM5: =DV5 -> 0 | EN5: =IF($G5="NFR",DW5,0) -> 0 | EO5: =IF($G5="NFR",DX5,0) -> 0 | EP5: =IF($G5="NFR",DY5,0) -> 0 | EQ5: =IF($G5="NFR",DZ5,0) -> 0 | ER5: =IF($G5="NFR",EA5,0) -> 0 | ES5: =IF($G5="NFR",EB5,0) -> 0 | ET5: =IF($G5="NFR",EC5,0) -> 0 | EU5: =IF($G5="NFR",ED5,0) -> 0 | ... EZ5: =IF($G5="NFR",EI5,0) -> 0 | FA5: =SUM(EN5:EZ5) -> 0 | FC5: =EM5 -> 0 | FD5: =IF($G5=$FC$1,DW5,0) -> 0 | FE5: =IF($G5=$FC$1,DX5,0) -> 0 | FF5: =IF($G5=$FC$1,DY5,0) -> 0 | FG5: =IF($G5=$FC$1,DZ5,0) -> 0 | FH5: =IF($G5=$FC$1,EA5,0) -> 0 | FI5: =IF($G5=$FC$1,EB5,0) -> 0 | FJ5: =IF($G5=$FC$1,EC5,0) -> 0 | FK5: =IF($G5=$FC$1,ED5,0) -> 0 | ... FP5: =IF($G5=$FC$1,EI5,0) -> 0 | FQ5: =SUM(FD5:FP5) -> 0 | FS5: =FC5 -> 0 | FT5: =IF($G5=$FS$1,DW5,0) -> 0 | FU5: =IF($G5=$FS$1,DX5,0) -> 0 | FV5: =IF($G5=$FS$1,DY5,0) -> 0 | FW5: =IF($G5=$FS$1,DZ5,0) -> 0 | FX5: =IF($G5=$FS$1,EA5,0) -> 0 | FY5: =IF($G5=$FS$1,EB5,0) -> 0 | FZ5: =IF($G5=$FS$1,EC5,0) -> 0 | GA5: =IF($G5=$FS$1,ED5,0) -> 0 | ... GF5: =IF($G5=$FS$1,EI5,0) -> 0 | GG5: =SUM(FT5:GF5) -> 0 | GI5: =FS5 -> 0 | GJ5: =IF($G5=$GI$1,DW5,0) -> 0 | GK5: =IF($G5=$GI$1,DX5,0) -> 0 | GL5: =IF($G5=$GI$1,DY5,0) -> 0 | GM5: =IF($G5=$GI$1,DZ5,0) -> 0 | GN5: =IF($G5=$GI$1,EA5,0) -> 0 | GO5: =IF($G5=$GI$1,EB5,0) -> 0 | GP5: =IF($G5=$GI$1,EC5,0) -> 0 | GQ5: =IF($G5=$GI$1,ED5,0) -> 0 | ... GV5: =IF($G5=$GI$1,EI5,0) -> 0 | GW5: =SUM(GJ5:GV5) -> 0 | GZ5: =GI5 -> 0 | HN5: =SUM(HA5:HM5) -> 0 | HQ5: =IF(Registrering!$B$21="Prosjekter som foregår i UiOs lokaler",IF($B5="Teknisk/adm. bistand/Feltassistent",J5*Tabeller!J$11,J5*Tabeller!J$10)/Tabeller!$H$5,IF($B5="Teknisk/adm. bistand/Feltassistent",J5*Tabeller!J$13,J5*Tabeller!J$12)/Tabeller!$H$5) -> 0 | HR5: =IF(Registrering!$B$21="Prosjekter som foregår i UiOs lokaler",IF($B5="Teknisk/adm. bistand/Feltassistent",K5*Tabeller!K$11,K5*Tabeller!K$10)/Tabeller!$H$5,IF($B5="Teknisk/adm. bistand/Feltassistent",K5*Tabeller!K$13,K5*Tabeller!K$12)/Tabeller!$H$5) -> 0 | HS5: =IF(Registrering!$B$21="Prosjekter som foregår i UiOs lokaler",IF($B5="Teknisk/adm. bistand/Feltassistent",L5*Tabeller!L$11,L5*Tabeller!L$10)/Tabeller!$H$5,IF($B5="Teknisk/adm. bistand/Feltassistent",L5*Tabeller!L$13,L5*Tabeller!L$12)/Tabeller!$H$5) -> 0 | HT5: =IF(Registrering!$B$21="Prosjekter som foregår i UiOs lokaler",IF($B5="Teknisk/adm. bistand/Feltassistent",M5*Tabeller!M$11,M5*Tabeller!M$10)/Tabeller!$H$5,IF($B5="Teknisk/adm. bistand/Feltassistent",M5*Tabeller!M$13,M5*Tabeller!M$12)/Tabeller!$H$5) -> 0 | HU5: =IF(Registrering!$B$21="Prosjekter som foregår i UiOs lokaler",IF($B5="Teknisk/adm. bistand/Feltassistent",N5*Tabeller!N$11,N5*Tabeller!N$10)/Tabeller!$H$5,IF($B5="Teknisk/adm. bistand/Feltassistent",N5*Tabeller!N$13,N5*Tabeller!N$12)/Tabeller!$H$5) -> 0 | HV5: =IF(Registrering!$B$21="Prosjekter som foregår i UiOs lokaler",IF($B5="Teknisk/adm. bistand/Feltassistent",O5*Tabeller!O$11,O5*Tabeller!O$10)/Tabeller!$H$5,IF($B5="Teknisk/adm. bistand/Feltassistent",O5*Tabeller!O$13,O5*Tabeller!O$12)/Tabeller!$H$5) -> 0 | HW5: =IF(Registrering!$B$21="Prosjekter som foregår i UiOs lokaler",IF($B5="Teknisk/adm. bistand/Feltassistent",P5*Tabeller!P$11,P5*Tabeller!P$10)/Tabeller!$H$5,IF($B5="Teknisk/adm. bistand/Feltassistent",P5*Tabeller!P$13,P5*Tabeller!P$12)/Tabeller!$H$5) -> 0 | HX5: =IF(Registrering!$B$21="Prosjekter som foregår i UiOs lokaler",IF($B5="Teknisk/adm. bistand/Feltassistent",Q5*Tabeller!Q$11,Q5*Tabeller!Q$10)/Tabeller!$H$5,IF($B5="Teknisk/adm. bistand/Feltassistent",Q5*Tabeller!Q$13,Q5*Tabeller!Q$12)/Tabeller!$H$5) -> 0 | ... IC5: =IF(Registrering!$B$21="Prosjekter som foregår i UiOs lokaler",IF($B5="Teknisk/adm. bistand/Feltassistent",V5*Tabeller!V$11,V5*Tabeller!V$10)/Tabeller!$H$5,IF($B5="Teknisk/adm. bistand/Feltassistent",V5*Tabeller!V$13,V5*Tabeller!V$12)/Tabeller!$H$5) -> 0
C6: =SUM(BC6:BO6) -> 0 | D6: =IFERROR(IF(B6="Teknisk/adm. bistand/Feltassistent",F6*Tabeller!I$8,Budsjett!F6*Tabeller!H$8),0) -> 0 | E6: =SUM(C6:D6) -> 0 | F6: =SUM(J6:V6)/Tabeller!H$5 -> 0 | AR6: =H6 -> 0 | AS6: =AR6*Tabeller!$I$35 -> 0 | AT6: =IF(AR6>0,(AS6-400)/52*47,0) -> 0 | AU6: =AT6*Tabeller!$H$26 -> 0 | AV6: =SUM(AT6:AU6,AW6)*Tabeller!$H$28 -> 0 | AW6: =AS6*Tabeller!$H$27 -> 0 | AX6: =SUM(AT6:AW6) -> 0 | AY6: =AX6+(IF(B6="Teknisk adm bistand",Registrering!$E$43,Registrering!$B$43)) -> 501000 | AZ6: =AY6/Tabeller!$H$5 -> 307.73956 | BC6: =((J6*Budsjett!$AZ6)*(Tabeller!I$35)) -> 0 | BD6: =((K6*Budsjett!$AZ6)*(Tabeller!J$35)) -> 0 | BE6: =((L6*Budsjett!$AZ6)*(Tabeller!K$35)) -> 0 | BF6: =((M6*Budsjett!$AZ6)*(Tabeller!L$35)) -> 0 | BG6: =((N6*Budsjett!$AZ6)*(Tabeller!M$35)) -> 0 | BH6: =((O6*Budsjett!$AZ6)*(Tabeller!N$35)) -> 0 | BI6: =((P6*Budsjett!$AZ6)*(Tabeller!O$35)) -> 0 | BJ6: =((Q6*Budsjett!$AZ6)*(Tabeller!P$35)) -> 0 | ... BO6: =((V6*Budsjett!$AZ6)*(Tabeller!U$35)) -> 0 | BQ6: =IFERROR(IF($B6="Teknisk/adm. bistand/Feltassistent",CE6*Tabeller!J$11,Budsjett!CE6*Tabeller!J$10),0) -> 0 | BR6: =IFERROR(IF($B6="Teknisk/adm. bistand/Feltassistent",CF6*Tabeller!K$11,Budsjett!CF6*Tabeller!K$10),0) -> 0 | BS6: =IFERROR(IF($B6="Teknisk/adm. bistand/Feltassistent",CG6*Tabeller!L$11,Budsjett!CG6*Tabeller!L$10),0) -> 0 | BT6: =IFERROR(IF($B6="Teknisk/adm. bistand/Feltassistent",CH6*Tabeller!M$11,Budsjett!CH6*Tabeller!M$10),0) -> 0 | BU6: =IFERROR(IF($B6="Teknisk/adm. bistand/Feltassistent",CI6*Tabeller!N$11,Budsjett!CI6*Tabeller!N$10),0) -> 0 | BV6: =IFERROR(IF($B6="Teknisk/adm. bistand/Feltassistent",CJ6*Tabeller!O$11,Budsjett!CJ6*Tabeller!O$10),0) -> 0 | BW6: =IFERROR(IF($B6="Teknisk/adm. bistand/Feltassistent",CK6*Tabeller!P$11,Budsjett!CK6*Tabeller!P$10),0) -> 0 | BX6: =IFERROR(IF($B6="Teknisk/adm. bistand/Feltassistent",CL6*Tabeller!Q$11,Budsjett!CL6*Tabeller!Q$10),0) -> 0 | ... CC6: =IFERROR(IF($B6="Teknisk/adm. bistand/Feltassistent",CQ6*Tabeller!V$11,Budsjett!CQ6*Tabeller!V$10),0) -> 0 | CE6: =J6/Tabeller!$H$5 -> 0 | CF6: =K6/Tabeller!$H$5 -> 0 | CG6: =L6/Tabeller!$H$5 -> 0 | CH6: =M6/Tabeller!$H$5 -> 0 | CI6: =N6/Tabeller!$H$5 -> 0 | CJ6: =O6/Tabeller!$H$5 -> 0 | CK6: =P6/Tabeller!$H$5 -> 0 | CL6: =Q6/Tabeller!$H$5 -> 0 | ... CQ6: =V6/Tabeller!$H$5 -> 0 | CS6: =IFERROR(IF($E$61=$L$61,BC6*#REF!,BC6*Budsjett!#REF!),0) -> 0 | CT6: =IFERROR(IF($E$61=$L$61,BD6*#REF!,BD6*Budsjett!#REF!),0) -> 0 | CU6: =IFERROR(IF($E$61=$L$61,BE6*#REF!,BE6*Budsjett!#REF!),0) -> 0 | CV6: =IFERROR(IF($E$61=$L$61,BF6*#REF!,BF6*Budsjett!#REF!),0) -> 0 | CW6: =IFERROR(IF($E$61=$L$61,BG6*#REF!,BG6*Budsjett!#REF!),0) -> 0 | CX6: =IFERROR(IF($E$61=$L$61,BH6*#REF!,BH6*Budsjett!#REF!),0) -> 0 | CY6: =IFERROR(IF($E$61=$L$61,BI6*#REF!,BI6*Budsjett!#REF!),0) -> 0 | CZ6: =IFERROR(IF($E$61=$L$61,BJ6*#REF!,BJ6*Budsjett!#REF!),0) -> 0 | ... DE6: =IFERROR(IF($E$61=$L$61,BO6*#REF!,BO6*Budsjett!#REF!),0) -> 0 | DH6: =BQ6-CS6 -> 0 | DI6: =BR6-CT6 -> 0 | DJ6: =BS6-CU6 -> 0 | DK6: =BT6-CV6 -> 0 | DL6: =BU6-CW6 -> 0 | DM6: =BV6-CX6 -> 0 | DN6: =BW6-CY6 -> 0 | DO6: =BX6-CZ6 -> 0 | ... DT6: =CC6-DE6 -> 0 | DV6: =B6 -> 0 | DW6: =-((IF($DV6="Teknisk/adm. bistand/Feltassistent",IF(Budsjett!BC6*(1+Tabeller!$I$61)>Tabeller!I$55,Tabeller!I$55,Budsjett!BC6*(1+Tabeller!$I$61)),0)+(IF($DV6="Forsker - professor",Tabeller!I$55*J6,0)+IF($DV6="Prosjektleder/adm.leder",Tabeller!I$54*J6,0)+IF($DV6="Forsker - 1.aman.",Tabeller!I$56*J6,0)+IF($DV6="Gjesteforsker",Tabeller!I$57*J6,0)+IF($DV6="Postdoktor / forsker",Tabeller!I$58*J6,0)+IF($DV6="Stipendiat",Tabeller!I$59*J6,0)+IF($DV6="Forsker (rundsum)",Tabeller!#REF!*J6,0)+IF($DV6="Vit.ass",Tabeller!I$60*J6,0))/1)) -> 0 | DX6: =-((IF($DV6="Teknisk/adm. bistand/Feltassistent",IF(Budsjett!BD6*(1+Tabeller!$I$61)>Tabeller!J$55,Tabeller!J$55,Budsjett!BD6*(1+Tabeller!$I$61)),0)+(IF($DV6="Forsker - professor",Tabeller!J$55*K6,0)+IF($DV6="Prosjektleder/adm.leder",Tabeller!J$54*K6,0)+IF($DV6="Forsker - 1.aman.",Tabeller!J$56*K6,0)+IF($DV6="Gjesteforsker",Tabeller!J$57*K6,0)+IF($DV6="Postdoktor / forsker",Tabeller!J$58*K6,0)+IF($DV6="Stipendiat",Tabeller!J$59*K6,0)+IF($DV6="Forsker (rundsum)",Tabeller!#REF!*K6,0)+IF($DV6="Vit.ass",Tabeller!J$60*K6,0))/1)) -> 0 | DY6: =-((IF($DV6="Teknisk/adm. bistand/Feltassistent",IF(Budsjett!BE6*(1+Tabeller!$I$61)>Tabeller!K$55,Tabeller!K$55,Budsjett!BE6*(1+Tabeller!$I$61)),0)+(IF($DV6="Forsker - professor",Tabeller!K$55*L6,0)+IF($DV6="Prosjektleder/adm.leder",Tabeller!K$54*L6,0)+IF($DV6="Forsker - 1.aman.",Tabeller!K$56*L6,0)+IF($DV6="Gjesteforsker",Tabeller!K$57*L6,0)+IF($DV6="Postdoktor / forsker",Tabeller!K$58*L6,0)+IF($DV6="Stipendiat",Tabeller!K$59*L6,0)+IF($DV6="Forsker (rundsum)",Tabeller!#REF!*L6,0)+IF($DV6="Vit.ass",Tabeller!K$60*L6,0))/1)) -> 0 | DZ6: =-((IF($DV6="Teknisk/adm. bistand/Feltassistent",IF(Budsjett!BF6*(1+Tabeller!$I$61)>Tabeller!L$55,Tabeller!L$55,Budsjett!BF6*(1+Tabeller!$I$61)),0)+(IF($DV6="Forsker - professor",Tabeller!L$55*M6,0)+IF($DV6="Prosjektleder/adm.leder",Tabeller!L$54*M6,0)+IF($DV6="Forsker - 1.aman.",Tabeller!L$56*M6,0)+IF($DV6="Gjesteforsker",Tabeller!L$57*M6,0)+IF($DV6="Postdoktor / forsker",Tabeller!L$58*M6,0)+IF($DV6="Stipendiat",Tabeller!L$59*M6,0)+IF($DV6="Forsker (rundsum)",Tabeller!#REF!*M6,0)+IF($DV6="Vit.ass",Tabeller!L$60*M6,0))/1)) -> 0 | EA6: =-((IF($DV6="Teknisk/adm. bistand/Feltassistent",IF(Budsjett!BG6*(1+Tabeller!$I$61)>Tabeller!M$55,Tabeller!M$55,Budsjett!BG6*(1+Tabeller!$I$61)),0)+(IF($DV6="Forsker - professor",Tabeller!M$55*N6,0)+IF($DV6="Prosjektleder/adm.leder",Tabeller!M$54*N6,0)+IF($DV6="Forsker - 1.aman.",Tabeller!M$56*N6,0)+IF($DV6="Gjesteforsker",Tabeller!M$57*N6,0)+IF($DV6="Postdoktor / forsker",Tabeller!M$58*N6,0)+IF($DV6="Stipendiat",Tabeller!M$59*N6,0)+IF($DV6="Forsker (rundsum)",Tabeller!#REF!*N6,0)+IF($DV6="Vit.ass",Tabeller!M$60*N6,0))/1)) -> 0 | EB6: =-((IF($DV6="Teknisk/adm. bistand/Feltassistent",IF(Budsjett!BH6*(1+Tabeller!$I$61)>Tabeller!N$55,Tabeller!N$55,Budsjett!BH6*(1+Tabeller!$I$61)),0)+(IF($DV6="Forsker - professor",Tabeller!N$55*O6,0)+IF($DV6="Prosjektleder/adm.leder",Tabeller!N$54*O6,0)+IF($DV6="Forsker - 1.aman.",Tabeller!N$56*O6,0)+IF($DV6="Gjesteforsker",Tabeller!N$57*O6,0)+IF($DV6="Postdoktor / forsker",Tabeller!N$58*O6,0)+IF($DV6="Stipendiat",Tabeller!N$59*O6,0)+IF($DV6="Forsker (rundsum)",Tabeller!#REF!*O6,0)+IF($DV6="Vit.ass",Tabeller!N$60*O6,0))/1)) -> 0 | EC6: =-((IF($DV6="Teknisk/adm. bistand/Feltassistent",IF(Budsjett!BI6*(1+Tabeller!$I$61)>Tabeller!O$55,Tabeller!O$55,Budsjett!BI6*(1+Tabeller!$I$61)),0)+(IF($DV6="Forsker - professor",Tabeller!O$55*P6,0)+IF($DV6="Prosjektleder/adm.leder",Tabeller!O$54*P6,0)+IF($DV6="Forsker - 1.aman.",Tabeller!O$56*P6,0)+IF($DV6="Gjesteforsker",Tabeller!O$57*P6,0)+IF($DV6="Postdoktor / forsker",Tabeller!O$58*P6,0)+IF($DV6="Stipendiat",Tabeller!O$59*P6,0)+IF($DV6="Forsker (rundsum)",Tabeller!#REF!*P6,0)+IF($DV6="Vit.ass",Tabeller!O$60*P6,0))/1)) -> 0 | ED6: =-((IF($DV6="Teknisk/adm. bistand/Feltassistent",IF(Budsjett!BJ6*(1+Tabeller!$I$61)>Tabeller!P$55,Tabeller!P$55,Budsjett!BJ6*(1+Tabeller!$I$61)),0)+(IF($DV6="Forsker - professor",Tabeller!P$55*Q6,0)+IF($DV6="Prosjektleder/adm.leder",Tabeller!P$54*Q6,0)+IF($DV6="Forsker - 1.aman.",Tabeller!P$56*Q6,0)+IF($DV6="Gjesteforsker",Tabeller!P$57*Q6,0)+IF($DV6="Postdoktor / forsker",Tabeller!P$58*Q6,0)+IF($DV6="Stipendiat",Tabeller!P$59*Q6,0)+IF($DV6="Forsker (rundsum)",Tabeller!#REF!*Q6,0)+IF($DV6="Vit.ass",Tabeller!P$60*Q6,0))/1)) -> 0 | ... EI6: =-((IF($DV6="Teknisk/adm. bistand/Feltassistent",IF(Budsjett!BO6*(1+Tabeller!$I$61)>Tabeller!U$55,Tabeller!U$55,Budsjett!BO6*(1+Tabeller!$I$61)),0)+(IF($DV6="Forsker - professor",Tabeller!U$55*V6,0)+IF($DV6="Prosjektleder/adm.leder",Tabeller!U$54*V6,0)+IF($DV6="Forsker - 1.aman.",Tabeller!U$56*V6,0)+IF($DV6="Gjesteforsker",Tabeller!U$57*V6,0)+IF($DV6="Postdoktor / forsker",Tabeller!U$58*V6,0)+IF($DV6="Stipendiat",Tabeller!U$59*V6,0)+IF($DV6="Forsker (rundsum)",Tabeller!#REF!*V6,0)+IF($DV6="Vit.ass",Tabeller!U$60*V6,0))/1)) -> 0 | EJ6: =SUM(DW6:EI6) -> 0 | EM6: =DV6 -> 0 | EN6: =IF($G6="NFR",DW6,0) -> 0 | EO6: =IF($G6="NFR",DX6,0) -> 0 | EP6: =IF($G6="NFR",DY6,0) -> 0 | EQ6: =IF($G6="NFR",DZ6,0) -> 0 | ER6: =IF($G6="NFR",EA6,0) -> 0 | ES6: =IF($G6="NFR",EB6,0) -> 0 | ET6: =IF($G6="NFR",EC6,0) -> 0 | EU6: =IF($G6="NFR",ED6,0) -> 0 | ... EZ6: =IF($G6="NFR",EI6,0) -> 0 | FA6: =SUM(EN6:EZ6) -> 0 | FC6: =EM6 -> 0 | FD6: =IF($G6=$FC$1,DW6,0) -> 0 | FE6: =IF($G6=$FC$1,DX6,0) -> 0 | FF6: =IF($G6=$FC$1,DY6,0) -> 0 | FG6: =IF($G6=$FC$1,DZ6,0) -> 0 | FH6: =IF($G6=$FC$1,EA6,0) -> 0 | FI6: =IF($G6=$FC$1,EB6,0) -> 0 | FJ6: =IF($G6=$FC$1,EC6,0) -> 0 | FK6: =IF($G6=$FC$1,ED6,0) -> 0 | ... FP6: =IF($G6=$FC$1,EI6,0) -> 0 | FQ6: =SUM(FD6:FP6) -> 0 | FS6: =FC6 -> 0 | FT6: =IF($G6=$FS$1,DW6,0) -> 0 | FU6: =IF($G6=$FS$1,DX6,0) -> 0 | FV6: =IF($G6=$FS$1,DY6,0) -> 0 | FW6: =IF($G6=$FS$1,DZ6,0) -> 0 | FX6: =IF($G6=$FS$1,EA6,0) -> 0 | FY6: =IF($G6=$FS$1,EB6,0) -> 0 | FZ6: =IF($G6=$FS$1,EC6,0) -> 0 | GA6: =IF($G6=$FS$1,ED6,0) -> 0 | ... GF6: =IF($G6=$FS$1,EI6,0) -> 0 | GG6: =SUM(FT6:GF6) -> 0 | GI6: =FS6 -> 0 | GJ6: =IF($G6=$GI$1,DW6,0) -> 0 | GK6: =IF($G6=$GI$1,DX6,0) -> 0 | GL6: =IF($G6=$GI$1,DY6,0) -> 0 | GM6: =IF($G6=$GI$1,DZ6,0) -> 0 | GN6: =IF($G6=$GI$1,EA6,0) -> 0 | GO6: =IF($G6=$GI$1,EB6,0) -> 0 | GP6: =IF($G6=$GI$1,EC6,0) -> 0 | GQ6: =IF($G6=$GI$1,ED6,0) -> 0 | ... GV6: =IF($G6=$GI$1,EI6,0) -> 0 | GW6: =SUM(GJ6:GV6) -> 0 | GZ6: =GI6 -> 0 | HN6: =SUM(HA6:HM6) -> 0 | HQ6: =IF(Registrering!$B$21="Prosjekter som foregår i UiOs lokaler",IF($B6="Teknisk/adm. bistand/Feltassistent",J6*Tabeller!J$11,J6*Tabeller!J$10)/Tabeller!$H$5,IF($B6="Teknisk/adm. bistand/Feltassistent",J6*Tabeller!J$13,J6*Tabeller!J$12)/Tabeller!$H$5) -> 0 | HR6: =IF(Registrering!$B$21="Prosjekter som foregår i UiOs lokaler",IF($B6="Teknisk/adm. bistand/Feltassistent",K6*Tabeller!K$11,K6*Tabeller!K$10)/Tabeller!$H$5,IF($B6="Teknisk/adm. bistand/Feltassistent",K6*Tabeller!K$13,K6*Tabeller!K$12)/Tabeller!$H$5) -> 0 | HS6: =IF(Registrering!$B$21="Prosjekter som foregår i UiOs lokaler",IF($B6="Teknisk/adm. bistand/Feltassistent",L6*Tabeller!L$11,L6*Tabeller!L$10)/Tabeller!$H$5,IF($B6="Teknisk/adm. bistand/Feltassistent",L6*Tabeller!L$13,L6*Tabeller!L$12)/Tabeller!$H$5) -> 0 | HT6: =IF(Registrering!$B$21="Prosjekter som foregår i UiOs lokaler",IF($B6="Teknisk/adm. bistand/Feltassistent",M6*Tabeller!M$11,M6*Tabeller!M$10)/Tabeller!$H$5,IF($B6="Teknisk/adm. bistand/Feltassistent",M6*Tabeller!M$13,M6*Tabeller!M$12)/Tabeller!$H$5) -> 0 | HU6: =IF(Registrering!$B$21="Prosjekter som foregår i UiOs lokaler",IF($B6="Teknisk/adm. bistand/Feltassistent",N6*Tabeller!N$11,N6*Tabeller!N$10)/Tabeller!$H$5,IF($B6="Teknisk/adm. bistand/Feltassistent",N6*Tabeller!N$13,N6*Tabeller!N$12)/Tabeller!$H$5) -> 0 | HV6: =IF(Registrering!$B$21="Prosjekter som foregår i UiOs lokaler",IF($B6="Teknisk/adm. bistand/Feltassistent",O6*Tabeller!O$11,O6*Tabeller!O$10)/Tabeller!$H$5,IF($B6="Teknisk/adm. bistand/Feltassistent",O6*Tabeller!O$13,O6*Tabeller!O$12)/Tabeller!$H$5) -> 0 | HW6: =IF(Registrering!$B$21="Prosjekter som foregår i UiOs lokaler",IF($B6="Teknisk/adm. bistand/Feltassistent",P6*Tabeller!P$11,P6*Tabeller!P$10)/Tabeller!$H$5,IF($B6="Teknisk/adm. bistand/Feltassistent",P6*Tabeller!P$13,P6*Tabeller!P$12)/Tabeller!$H$5) -> 0 | HX6: =IF(Registrering!$B$21="Prosjekter som foregår i UiOs lokaler",IF($B6="Teknisk/adm. bistand/Feltassistent",Q6*Tabeller!Q$11,Q6*Tabeller!Q$10)/Tabeller!$H$5,IF($B6="Teknisk/adm. bistand/Feltassistent",Q6*Tabeller!Q$13,Q6*Tabeller!Q$12)/Tabeller!$H$5) -> 0 | ... IC6: =IF(Registrering!$B$21="Prosjekter som foregår i UiOs lokaler",IF($B6="Teknisk/adm. bistand/Feltassistent",V6*Tabeller!V$11,V6*Tabeller!V$10)/Tabeller!$H$5,IF($B6="Teknisk/adm. bistand/Feltassistent",V6*Tabeller!V$13,V6*Tabeller!V$12)/Tabeller!$H$5) -> 0
C7: =SUM(BC7:BO7) -> 0 | D7: =IFERROR(IF(B7="Teknisk/adm. bistand/Feltassistent",F7*Tabeller!I$8,Budsjett!F7*Tabeller!H$8),0) -> 0 | E7: =SUM(C7:D7) -> 0 | F7: =SUM(J7:V7)/Tabeller!H$5 -> 0 | AR7: =H7 -> 0 | AS7: =AR7*Tabeller!$I$35 -> 0 | AT7: =IF(AR7>0,(AS7-400)/52*47,0) -> 0 | AU7: =AT7*Tabeller!$H$26 -> 0 | AV7: =SUM(AT7:AU7,AW7)*Tabeller!$H$28 -> 0 | AW7: =AS7*Tabeller!$H$27 -> 0 | AX7: =SUM(AT7:AW7) -> 0 | AY7: =AX7+(IF(B7="Teknisk adm bistand",Registrering!$E$43,Registrering!$B$43)) -> 501000 | AZ7: =AY7/Tabeller!$H$5 -> 307.73956 | BC7: =((J7*Budsjett!$AZ7)*(Tabeller!I$35)) -> 0 | BD7: =((K7*Budsjett!$AZ7)*(Tabeller!J$35)) -> 0 | BE7: =((L7*Budsjett!$AZ7)*(Tabeller!K$35)) -> 0 | BF7: =((M7*Budsjett!$AZ7)*(Tabeller!L$35)) -> 0 | BG7: =((N7*Budsjett!$AZ7)*(Tabeller!M$35)) -> 0 | BH7: =((O7*Budsjett!$AZ7)*(Tabeller!N$35)) -> 0 | BI7: =((P7*Budsjett!$AZ7)*(Tabeller!O$35)) -> 0 | BJ7: =((Q7*Budsjett!$AZ7)*(Tabeller!P$35)) -> 0 | ... BO7: =((V7*Budsjett!$AZ7)*(Tabeller!U$35)) -> 0 | BQ7: =IFERROR(IF($B7="Teknisk/adm. bistand/Feltassistent",CE7*Tabeller!J$11,Budsjett!CE7*Tabeller!J$10),0) -> 0 | BR7: =IFERROR(IF($B7="Teknisk/adm. bistand/Feltassistent",CF7*Tabeller!K$11,Budsjett!CF7*Tabeller!K$10),0) -> 0 | BS7: =IFERROR(IF($B7="Teknisk/adm. bistand/Feltassistent",CG7*Tabeller!L$11,Budsjett!CG7*Tabeller!L$10),0) -> 0 | BT7: =IFERROR(IF($B7="Teknisk/adm. bistand/Feltassistent",CH7*Tabeller!M$11,Budsjett!CH7*Tabeller!M$10),0) -> 0 | BU7: =IFERROR(IF($B7="Teknisk/adm. bistand/Feltassistent",CI7*Tabeller!N$11,Budsjett!CI7*Tabeller!N$10),0) -> 0 | BV7: =IFERROR(IF($B7="Teknisk/adm. bistand/Feltassistent",CJ7*Tabeller!O$11,Budsjett!CJ7*Tabeller!O$10),0) -> 0 | BW7: =IFERROR(IF($B7="Teknisk/adm. bistand/Feltassistent",CK7*Tabeller!P$11,Budsjett!CK7*Tabeller!P$10),0) -> 0 | BX7: =IFERROR(IF($B7="Teknisk/adm. bistand/Feltassistent",CL7*Tabeller!Q$11,Budsjett!CL7*Tabeller!Q$10),0) -> 0 | ... CC7: =IFERROR(IF($B7="Teknisk/adm. bistand/Feltassistent",CQ7*Tabeller!V$11,Budsjett!CQ7*Tabeller!V$10),0) -> 0 | CE7: =J7/Tabeller!$H$5 -> 0 | CF7: =K7/Tabeller!$H$5 -> 0 | CG7: =L7/Tabeller!$H$5 -> 0 | CH7: =M7/Tabeller!$H$5 -> 0 | CI7: =N7/Tabeller!$H$5 -> 0 | CJ7: =O7/Tabeller!$H$5 -> 0 | CK7: =P7/Tabeller!$H$5 -> 0 | CL7: =Q7/Tabeller!$H$5 -> 0 | ... CQ7: =V7/Tabeller!$H$5 -> 0 | CS7: =IFERROR(IF($E$61=$L$61,BC7*#REF!,BC7*Budsjett!#REF!),0) -> 0 | CT7: =IFERROR(IF($E$61=$L$61,BD7*#REF!,BD7*Budsjett!#REF!),0) -> 0 | CU7: =IFERROR(IF($E$61=$L$61,BE7*#REF!,BE7*Budsjett!#REF!),0) -> 0 | CV7: =IFERROR(IF($E$61=$L$61,BF7*#REF!,BF7*Budsjett!#REF!),0) -> 0 | CW7: =IFERROR(IF($E$61=$L$61,BG7*#REF!,BG7*Budsjett!#REF!),0) -> 0 | CX7: =IFERROR(IF($E$61=$L$61,BH7*#REF!,BH7*Budsjett!#REF!),0) -> 0 | CY7: =IFERROR(IF($E$61=$L$61,BI7*#REF!,BI7*Budsjett!#REF!),0) -> 0 | CZ7: =IFERROR(IF($E$61=$L$61,BJ7*#REF!,BJ7*Budsjett!#REF!),0) -> 0 | ... DE7: =IFERROR(IF($E$61=$L$61,BO7*#REF!,BO7*Budsjett!#REF!),0) -> 0 | DH7: =BQ7-CS7 -> 0 | DI7: =BR7-CT7 -> 0 | DJ7: =BS7-CU7 -> 0 | DK7: =BT7-CV7 -> 0 | DL7: =BU7-CW7 -> 0 | DM7: =BV7-CX7 -> 0 | DN7: =BW7-CY7 -> 0 | DO7: =BX7-CZ7 -> 0 | ... DT7: =CC7-DE7 -> 0 | DV7: =B7 -> 0 | DW7: =-((IF($DV7="Teknisk/adm. bistand/Feltassistent",IF(Budsjett!BC7*(1+Tabeller!$I$61)>Tabeller!I$55,Tabeller!I$55,Budsjett!BC7*(1+Tabeller!$I$61)),0)+(IF($DV7="Forsker - professor",Tabeller!I$55*J7,0)+IF($DV7="Prosjektleder/adm.leder",Tabeller!I$54*J7,0)+IF($DV7="Forsker - 1.aman.",Tabeller!I$56*J7,0)+IF($DV7="Gjesteforsker",Tabeller!I$57*J7,0)+IF($DV7="Postdoktor / forsker",Tabeller!I$58*J7,0)+IF($DV7="Stipendiat",Tabeller!I$59*J7,0)+IF($DV7="Forsker (rundsum)",Tabeller!#REF!*J7,0)+IF($DV7="Vit.ass",Tabeller!I$60*J7,0))/1)) -> 0 | DX7: =-((IF($DV7="Teknisk/adm. bistand/Feltassistent",IF(Budsjett!BD7*(1+Tabeller!$I$61)>Tabeller!J$55,Tabeller!J$55,Budsjett!BD7*(1+Tabeller!$I$61)),0)+(IF($DV7="Forsker - professor",Tabeller!J$55*K7,0)+IF($DV7="Prosjektleder/adm.leder",Tabeller!J$54*K7,0)+IF($DV7="Forsker - 1.aman.",Tabeller!J$56*K7,0)+IF($DV7="Gjesteforsker",Tabeller!J$57*K7,0)+IF($DV7="Postdoktor / forsker",Tabeller!J$58*K7,0)+IF($DV7="Stipendiat",Tabeller!J$59*K7,0)+IF($DV7="Forsker (rundsum)",Tabeller!#REF!*K7,0)+IF($DV7="Vit.ass",Tabeller!J$60*K7,0))/1)) -> 0 | DY7: =-((IF($DV7="Teknisk/adm. bistand/Feltassistent",IF(Budsjett!BE7*(1+Tabeller!$I$61)>Tabeller!K$55,Tabeller!K$55,Budsjett!BE7*(1+Tabeller!$I$61)),0)+(IF($DV7="Forsker - professor",Tabeller!K$55*L7,0)+IF($DV7="Prosjektleder/adm.leder",Tabeller!K$54*L7,0)+IF($DV7="Forsker - 1.aman.",Tabeller!K$56*L7,0)+IF($DV7="Gjesteforsker",Tabeller!K$57*L7,0)+IF($DV7="Postdoktor / forsker",Tabeller!K$58*L7,0)+IF($DV7="Stipendiat",Tabeller!K$59*L7,0)+IF($DV7="Forsker (rundsum)",Tabeller!#REF!*L7,0)+IF($DV7="Vit.ass",Tabeller!K$60*L7,0))/1)) -> 0 | DZ7: =-((IF($DV7="Teknisk/adm. bistand/Feltassistent",IF(Budsjett!BF7*(1+Tabeller!$I$61)>Tabeller!L$55,Tabeller!L$55,Budsjett!BF7*(1+Tabeller!$I$61)),0)+(IF($DV7="Forsker - professor",Tabeller!L$55*M7,0)+IF($DV7="Prosjektleder/adm.leder",Tabeller!L$54*M7,0)+IF($DV7="Forsker - 1.aman.",Tabeller!L$56*M7,0)+IF($DV7="Gjesteforsker",Tabeller!L$57*M7,0)+IF($DV7="Postdoktor / forsker",Tabeller!L$58*M7,0)+IF($DV7="Stipendiat",Tabeller!L$59*M7,0)+IF($DV7="Forsker (rundsum)",Tabeller!#REF!*M7,0)+IF($DV7="Vit.ass",Tabeller!L$60*M7,0))/1)) -> 0 | EA7: =-((IF($DV7="Teknisk/adm. bistand/Feltassistent",IF(Budsjett!BG7*(1+Tabeller!$I$61)>Tabeller!M$55,Tabeller!M$55,Budsjett!BG7*(1+Tabeller!$I$61)),0)+(IF($DV7="Forsker - professor",Tabeller!M$55*N7,0)+IF($DV7="Prosjektleder/adm.leder",Tabeller!M$54*N7,0)+IF($DV7="Forsker - 1.aman.",Tabeller!M$56*N7,0)+IF($DV7="Gjesteforsker",Tabeller!M$57*N7,0)+IF($DV7="Postdoktor / forsker",Tabeller!M$58*N7,0)+IF($DV7="Stipendiat",Tabeller!M$59*N7,0)+IF($DV7="Forsker (rundsum)",Tabeller!#REF!*N7,0)+IF($DV7="Vit.ass",Tabeller!M$60*N7,0))/1)) -> 0 | EB7: =-((IF($DV7="Teknisk/adm. bistand/Feltassistent",IF(Budsjett!BH7*(1+Tabeller!$I$61)>Tabeller!N$55,Tabeller!N$55,Budsjett!BH7*(1+Tabeller!$I$61)),0)+(IF($DV7="Forsker - professor",Tabeller!N$55*O7,0)+IF($DV7="Prosjektleder/adm.leder",Tabeller!N$54*O7,0)+IF($DV7="Forsker - 1.aman.",Tabeller!N$56*O7,0)+IF($DV7="Gjesteforsker",Tabeller!N$57*O7,0)+IF($DV7="Postdoktor / forsker",Tabeller!N$58*O7,0)+IF($DV7="Stipendiat",Tabeller!N$59*O7,0)+IF($DV7="Forsker (rundsum)",Tabeller!#REF!*O7,0)+IF($DV7="Vit.ass",Tabeller!N$60*O7,0))/1)) -> 0 | EC7: =-((IF($DV7="Teknisk/adm. bistand/Feltassistent",IF(Budsjett!BI7*(1+Tabeller!$I$61)>Tabeller!O$55,Tabeller!O$55,Budsjett!BI7*(1+Tabeller!$I$61)),0)+(IF($DV7="Forsker - professor",Tabeller!O$55*P7,0)+IF($DV7="Prosjektleder/adm.leder",Tabeller!O$54*P7,0)+IF($DV7="Forsker - 1.aman.",Tabeller!O$56*P7,0)+IF($DV7="Gjesteforsker",Tabeller!O$57*P7,0)+IF($DV7="Postdoktor / forsker",Tabeller!O$58*P7,0)+IF($DV7="Stipendiat",Tabeller!O$59*P7,0)+IF($DV7="Forsker (rundsum)",Tabeller!#REF!*P7,0)+IF($DV7="Vit.ass",Tabeller!O$60*P7,0))/1)) -> 0 | ED7: =-((IF($DV7="Teknisk/adm. bistand/Feltassistent",IF(Budsjett!BJ7*(1+Tabeller!$I$61)>Tabeller!P$55,Tabeller!P$55,Budsjett!BJ7*(1+Tabeller!$I$61)),0)+(IF($DV7="Forsker - professor",Tabeller!P$55*Q7,0)+IF($DV7="Prosjektleder/adm.leder",Tabeller!P$54*Q7,0)+IF($DV7="Forsker - 1.aman.",Tabeller!P$56*Q7,0)+IF($DV7="Gjesteforsker",Tabeller!P$57*Q7,0)+IF($DV7="Postdoktor / forsker",Tabeller!P$58*Q7,0)+IF($DV7="Stipendiat",Tabeller!P$59*Q7,0)+IF($DV7="Forsker (rundsum)",Tabeller!#REF!*Q7,0)+IF($DV7="Vit.ass",Tabeller!P$60*Q7,0))/1)) -> 0 | ... EI7: =-((IF($DV7="Teknisk/adm. bistand/Feltassistent",IF(Budsjett!BO7*(1+Tabeller!$I$61)>Tabeller!U$55,Tabeller!U$55,Budsjett!BO7*(1+Tabeller!$I$61)),0)+(IF($DV7="Forsker - professor",Tabeller!U$55*V7,0)+IF($DV7="Prosjektleder/adm.leder",Tabeller!U$54*V7,0)+IF($DV7="Forsker - 1.aman.",Tabeller!U$56*V7,0)+IF($DV7="Gjesteforsker",Tabeller!U$57*V7,0)+IF($DV7="Postdoktor / forsker",Tabeller!U$58*V7,0)+IF($DV7="Stipendiat",Tabeller!U$59*V7,0)+IF($DV7="Forsker (rundsum)",Tabeller!#REF!*V7,0)+IF($DV7="Vit.ass",Tabeller!U$60*V7,0))/1)) -> 0 | EJ7: =SUM(DW7:EI7) -> 0 | EM7: =DV7 -> 0 | EN7: =IF($G7="NFR",DW7,0) -> 0 | EO7: =IF($G7="NFR",DX7,0) -> 0 | EP7: =IF($G7="NFR",DY7,0) -> 0 | EQ7: =IF($G7="NFR",DZ7,0) -> 0 | ER7: =IF($G7="NFR",EA7,0) -> 0 | ES7: =IF($G7="NFR",EB7,0) -> 0 | ET7: =IF($G7="NFR",EC7,0) -> 0 | EU7: =IF($G7="NFR",ED7,0) -> 0 | ... EZ7: =IF($G7="NFR",EI7,0) -> 0 | FA7: =SUM(EN7:EZ7) -> 0 | FC7: =EM7 -> 0 | FD7: =IF($G7=$FC$1,DW7,0) -> 0 | FE7: =IF($G7=$FC$1,DX7,0) -> 0 | FF7: =IF($G7=$FC$1,DY7,0) -> 0 | FG7: =IF($G7=$FC$1,DZ7,0) -> 0 | FH7: =IF($G7=$FC$1,EA7,0) -> 0 | FI7: =IF($G7=$FC$1,EB7,0) -> 0 | FJ7: =IF($G7=$FC$1,EC7,0) -> 0 | FK7: =IF($G7=$FC$1,ED7,0) -> 0 | ... FP7: =IF($G7=$FC$1,EI7,0) -> 0 | FQ7: =SUM(FD7:FP7) -> 0 | FS7: =FC7 -> 0 | FT7: =IF($G7=$FS$1,DW7,0) -> 0 | FU7: =IF($G7=$FS$1,DX7,0) -> 0 | FV7: =IF($G7=$FS$1,DY7,0) -> 0 | FW7: =IF($G7=$FS$1,DZ7,0) -> 0 | FX7: =IF($G7=$FS$1,EA7,0) -> 0 | FY7: =IF($G7=$FS$1,EB7,0) -> 0 | FZ7: =IF($G7=$FS$1,EC7,0) -> 0 | GA7: =IF($G7=$FS$1,ED7,0) -> 0 | ... GF7: =IF($G7=$FS$1,EI7,0) -> 0 | GG7: =SUM(FT7:GF7) -> 0 | GI7: =FS7 -> 0 | GJ7: =IF($G7=$GI$1,DW7,0) -> 0 | GK7: =IF($G7=$GI$1,DX7,0) -> 0 | GL7: =IF($G7=$GI$1,DY7,0) -> 0 | GM7: =IF($G7=$GI$1,DZ7,0) -> 0 | GN7: =IF($G7=$GI$1,EA7,0) -> 0 | GO7: =IF($G7=$GI$1,EB7,0) -> 0 | GP7: =IF($G7=$GI$1,EC7,0) -> 0 | GQ7: =IF($G7=$GI$1,ED7,0) -> 0 | ... GV7: =IF($G7=$GI$1,EI7,0) -> 0 | GW7: =SUM(GJ7:GV7) -> 0 | GZ7: =GI7 -> 0 | HN7: =SUM(HA7:HM7) -> 0 | HQ7: =IF(Registrering!$B$21="Prosjekter som foregår i UiOs lokaler",IF($B7="Teknisk/adm. bistand/Feltassistent",J7*Tabeller!J$11,J7*Tabeller!J$10)/Tabeller!$H$5,IF($B7="Teknisk/adm. bistand/Feltassistent",J7*Tabeller!J$13,J7*Tabeller!J$12)/Tabeller!$H$5) -> 0 | HR7: =IF(Registrering!$B$21="Prosjekter som foregår i UiOs lokaler",IF($B7="Teknisk/adm. bistand/Feltassistent",K7*Tabeller!K$11,K7*Tabeller!K$10)/Tabeller!$H$5,IF($B7="Teknisk/adm. bistand/Feltassistent",K7*Tabeller!K$13,K7*Tabeller!K$12)/Tabeller!$H$5) -> 0 | HS7: =IF(Registrering!$B$21="Prosjekter som foregår i UiOs lokaler",IF($B7="Teknisk/adm. bistand/Feltassistent",L7*Tabeller!L$11,L7*Tabeller!L$10)/Tabeller!$H$5,IF($B7="Teknisk/adm. bistand/Feltassistent",L7*Tabeller!L$13,L7*Tabeller!L$12)/Tabeller!$H$5) -> 0 | HT7: =IF(Registrering!$B$21="Prosjekter som foregår i UiOs lokaler",IF($B7="Teknisk/adm. bistand/Feltassistent",M7*Tabeller!M$11,M7*Tabeller!M$10)/Tabeller!$H$5,IF($B7="Teknisk/adm. bistand/Feltassistent",M7*Tabeller!M$13,M7*Tabeller!M$12)/Tabeller!$H$5) -> 0 | HU7: =IF(Registrering!$B$21="Prosjekter som foregår i UiOs lokaler",IF($B7="Teknisk/adm. bistand/Feltassistent",N7*Tabeller!N$11,N7*Tabeller!N$10)/Tabeller!$H$5,IF($B7="Teknisk/adm. bistand/Feltassistent",N7*Tabeller!N$13,N7*Tabeller!N$12)/Tabeller!$H$5) -> 0 | HV7: =IF(Registrering!$B$21="Prosjekter som foregår i UiOs lokaler",IF($B7="Teknisk/adm. bistand/Feltassistent",O7*Tabeller!O$11,O7*Tabeller!O$10)/Tabeller!$H$5,IF($B7="Teknisk/adm. bistand/Feltassistent",O7*Tabeller!O$13,O7*Tabeller!O$12)/Tabeller!$H$5) -> 0 | HW7: =IF(Registrering!$B$21="Prosjekter som foregår i UiOs lokaler",IF($B7="Teknisk/adm. bistand/Feltassistent",P7*Tabeller!P$11,P7*Tabeller!P$10)/Tabeller!$H$5,IF($B7="Teknisk/adm. bistand/Feltassistent",P7*Tabeller!P$13,P7*Tabeller!P$12)/Tabeller!$H$5) -> 0 | HX7: =IF(Registrering!$B$21="Prosjekter som foregår i UiOs lokaler",IF($B7="Teknisk/adm. bistand/Feltassistent",Q7*Tabeller!Q$11,Q7*Tabeller!Q$10)/Tabeller!$H$5,IF($B7="Teknisk/adm. bistand/Feltassistent",Q7*Tabeller!Q$13,Q7*Tabeller!Q$12)/Tabeller!$H$5) -> 0 | ... IC7: =IF(Registrering!$B$21="Prosjekter som foregår i UiOs lokaler",IF($B7="Teknisk/adm. bistand/Feltassistent",V7*Tabeller!V$11,V7*Tabeller!V$10)/Tabeller!$H$5,IF($B7="Teknisk/adm. bistand/Feltassistent",V7*Tabeller!V$13,V7*Tabeller!V$12)/Tabeller!$H$5) -> 0
C8: =SUM(BC8:BO8) -> 0 | D8: =IFERROR(IF(B8="Teknisk/adm. bistand/Feltassistent",F8*Tabeller!I$8,Budsjett!F8*Tabeller!H$8),0) -> 0 | E8: =SUM(C8:D8) -> 0 | F8: =SUM(J8:V8)/Tabeller!H$5 -> 0 | AR8: =H8 -> 0 | AS8: =AR8*Tabeller!$I$35 -> 0 | AT8: =IF(AR8>0,(AS8-400)/52*47,0) -> 0 | AU8: =AT8*Tabeller!$H$26 -> 0 | AV8: =SUM(AT8:AU8,AW8)*Tabeller!$H$28 -> 0 | AW8: =AS8*Tabeller!$H$27 -> 0 | AX8: =SUM(AT8:AW8) -> 0 | AY8: =AX8+(IF(B8="Teknisk adm bistand",Registrering!$E$43,Registrering!$B$43)) -> 501000 | AZ8: =AY8/Tabeller!$H$5 -> 307.73956 | BC8: =((J8*Budsjett!$AZ8)*(Tabeller!I$35)) -> 0 | BD8: =((K8*Budsjett!$AZ8)*(Tabeller!J$35)) -> 0 | BE8: =((L8*Budsjett!$AZ8)*(Tabeller!K$35)) -> 0 | BF8: =((M8*Budsjett!$AZ8)*(Tabeller!L$35)) -> 0 | BG8: =((N8*Budsjett!$AZ8)*(Tabeller!M$35)) -> 0 | BH8: =((O8*Budsjett!$AZ8)*(Tabeller!N$35)) -> 0 | BI8: =((P8*Budsjett!$AZ8)*(Tabeller!O$35)) -> 0 | BJ8: =((Q8*Budsjett!$AZ8)*(Tabeller!P$35)) -> 0 | ... BO8: =((V8*Budsjett!$AZ8)*(Tabeller!U$35)) -> 0 | BQ8: =IFERROR(IF($B8="Teknisk/adm. bistand/Feltassistent",CE8*Tabeller!J$11,Budsjett!CE8*Tabeller!J$10),0) -> 0 | BR8: =IFERROR(IF($B8="Teknisk/adm. bistand/Feltassistent",CF8*Tabeller!K$11,Budsjett!CF8*Tabeller!K$10),0) -> 0 | BS8: =IFERROR(IF($B8="Teknisk/adm. bistand/Feltassistent",CG8*Tabeller!L$11,Budsjett!CG8*Tabeller!L$10),0) -> 0 | BT8: =IFERROR(IF($B8="Teknisk/adm. bistand/Feltassistent",CH8*Tabeller!M$11,Budsjett!CH8*Tabeller!M$10),0) -> 0 | BU8: =IFERROR(IF($B8="Teknisk/adm. bistand/Feltassistent",CI8*Tabeller!N$11,Budsjett!CI8*Tabeller!N$10),0) -> 0 | BV8: =IFERROR(IF($B8="Teknisk/adm. bistand/Feltassistent",CJ8*Tabeller!O$11,Budsjett!CJ8*Tabeller!O$10),0) -> 0 | BW8: =IFERROR(IF($B8="Teknisk/adm. bistand/Feltassistent",CK8*Tabeller!P$11,Budsjett!CK8*Tabeller!P$10),0) -> 0 | BX8: =IFERROR(IF($B8="Teknisk/adm. bistand/Feltassistent",CL8*Tabeller!Q$11,Budsjett!CL8*Tabeller!Q$10),0) -> 0 | ... CC8: =IFERROR(IF($B8="Teknisk/adm. bistand/Feltassistent",CQ8*Tabeller!V$11,Budsjett!CQ8*Tabeller!V$10),0) -> 0 | CE8: =J8/Tabeller!$H$5 -> 0 | CF8: =K8/Tabeller!$H$5 -> 0 | CG8: =L8/Tabeller!$H$5 -> 0 | CH8: =M8/Tabeller!$H$5 -> 0 | CI8: =N8/Tabeller!$H$5 -> 0 | CJ8: =O8/Tabeller!$H$5 -> 0 | CK8: =P8/Tabeller!$H$5 -> 0 | CL8: =Q8/Tabeller!$H$5 -> 0 | ... CQ8: =V8/Tabeller!$H$5 -> 0 | CS8: =IFERROR(IF($E$61=$L$61,BC8*#REF!,BC8*Budsjett!#REF!),0) -> 0 | CT8: =IFERROR(IF($E$61=$L$61,BD8*#REF!,BD8*Budsjett!#REF!),0) -> 0 | CU8: =IFERROR(IF($E$61=$L$61,BE8*#REF!,BE8*Budsjett!#REF!),0) -> 0 | CV8: =IFERROR(IF($E$61=$L$61,BF8*#REF!,BF8*Budsjett!#REF!),0) -> 0 | CW8: =IFERROR(IF($E$61=$L$61,BG8*#REF!,BG8*Budsjett!#REF!),0) -> 0 | CX8: =IFERROR(IF($E$61=$L$61,BH8*#REF!,BH8*Budsjett!#REF!),0) -> 0 | CY8: =IFERROR(IF($E$61=$L$61,BI8*#REF!,BI8*Budsjett!#REF!),0) -> 0 | CZ8: =IFERROR(IF($E$61=$L$61,BJ8*#REF!,BJ8*Budsjett!#REF!),0) -> 0 | ... DE8: =IFERROR(IF($E$61=$L$61,BO8*#REF!,BO8*Budsjett!#REF!),0) -> 0 | DH8: =BQ8-CS8 -> 0 | DI8: =BR8-CT8 -> 0 | DJ8: =BS8-CU8 -> 0 | DK8: =BT8-CV8 -> 0 | DL8: =BU8-CW8 -> 0 | DM8: =BV8-CX8 -> 0 | DN8: =BW8-CY8 -> 0 | DO8: =BX8-CZ8 -> 0 | ... DT8: =CC8-DE8 -> 0 | DV8: =B8 -> 0 | DW8: =-((IF($DV8="Teknisk/adm. bistand/Feltassistent",IF(Budsjett!BC8*(1+Tabeller!$I$61)>Tabeller!I$55,Tabeller!I$55,Budsjett!BC8*(1+Tabeller!$I$61)),0)+(IF($DV8="Forsker - professor",Tabeller!I$55*J8,0)+IF($DV8="Prosjektleder/adm.leder",Tabeller!I$54*J8,0)+IF($DV8="Forsker - 1.aman.",Tabeller!I$56*J8,0)+IF($DV8="Gjesteforsker",Tabeller!I$57*J8,0)+IF($DV8="Postdoktor / forsker",Tabeller!I$58*J8,0)+IF($DV8="Stipendiat",Tabeller!I$59*J8,0)+IF($DV8="Forsker (rundsum)",Tabeller!#REF!*J8,0)+IF($DV8="Vit.ass",Tabeller!I$60*J8,0))/1)) -> 0 | DX8: =-((IF($DV8="Teknisk/adm. bistand/Feltassistent",IF(Budsjett!BD8*(1+Tabeller!$I$61)>Tabeller!J$55,Tabeller!J$55,Budsjett!BD8*(1+Tabeller!$I$61)),0)+(IF($DV8="Forsker - professor",Tabeller!J$55*K8,0)+IF($DV8="Prosjektleder/adm.leder",Tabeller!J$54*K8,0)+IF($DV8="Forsker - 1.aman.",Tabeller!J$56*K8,0)+IF($DV8="Gjesteforsker",Tabeller!J$57*K8,0)+IF($DV8="Postdoktor / forsker",Tabeller!J$58*K8,0)+IF($DV8="Stipendiat",Tabeller!J$59*K8,0)+IF($DV8="Forsker (rundsum)",Tabeller!#REF!*K8,0)+IF($DV8="Vit.ass",Tabeller!J$60*K8,0))/1)) -> 0 | DY8: =-((IF($DV8="Teknisk/adm. bistand/Feltassistent",IF(Budsjett!BE8*(1+Tabeller!$I$61)>Tabeller!K$55,Tabeller!K$55,Budsjett!BE8*(1+Tabeller!$I$61)),0)+(IF($DV8="Forsker - professor",Tabeller!K$55*L8,0)+IF($DV8="Prosjektleder/adm.leder",Tabeller!K$54*L8,0)+IF($DV8="Forsker - 1.aman.",Tabeller!K$56*L8,0)+IF($DV8="Gjesteforsker",Tabeller!K$57*L8,0)+IF($DV8="Postdoktor / forsker",Tabeller!K$58*L8,0)+IF($DV8="Stipendiat",Tabeller!K$59*L8,0)+IF($DV8="Forsker (rundsum)",Tabeller!#REF!*L8,0)+IF($DV8="Vit.ass",Tabeller!K$60*L8,0))/1)) -> 0 | DZ8: =-((IF($DV8="Teknisk/adm. bistand/Feltassistent",IF(Budsjett!BF8*(1+Tabeller!$I$61)>Tabeller!L$55,Tabeller!L$55,Budsjett!BF8*(1+Tabeller!$I$61)),0)+(IF($DV8="Forsker - professor",Tabeller!L$55*M8,0)+IF($DV8="Prosjektleder/adm.leder",Tabeller!L$54*M8,0)+IF($DV8="Forsker - 1.aman.",Tabeller!L$56*M8,0)+IF($DV8="Gjesteforsker",Tabeller!L$57*M8,0)+IF($DV8="Postdoktor / forsker",Tabeller!L$58*M8,0)+IF($DV8="Stipendiat",Tabeller!L$59*M8,0)+IF($DV8="Forsker (rundsum)",Tabeller!#REF!*M8,0)+IF($DV8="Vit.ass",Tabeller!L$60*M8,0))/1)) -> 0 | EA8: =-((IF($DV8="Teknisk/adm. bistand/Feltassistent",IF(Budsjett!BG8*(1+Tabeller!$I$61)>Tabeller!M$55,Tabeller!M$55,Budsjett!BG8*(1+Tabeller!$I$61)),0)+(IF($DV8="Forsker - professor",Tabeller!M$55*N8,0)+IF($DV8="Prosjektleder/adm.leder",Tabeller!M$54*N8,0)+IF($DV8="Forsker - 1.aman.",Tabeller!M$56*N8,0)+IF($DV8="Gjesteforsker",Tabeller!M$57*N8,0)+IF($DV8="Postdoktor / forsker",Tabeller!M$58*N8,0)+IF($DV8="Stipendiat",Tabeller!M$59*N8,0)+IF($DV8="Forsker (rundsum)",Tabeller!#REF!*N8,0)+IF($DV8="Vit.ass",Tabeller!M$60*N8,0))/1)) -> 0 | EB8: =-((IF($DV8="Teknisk/adm. bistand/Feltassistent",IF(Budsjett!BH8*(1+Tabeller!$I$61)>Tabeller!N$55,Tabeller!N$55,Budsjett!BH8*(1+Tabeller!$I$61)),0)+(IF($DV8="Forsker - professor",Tabeller!N$55*O8,0)+IF($DV8="Prosjektleder/adm.leder",Tabeller!N$54*O8,0)+IF($DV8="Forsker - 1.aman.",Tabeller!N$56*O8,0)+IF($DV8="Gjesteforsker",Tabeller!N$57*O8,0)+IF($DV8="Postdoktor / forsker",Tabeller!N$58*O8,0)+IF($DV8="Stipendiat",Tabeller!N$59*O8,0)+IF($DV8="Forsker (rundsum)",Tabeller!#REF!*O8,0)+IF($DV8="Vit.ass",Tabeller!N$60*O8,0))/1)) -> 0 | EC8: =-((IF($DV8="Teknisk/adm. bistand/Feltassistent",IF(Budsjett!BI8*(1+Tabeller!$I$61)>Tabeller!O$55,Tabeller!O$55,Budsjett!BI8*(1+Tabeller!$I$61)),0)+(IF($DV8="Forsker - professor",Tabeller!O$55*P8,0)+IF($DV8="Prosjektleder/adm.leder",Tabeller!O$54*P8,0)+IF($DV8="Forsker - 1.aman.",Tabeller!O$56*P8,0)+IF($DV8="Gjesteforsker",Tabeller!O$57*P8,0)+IF($DV8="Postdoktor / forsker",Tabeller!O$58*P8,0)+IF($DV8="Stipendiat",Tabeller!O$59*P8,0)+IF($DV8="Forsker (rundsum)",Tabeller!#REF!*P8,0)+IF($DV8="Vit.ass",Tabeller!O$60*P8,0))/1)) -> 0 | ED8: =-((IF($DV8="Teknisk/adm. bistand/Feltassistent",IF(Budsjett!BJ8*(1+Tabeller!$I$61)>Tabeller!P$55,Tabeller!P$55,Budsjett!BJ8*(1+Tabeller!$I$61)),0)+(IF($DV8="Forsker - professor",Tabeller!P$55*Q8,0)+IF($DV8="Prosjektleder/adm.leder",Tabeller!P$54*Q8,0)+IF($DV8="Forsker - 1.aman.",Tabeller!P$56*Q8,0)+IF($DV8="Gjesteforsker",Tabeller!P$57*Q8,0)+IF($DV8="Postdoktor / forsker",Tabeller!P$58*Q8,0)+IF($DV8="Stipendiat",Tabeller!P$59*Q8,0)+IF($DV8="Forsker (rundsum)",Tabeller!#REF!*Q8,0)+IF($DV8="Vit.ass",Tabeller!P$60*Q8,0))/1)) -> 0 | ... EI8: =-((IF($DV8="Teknisk/adm. bistand/Feltassistent",IF(Budsjett!BO8*(1+Tabeller!$I$61)>Tabeller!U$55,Tabeller!U$55,Budsjett!BO8*(1+Tabeller!$I$61)),0)+(IF($DV8="Forsker - professor",Tabeller!U$55*V8,0)+IF($DV8="Prosjektleder/adm.leder",Tabeller!U$54*V8,0)+IF($DV8="Forsker - 1.aman.",Tabeller!U$56*V8,0)+IF($DV8="Gjesteforsker",Tabeller!U$57*V8,0)+IF($DV8="Postdoktor / forsker",Tabeller!U$58*V8,0)+IF($DV8="Stipendiat",Tabeller!U$59*V8,0)+IF($DV8="Forsker (rundsum)",Tabeller!#REF!*V8,0)+IF($DV8="Vit.ass",Tabeller!U$60*V8,0))/1)) -> 0 | EJ8: =SUM(DW8:EI8) -> 0 | EM8: =DV8 -> 0 | EN8: =IF($G8="NFR",DW8,0) -> 0 | EO8: =IF($G8="NFR",DX8,0) -> 0 | EP8: =IF($G8="NFR",DY8,0) -> 0 | EQ8: =IF($G8="NFR",DZ8,0) -> 0 | ER8: =IF($G8="NFR",EA8,0) -> 0 | ES8: =IF($G8="NFR",EB8,0) -> 0 | ET8: =IF($G8="NFR",EC8,0) -> 0 | EU8: =IF($G8="NFR",ED8,0) -> 0 | ... EZ8: =IF($G8="NFR",EI8,0) -> 0 | FA8: =SUM(EN8:EZ8) -> 0 | FC8: =EM8 -> 0 | FD8: =IF($G8=$FC$1,DW8,0) -> 0 | FE8: =IF($G8=$FC$1,DX8,0) -> 0 | FF8: =IF($G8=$FC$1,DY8,0) -> 0 | FG8: =IF($G8=$FC$1,DZ8,0) -> 0 | FH8: =IF($G8=$FC$1,EA8,0) -> 0 | FI8: =IF($G8=$FC$1,EB8,0) -> 0 | FJ8: =IF($G8=$FC$1,EC8,0) -> 0 | FK8: =IF($G8=$FC$1,ED8,0) -> 0 | ... FP8: =IF($G8=$FC$1,EI8,0) -> 0 | FQ8: =SUM(FD8:FP8) -> 0 | FS8: =FC8 -> 0 | FT8: =IF($G8=$FS$1,DW8,0) -> 0 | FU8: =IF($G8=$FS$1,DX8,0) -> 0 | FV8: =IF($G8=$FS$1,DY8,0) -> 0 | FW8: =IF($G8=$FS$1,DZ8,0) -> 0 | FX8: =IF($G8=$FS$1,EA8,0) -> 0 | FY8: =IF($G8=$FS$1,EB8,0) -> 0 | FZ8: =IF($G8=$FS$1,EC8,0) -> 0 | GA8: =IF($G8=$FS$1,ED8,0) -> 0 | ... GF8: =IF($G8=$FS$1,EI8,0) -> 0 | GG8: =SUM(FT8:GF8) -> 0 | GI8: =FS8 -> 0 | GJ8: =IF($G8=$GI$1,DW8,0) -> 0 | GK8: =IF($G8=$GI$1,DX8,0) -> 0 | GL8: =IF($G8=$GI$1,DY8,0) -> 0 | GM8: =IF($G8=$GI$1,DZ8,0) -> 0 | GN8: =IF($G8=$GI$1,EA8,0) -> 0 | GO8: =IF($G8=$GI$1,EB8,0) -> 0 | GP8: =IF($G8=$GI$1,EC8,0) -> 0 | GQ8: =IF($G8=$GI$1,ED8,0) -> 0 | ... GV8: =IF($G8=$GI$1,EI8,0) -> 0 | GW8: =SUM(GJ8:GV8) -> 0 | GZ8: =GI8 -> 0 | HN8: =SUM(HA8:HM8) -> 0 | HQ8: =IF(Registrering!$B$21="Prosjekter som foregår i UiOs lokaler",IF($B8="Teknisk/adm. bistand/Feltassistent",J8*Tabeller!J$11,J8*Tabeller!J$10)/Tabeller!$H$5,IF($B8="Teknisk/adm. bistand/Feltassistent",J8*Tabeller!J$13,J8*Tabeller!J$12)/Tabeller!$H$5) -> 0 | HR8: =IF(Registrering!$B$21="Prosjekter som foregår i UiOs lokaler",IF($B8="Teknisk/adm. bistand/Feltassistent",K8*Tabeller!K$11,K8*Tabeller!K$10)/Tabeller!$H$5,IF($B8="Teknisk/adm. bistand/Feltassistent",K8*Tabeller!K$13,K8*Tabeller!K$12)/Tabeller!$H$5) -> 0
